BEGIN:VCALENDAR
VERSION:2.0
PRODID:-//Troop 209 - ECPv6.15.16.1//NONSGML v1.0//EN
CALSCALE:GREGORIAN
METHOD:PUBLISH
X-ORIGINAL-URL:https://madeiratroop209.com
X-WR-CALDESC:Events for Troop 209
REFRESH-INTERVAL;VALUE=DURATION:PT1H
X-Robots-Tag:noindex
X-PUBLISHED-TTL:PT1H
BEGIN:VTIMEZONE
TZID:America/New_York
BEGIN:DAYLIGHT
TZOFFSETFROM:-0500
TZOFFSETTO:-0400
TZNAME:EDT
DTSTART:20190310T070000
END:DAYLIGHT
BEGIN:STANDARD
TZOFFSETFROM:-0400
TZOFFSETTO:-0500
TZNAME:EST
DTSTART:20191103T060000
END:STANDARD
BEGIN:DAYLIGHT
TZOFFSETFROM:-0500
TZOFFSETTO:-0400
TZNAME:EDT
DTSTART:20200308T070000
END:DAYLIGHT
BEGIN:STANDARD
TZOFFSETFROM:-0400
TZOFFSETTO:-0500
TZNAME:EST
DTSTART:20201101T060000
END:STANDARD
BEGIN:DAYLIGHT
TZOFFSETFROM:-0500
TZOFFSETTO:-0400
TZNAME:EDT
DTSTART:20210314T070000
END:DAYLIGHT
BEGIN:STANDARD
TZOFFSETFROM:-0400
TZOFFSETTO:-0500
TZNAME:EST
DTSTART:20211107T060000
END:STANDARD
BEGIN:DAYLIGHT
TZOFFSETFROM:-0500
TZOFFSETTO:-0400
TZNAME:EDT
DTSTART:20220313T070000
END:DAYLIGHT
BEGIN:STANDARD
TZOFFSETFROM:-0400
TZOFFSETTO:-0500
TZNAME:EST
DTSTART:20221106T060000
END:STANDARD
BEGIN:DAYLIGHT
TZOFFSETFROM:-0500
TZOFFSETTO:-0400
TZNAME:EDT
DTSTART:20230312T070000
END:DAYLIGHT
BEGIN:STANDARD
TZOFFSETFROM:-0400
TZOFFSETTO:-0500
TZNAME:EST
DTSTART:20231105T060000
END:STANDARD
BEGIN:DAYLIGHT
TZOFFSETFROM:-0500
TZOFFSETTO:-0400
TZNAME:EDT
DTSTART:20240310T070000
END:DAYLIGHT
BEGIN:STANDARD
TZOFFSETFROM:-0400
TZOFFSETTO:-0500
TZNAME:EST
DTSTART:20241103T060000
END:STANDARD
BEGIN:DAYLIGHT
TZOFFSETFROM:-0500
TZOFFSETTO:-0400
TZNAME:EDT
DTSTART:20250309T070000
END:DAYLIGHT
BEGIN:STANDARD
TZOFFSETFROM:-0400
TZOFFSETTO:-0500
TZNAME:EST
DTSTART:20251102T060000
END:STANDARD
END:VTIMEZONE
BEGIN:VEVENT
DTSTART;TZID=America/New_York:20240203T074500
DTEND;TZID=America/New_York:20240203T120000
DTSTAMP:20260424T161539
CREATED:20240128T184546Z
LAST-MODIFIED:20240128T184546Z
UID:3198-1706946300-1706961600@madeiratroop209.com
SUMMARY:Week #2 MBC
DESCRIPTION:
URL:https://madeiratroop209.com/event/week-2-mbc/
LOCATION:Madeira-Silverwood Presbyterian Church\, 8000 Miami Avenue\, Madeira\, OH\, 45243\, United States
CATEGORIES:Camping Trips
END:VEVENT
BEGIN:VEVENT
DTSTART;TZID=America/New_York:20231215T163000
DTEND;TZID=America/New_York:20231216T190000
DTSTAMP:20260424T161539
CREATED:20231102T010437Z
LAST-MODIFIED:20231102T010437Z
UID:3171-1702657800-1702753200@madeiratroop209.com
SUMMARY:Camp out: Lock-in
DESCRIPTION:
URL:https://madeiratroop209.com/event/camp-out-lock-in-3/
LOCATION:Madeira-Silverwood Presbyterian Church\, 8000 Miami Avenue\, Madeira\, OH\, 45243\, United States
CATEGORIES:Camping Trips
END:VEVENT
BEGIN:VEVENT
DTSTART;TZID=America/New_York:20231110T163000
DTEND;TZID=America/New_York:20231112T163000
DTSTAMP:20260424T161539
CREATED:20230912T141713Z
LAST-MODIFIED:20260226T200808Z
UID:2918-1699633800-1699806600@madeiratroop209.com
SUMMARY:Camp out - Wilderness Survival
DESCRIPTION:
URL:https://madeiratroop209.com/event/campout-backpacking-at-twin-valley-metropark/
LOCATION:Madeira-Silverwood Presbyterian Church\, 8000 Miami Avenue\, Madeira\, OH\, 45243\, United States
CATEGORIES:Camping Trips
END:VEVENT
BEGIN:VEVENT
DTSTART;TZID=America/New_York:20231013T163000
DTEND;TZID=America/New_York:20231015T100000
DTSTAMP:20260424T161539
CREATED:20230808T162350Z
LAST-MODIFIED:20260226T200814Z
UID:2836-1697214600-1697364000@madeiratroop209.com
SUMMARY:Camp out - Horseback Riding (with AOL's)
DESCRIPTION:
URL:https://madeiratroop209.com/event/campout-tbd-with-aols/
LOCATION:Madeira-Silverwood Presbyterian Church\, 8000 Miami Avenue\, Madeira\, OH\, 45243\, United States
CATEGORIES:Camping Trips
END:VEVENT
BEGIN:VEVENT
DTSTART;TZID=America/New_York:20230915T163000
DTEND;TZID=America/New_York:20230917T100000
DTSTAMP:20260424T161539
CREATED:20221025T221424Z
LAST-MODIFIED:20260226T200820Z
UID:2643-1694795400-1694944800@madeiratroop209.com
SUMMARY:Camp out: Backpacking
DESCRIPTION:
URL:https://madeiratroop209.com/event/camp-out-backpacking/
LOCATION:Madeira-Silverwood Presbyterian Church\, 8000 Miami Avenue\, Madeira\, OH\, 45243\, United States
CATEGORIES:Camping Trips
END:VEVENT
BEGIN:VEVENT
DTSTART;TZID=America/New_York:20230818T163000
DTEND;TZID=America/New_York:20230820T100000
DTSTAMP:20260424T161539
CREATED:20221025T221423Z
LAST-MODIFIED:20221025T221423Z
UID:2642-1692376200-1692525600@madeiratroop209.com
SUMMARY:Camp out: Red River Gorge
DESCRIPTION:
URL:https://madeiratroop209.com/event/camp-out-red-river-gorge/
LOCATION:Madeira-Silverwood Presbyterian Church\, 8000 Miami Avenue\, Madeira\, OH\, 45243\, United States
CATEGORIES:Camping Trips
END:VEVENT
BEGIN:VEVENT
DTSTART;TZID=America/New_York:20230709T120000
DTEND;TZID=America/New_York:20230715T110000
DTSTAMP:20260424T161539
CREATED:20221025T221423Z
LAST-MODIFIED:20221025T221423Z
UID:2641-1688904000-1689418800@madeiratroop209.com
SUMMARY:Summer Camp
DESCRIPTION:
URL:https://madeiratroop209.com/event/summer-camp-8/
LOCATION:Madeira-Silverwood Presbyterian Church\, 8000 Miami Avenue\, Madeira\, OH\, 45243\, United States
CATEGORIES:Camping Trips
END:VEVENT
BEGIN:VEVENT
DTSTART;TZID=America/New_York:20230609T163000
DTEND;TZID=America/New_York:20230611T100000
DTSTAMP:20260424T161539
CREATED:20221025T221422Z
LAST-MODIFIED:20230526T122312Z
UID:2640-1686328200-1686477600@madeiratroop209.com
SUMMARY:Camp out: Great Lakes Trip
DESCRIPTION:
URL:https://madeiratroop209.com/event/camp-out-great-lakes-trip/
LOCATION:Madeira-Silverwood Presbyterian Church\, 8000 Miami Avenue\, Madeira\, OH\, 45243\, United States
CATEGORIES:Camping Trips
END:VEVENT
BEGIN:VEVENT
DTSTART;TZID=America/New_York:20230505T163000
DTEND;TZID=America/New_York:20230507T090000
DTSTAMP:20260424T161539
CREATED:20221025T221421Z
LAST-MODIFIED:20230503T124333Z
UID:2639-1683304200-1683450000@madeiratroop209.com
SUMMARY:Camp out: Horseback Riding
DESCRIPTION:
URL:https://madeiratroop209.com/event/camp-out-caving-2/
LOCATION:Madeira-Silverwood Presbyterian Church\, 8000 Miami Avenue\, Madeira\, OH\, 45243\, United States
CATEGORIES:Camping Trips
END:VEVENT
BEGIN:VEVENT
DTSTART;TZID=America/New_York:20230414T163000
DTEND;TZID=America/New_York:20230416T100000
DTSTAMP:20260424T161539
CREATED:20221025T221420Z
LAST-MODIFIED:20221025T221420Z
UID:2638-1681489800-1681639200@madeiratroop209.com
SUMMARY:Camp out: Ziplining
DESCRIPTION:
URL:https://madeiratroop209.com/event/camp-out-ziplining-2/
LOCATION:Madeira-Silverwood Presbyterian Church\, 8000 Miami Avenue\, Madeira\, OH\, 45243\, United States
CATEGORIES:Camping Trips
END:VEVENT
BEGIN:VEVENT
DTSTART;TZID=America/New_York:20230317T163000
DTEND;TZID=America/New_York:20230319T100000
DTSTAMP:20260424T161539
CREATED:20221025T221419Z
LAST-MODIFIED:20221025T221419Z
UID:2637-1679070600-1679220000@madeiratroop209.com
SUMMARY:Camp out: Rentshcler Forest
DESCRIPTION:
URL:https://madeiratroop209.com/event/camp-out-rentshcler-forest/
LOCATION:Madeira-Silverwood Presbyterian Church\, 8000 Miami Avenue\, Madeira\, OH\, 45243\, United States
CATEGORIES:Camping Trips
END:VEVENT
BEGIN:VEVENT
DTSTART;TZID=America/New_York:20230120T163000
DTEND;TZID=America/New_York:20230122T100000
DTSTAMP:20260424T161539
CREATED:20221025T221419Z
LAST-MODIFIED:20221025T221419Z
UID:2636-1674232200-1674381600@madeiratroop209.com
SUMMARY:Camp out: Skiing
DESCRIPTION:
URL:https://madeiratroop209.com/event/camp-out-skiing/
LOCATION:Madeira-Silverwood Presbyterian Church\, 8000 Miami Avenue\, Madeira\, OH\, 45243\, United States
CATEGORIES:Camping Trips
END:VEVENT
BEGIN:VEVENT
DTSTART;TZID=America/New_York:20221209T163000
DTEND;TZID=America/New_York:20221210T190000
DTSTAMP:20260424T161539
CREATED:20221025T221418Z
LAST-MODIFIED:20221025T221418Z
UID:2635-1670603400-1670698800@madeiratroop209.com
SUMMARY:Camp out: Lock-in
DESCRIPTION:
URL:https://madeiratroop209.com/event/camp-out-lock-in-2/
LOCATION:Madeira-Silverwood Presbyterian Church\, 8000 Miami Avenue\, Madeira\, OH\, 45243\, United States
CATEGORIES:Camping Trips
END:VEVENT
BEGIN:VEVENT
DTSTART;TZID=America/New_York:20221118T163000
DTEND;TZID=America/New_York:20221120T190000
DTSTAMP:20260424T161539
CREATED:20221025T221417Z
LAST-MODIFIED:20221025T221417Z
UID:2634-1668789000-1668970800@madeiratroop209.com
SUMMARY:Camp out: Wilderness Survival
DESCRIPTION:
URL:https://madeiratroop209.com/event/camp-out-wilderness-survival-2/
LOCATION:Madeira-Silverwood Presbyterian Church\, 8000 Miami Avenue\, Madeira\, OH\, 45243\, United States
CATEGORIES:Camping Trips
END:VEVENT
BEGIN:VEVENT
DTSTART;TZID=America/New_York:20220930T163000
DTEND;TZID=America/New_York:20221002T100000
DTSTAMP:20260424T161539
CREATED:20211003T204710Z
LAST-MODIFIED:20220926T145205Z
UID:2520-1664555400-1664704800@madeiratroop209.com
SUMMARY:Camp out: Peterloon
DESCRIPTION:
URL:https://madeiratroop209.com/event/camp-out-peterloon/
LOCATION:Madeira-Silverwood Presbyterian Church\, 8000 Miami Avenue\, Madeira\, OH\, 45243\, United States
CATEGORIES:Camping Trips
END:VEVENT
BEGIN:VEVENT
DTSTART;TZID=America/New_York:20220916T163000
DTEND;TZID=America/New_York:20220918T100000
DTSTAMP:20260424T161539
CREATED:20211016T204710Z
LAST-MODIFIED:20220730T231016Z
UID:2519-1663345800-1663495200@madeiratroop209.com
SUMMARY:Camp out: Canoeing
DESCRIPTION:
URL:https://madeiratroop209.com/event/camp-out-sailing/
LOCATION:Madeira-Silverwood Presbyterian Church\, 8000 Miami Avenue\, Madeira\, OH\, 45243\, United States
CATEGORIES:Camping Trips
END:VEVENT
BEGIN:VEVENT
DTSTART;TZID=America/New_York:20220819T163000
DTEND;TZID=America/New_York:20220821T100000
DTSTAMP:20260424T161539
CREATED:20211003T204657Z
LAST-MODIFIED:20220730T230904Z
UID:2518-1660926600-1661076000@madeiratroop209.com
SUMMARY:Camp out: Sailing
DESCRIPTION:
URL:https://madeiratroop209.com/event/camp-out-ropes-course/
LOCATION:Madeira-Silverwood Presbyterian Church\, 8000 Miami Avenue\, Madeira\, OH\, 45243\, United States
CATEGORIES:Camping Trips
END:VEVENT
BEGIN:VEVENT
DTSTART;TZID=America/New_York:20220710T120000
DTEND;TZID=America/New_York:20220716T120000
DTSTAMP:20260424T161539
CREATED:20211003T201659Z
LAST-MODIFIED:20211003T205107Z
UID:2432-1657454400-1657972800@madeiratroop209.com
SUMMARY:Summer Camp
DESCRIPTION:
URL:https://madeiratroop209.com/event/summer-camp-7/
LOCATION:Madeira-Silverwood Presbyterian Church\, 8000 Miami Avenue\, Madeira\, OH\, 45243\, United States
CATEGORIES:Camping Trips
END:VEVENT
BEGIN:VEVENT
DTSTART;TZID=America/New_York:20220617T163000
DTEND;TZID=America/New_York:20220619T100000
DTSTAMP:20260424T161539
CREATED:20211003T204656Z
LAST-MODIFIED:20211003T204656Z
UID:2516-1655483400-1655632800@madeiratroop209.com
SUMMARY:Camp out: Rafting
DESCRIPTION:
URL:https://madeiratroop209.com/event/camp-out-rafting/
LOCATION:Madeira-Silverwood Presbyterian Church\, 8000 Miami Avenue\, Madeira\, OH\, 45243\, United States
CATEGORIES:Camping Trips
END:VEVENT
BEGIN:VEVENT
DTSTART;TZID=America/New_York:20220521T090000
DTEND;TZID=America/New_York:20220521T170000
DTSTAMP:20260424T161539
CREATED:20211003T204656Z
LAST-MODIFIED:20211003T204656Z
UID:2515-1653123600-1653152400@madeiratroop209.com
SUMMARY:Camp out: Air Force Musuem
DESCRIPTION:
URL:https://madeiratroop209.com/event/camp-out-air-force-musuem/
LOCATION:Madeira-Silverwood Presbyterian Church\, 8000 Miami Avenue\, Madeira\, OH\, 45243\, United States
CATEGORIES:Camping Trips
END:VEVENT
BEGIN:VEVENT
DTSTART;TZID=America/New_York:20220422T163000
DTEND;TZID=America/New_York:20220424T100000
DTSTAMP:20260424T161539
CREATED:20211003T204656Z
LAST-MODIFIED:20211003T204656Z
UID:2514-1650645000-1650794400@madeiratroop209.com
SUMMARY:Camp out: Activity TBD
DESCRIPTION:
URL:https://madeiratroop209.com/event/camp-out-activity-tbd/
LOCATION:Madeira-Silverwood Presbyterian Church\, 8000 Miami Avenue\, Madeira\, OH\, 45243\, United States
CATEGORIES:Camping Trips
END:VEVENT
BEGIN:VEVENT
DTSTART;TZID=America/New_York:20220318T163000
DTEND;TZID=America/New_York:20220320T100000
DTSTAMP:20260424T161539
CREATED:20211003T204649Z
LAST-MODIFIED:20211003T204649Z
UID:2513-1647621000-1647770400@madeiratroop209.com
SUMMARY:Camp out: Geocaching
DESCRIPTION:
URL:https://madeiratroop209.com/event/camp-out-geocaching/
LOCATION:Madeira-Silverwood Presbyterian Church\, 8000 Miami Avenue\, Madeira\, OH\, 45243\, United States
CATEGORIES:Camping Trips
END:VEVENT
BEGIN:VEVENT
DTSTART;TZID=America/New_York:20220121T163000
DTEND;TZID=America/New_York:20220123T100000
DTSTAMP:20260424T161539
CREATED:20211003T204649Z
LAST-MODIFIED:20220121T025044Z
UID:2512-1642782600-1642932000@madeiratroop209.com
SUMMARY:Camp out: Caving - POSTPONED!
DESCRIPTION:Due to concerns over a positive case within the troop and other factors\, the Marengo Cave campout has been postponed. Please refer to Mr.Cissell’s email for more details.
URL:https://madeiratroop209.com/event/camp-out-caving/
LOCATION:Madeira-Silverwood Presbyterian Church\, 8000 Miami Avenue\, Madeira\, OH\, 45243\, United States
CATEGORIES:Camping Trips
END:VEVENT
BEGIN:VEVENT
DTSTART;TZID=America/New_York:20211119T163000
DTEND;TZID=America/New_York:20211121T190000
DTSTAMP:20260424T161539
CREATED:20211003T204649Z
LAST-MODIFIED:20211003T204649Z
UID:2510-1637339400-1637521200@madeiratroop209.com
SUMMARY:Camp out: Wilderness Survival
DESCRIPTION:
URL:https://madeiratroop209.com/event/camp-out-wilderness-survival/
LOCATION:Madeira-Silverwood Presbyterian Church\, 8000 Miami Avenue\, Madeira\, OH\, 45243\, United States
CATEGORIES:Camping Trips
END:VEVENT
BEGIN:VEVENT
DTSTART;TZID=America/New_York:20211015T163000
DTEND;TZID=America/New_York:20211017T100000
DTSTAMP:20260424T161539
CREATED:20211003T204648Z
LAST-MODIFIED:20211003T204648Z
UID:2509-1634315400-1634464800@madeiratroop209.com
SUMMARY:Camp out: Ziplining
DESCRIPTION:
URL:https://madeiratroop209.com/event/camp-out-ziplining/
LOCATION:Madeira-Silverwood Presbyterian Church\, 8000 Miami Avenue\, Madeira\, OH\, 45243\, United States
CATEGORIES:Camping Trips
END:VEVENT
BEGIN:VEVENT
DTSTART;TZID=America/New_York:20210924T163000
DTEND;TZID=America/New_York:20210926T100000
DTSTAMP:20260424T161539
CREATED:20210911T155738Z
LAST-MODIFIED:20260226T200825Z
UID:2417-1632501000-1632650400@madeiratroop209.com
SUMMARY:Camp out: Horseback Riding
DESCRIPTION:
URL:https://madeiratroop209.com/event/campout-horseback-riding/
LOCATION:Madeira-Silverwood Presbyterian Church\, 8000 Miami Avenue\, Madeira\, OH\, 45243\, United States
CATEGORIES:Camping Trips
END:VEVENT
BEGIN:VEVENT
DTSTART;VALUE=DATE:20210711
DTEND;VALUE=DATE:20210718
DTSTAMP:20260424T161539
CREATED:20201214T143202Z
LAST-MODIFIED:20201214T143202Z
UID:2363-1625961600-1626566399@madeiratroop209.com
SUMMARY:Summer Camp
DESCRIPTION:
URL:https://madeiratroop209.com/event/summer-camp-6/
LOCATION:Madeira-Silverwood Presbyterian Church\, 8000 Miami Avenue\, Madeira\, OH\, 45243\, United States
CATEGORIES:Camping Trips
END:VEVENT
BEGIN:VEVENT
DTSTART;VALUE=DATE:20200705
DTEND;VALUE=DATE:20200712
DTSTAMP:20260424T161539
CREATED:20191024T002400Z
LAST-MODIFIED:20191024T002401Z
UID:2085-1593907200-1594511999@madeiratroop209.com
SUMMARY:Camp out: SUMMER CAMP!
DESCRIPTION:
URL:https://madeiratroop209.com/event/camp-out-summer-camp/
LOCATION:Madeira-Silverwood Presbyterian Church\, 8000 Miami Avenue\, Madeira\, OH\, 45243\, United States
CATEGORIES:Camping Trips
END:VEVENT
BEGIN:VEVENT
DTSTART;VALUE=DATE:20200501
DTEND;VALUE=DATE:20200504
DTSTAMP:20260424T161539
CREATED:20191024T001908Z
LAST-MODIFIED:20200422T141422Z
UID:2081-1588291200-1588550399@madeiratroop209.com
SUMMARY:Postponed - Camp out: via ferrata @ Red River Gorge
DESCRIPTION:New date is TBD
URL:https://madeiratroop209.com/event/camp-out-via-ferrata-red-river-gorge/
LOCATION:Madeira-Silverwood Presbyterian Church\, 8000 Miami Avenue\, Madeira\, OH\, 45243\, United States
CATEGORIES:Camping Trips
END:VEVENT
BEGIN:VEVENT
DTSTART;VALUE=DATE:20200313
DTEND;VALUE=DATE:20200316
DTSTAMP:20260424T161539
CREATED:20191024T001744Z
LAST-MODIFIED:20200313T123329Z
UID:2079-1584057600-1584316799@madeiratroop209.com
SUMMARY:Camp out: Treehouses @ Friedlander - CANCELED
DESCRIPTION:
URL:https://madeiratroop209.com/event/camp-out-treehouses-friedlander/
LOCATION:Madeira-Silverwood Presbyterian Church\, 8000 Miami Avenue\, Madeira\, OH\, 45243\, United States
CATEGORIES:Camping Trips
END:VEVENT
END:VCALENDAR