BEGIN:VCALENDAR
VERSION:2.0
PRODID:-//Troop 209 - ECPv6.15.16.1//NONSGML v1.0//EN
CALSCALE:GREGORIAN
METHOD:PUBLISH
X-WR-CALNAME:Troop 209
X-ORIGINAL-URL:https://madeiratroop209.com
X-WR-CALDESC:Events for Troop 209
REFRESH-INTERVAL;VALUE=DURATION:PT1H
X-Robots-Tag:noindex
X-PUBLISHED-TTL:PT1H
BEGIN:VTIMEZONE
TZID:America/New_York
BEGIN:DAYLIGHT
TZOFFSETFROM:-0500
TZOFFSETTO:-0400
TZNAME:EDT
DTSTART:20170312T070000
END:DAYLIGHT
BEGIN:STANDARD
TZOFFSETFROM:-0400
TZOFFSETTO:-0500
TZNAME:EST
DTSTART:20171105T060000
END:STANDARD
BEGIN:DAYLIGHT
TZOFFSETFROM:-0500
TZOFFSETTO:-0400
TZNAME:EDT
DTSTART:20180311T070000
END:DAYLIGHT
BEGIN:STANDARD
TZOFFSETFROM:-0400
TZOFFSETTO:-0500
TZNAME:EST
DTSTART:20181104T060000
END:STANDARD
BEGIN:DAYLIGHT
TZOFFSETFROM:-0500
TZOFFSETTO:-0400
TZNAME:EDT
DTSTART:20190310T070000
END:DAYLIGHT
BEGIN:STANDARD
TZOFFSETFROM:-0400
TZOFFSETTO:-0500
TZNAME:EST
DTSTART:20191103T060000
END:STANDARD
BEGIN:DAYLIGHT
TZOFFSETFROM:-0500
TZOFFSETTO:-0400
TZNAME:EDT
DTSTART:20200308T070000
END:DAYLIGHT
BEGIN:STANDARD
TZOFFSETFROM:-0400
TZOFFSETTO:-0500
TZNAME:EST
DTSTART:20201101T060000
END:STANDARD
BEGIN:DAYLIGHT
TZOFFSETFROM:-0500
TZOFFSETTO:-0400
TZNAME:EDT
DTSTART:20210314T070000
END:DAYLIGHT
BEGIN:STANDARD
TZOFFSETFROM:-0400
TZOFFSETTO:-0500
TZNAME:EST
DTSTART:20211107T060000
END:STANDARD
BEGIN:DAYLIGHT
TZOFFSETFROM:-0500
TZOFFSETTO:-0400
TZNAME:EDT
DTSTART:20220313T070000
END:DAYLIGHT
BEGIN:STANDARD
TZOFFSETFROM:-0400
TZOFFSETTO:-0500
TZNAME:EST
DTSTART:20221106T060000
END:STANDARD
BEGIN:DAYLIGHT
TZOFFSETFROM:-0500
TZOFFSETTO:-0400
TZNAME:EDT
DTSTART:20230312T070000
END:DAYLIGHT
BEGIN:STANDARD
TZOFFSETFROM:-0400
TZOFFSETTO:-0500
TZNAME:EST
DTSTART:20231105T060000
END:STANDARD
END:VTIMEZONE
BEGIN:VEVENT
DTSTART;TZID=America/New_York:20220422T163000
DTEND;TZID=America/New_York:20220424T100000
DTSTAMP:20260424T192232
CREATED:20211003T204656Z
LAST-MODIFIED:20211003T204656Z
UID:2514-1650645000-1650794400@madeiratroop209.com
SUMMARY:Camp out: Activity TBD
DESCRIPTION:
URL:https://madeiratroop209.com/event/camp-out-activity-tbd/
LOCATION:Madeira-Silverwood Presbyterian Church\, 8000 Miami Avenue\, Madeira\, OH\, 45243\, United States
CATEGORIES:Camping Trips
END:VEVENT
BEGIN:VEVENT
DTSTART;TZID=America/New_York:20220318T163000
DTEND;TZID=America/New_York:20220320T100000
DTSTAMP:20260424T192232
CREATED:20211003T204649Z
LAST-MODIFIED:20211003T204649Z
UID:2513-1647621000-1647770400@madeiratroop209.com
SUMMARY:Camp out: Geocaching
DESCRIPTION:
URL:https://madeiratroop209.com/event/camp-out-geocaching/
LOCATION:Madeira-Silverwood Presbyterian Church\, 8000 Miami Avenue\, Madeira\, OH\, 45243\, United States
CATEGORIES:Camping Trips
END:VEVENT
BEGIN:VEVENT
DTSTART;TZID=America/New_York:20220121T163000
DTEND;TZID=America/New_York:20220123T100000
DTSTAMP:20260424T192232
CREATED:20211003T204649Z
LAST-MODIFIED:20220121T025044Z
UID:2512-1642782600-1642932000@madeiratroop209.com
SUMMARY:Camp out: Caving - POSTPONED!
DESCRIPTION:Due to concerns over a positive case within the troop and other factors\, the Marengo Cave campout has been postponed. Please refer to Mr.Cissell’s email for more details.
URL:https://madeiratroop209.com/event/camp-out-caving/
LOCATION:Madeira-Silverwood Presbyterian Church\, 8000 Miami Avenue\, Madeira\, OH\, 45243\, United States
CATEGORIES:Camping Trips
END:VEVENT
BEGIN:VEVENT
DTSTART;TZID=America/New_York:20211119T163000
DTEND;TZID=America/New_York:20211121T190000
DTSTAMP:20260424T192232
CREATED:20211003T204649Z
LAST-MODIFIED:20211003T204649Z
UID:2510-1637339400-1637521200@madeiratroop209.com
SUMMARY:Camp out: Wilderness Survival
DESCRIPTION:
URL:https://madeiratroop209.com/event/camp-out-wilderness-survival/
LOCATION:Madeira-Silverwood Presbyterian Church\, 8000 Miami Avenue\, Madeira\, OH\, 45243\, United States
CATEGORIES:Camping Trips
END:VEVENT
BEGIN:VEVENT
DTSTART;TZID=America/New_York:20211015T163000
DTEND;TZID=America/New_York:20211017T100000
DTSTAMP:20260424T192232
CREATED:20211003T204648Z
LAST-MODIFIED:20211003T204648Z
UID:2509-1634315400-1634464800@madeiratroop209.com
SUMMARY:Camp out: Ziplining
DESCRIPTION:
URL:https://madeiratroop209.com/event/camp-out-ziplining/
LOCATION:Madeira-Silverwood Presbyterian Church\, 8000 Miami Avenue\, Madeira\, OH\, 45243\, United States
CATEGORIES:Camping Trips
END:VEVENT
BEGIN:VEVENT
DTSTART;TZID=America/New_York:20210924T163000
DTEND;TZID=America/New_York:20210926T100000
DTSTAMP:20260424T192232
CREATED:20210911T155738Z
LAST-MODIFIED:20260226T200825Z
UID:2417-1632501000-1632650400@madeiratroop209.com
SUMMARY:Camp out: Horseback Riding
DESCRIPTION:
URL:https://madeiratroop209.com/event/campout-horseback-riding/
LOCATION:Madeira-Silverwood Presbyterian Church\, 8000 Miami Avenue\, Madeira\, OH\, 45243\, United States
CATEGORIES:Camping Trips
END:VEVENT
BEGIN:VEVENT
DTSTART;VALUE=DATE:20210711
DTEND;VALUE=DATE:20210718
DTSTAMP:20260424T192232
CREATED:20201214T143202Z
LAST-MODIFIED:20201214T143202Z
UID:2363-1625961600-1626566399@madeiratroop209.com
SUMMARY:Summer Camp
DESCRIPTION:
URL:https://madeiratroop209.com/event/summer-camp-6/
LOCATION:Madeira-Silverwood Presbyterian Church\, 8000 Miami Avenue\, Madeira\, OH\, 45243\, United States
CATEGORIES:Camping Trips
END:VEVENT
BEGIN:VEVENT
DTSTART;VALUE=DATE:20200705
DTEND;VALUE=DATE:20200712
DTSTAMP:20260424T192232
CREATED:20191024T002400Z
LAST-MODIFIED:20191024T002401Z
UID:2085-1593907200-1594511999@madeiratroop209.com
SUMMARY:Camp out: SUMMER CAMP!
DESCRIPTION:
URL:https://madeiratroop209.com/event/camp-out-summer-camp/
LOCATION:Madeira-Silverwood Presbyterian Church\, 8000 Miami Avenue\, Madeira\, OH\, 45243\, United States
CATEGORIES:Camping Trips
END:VEVENT
BEGIN:VEVENT
DTSTART;VALUE=DATE:20200501
DTEND;VALUE=DATE:20200504
DTSTAMP:20260424T192232
CREATED:20191024T001908Z
LAST-MODIFIED:20200422T141422Z
UID:2081-1588291200-1588550399@madeiratroop209.com
SUMMARY:Postponed - Camp out: via ferrata @ Red River Gorge
DESCRIPTION:New date is TBD
URL:https://madeiratroop209.com/event/camp-out-via-ferrata-red-river-gorge/
LOCATION:Madeira-Silverwood Presbyterian Church\, 8000 Miami Avenue\, Madeira\, OH\, 45243\, United States
CATEGORIES:Camping Trips
END:VEVENT
BEGIN:VEVENT
DTSTART;VALUE=DATE:20200313
DTEND;VALUE=DATE:20200316
DTSTAMP:20260424T192232
CREATED:20191024T001744Z
LAST-MODIFIED:20200313T123329Z
UID:2079-1584057600-1584316799@madeiratroop209.com
SUMMARY:Camp out: Treehouses @ Friedlander - CANCELED
DESCRIPTION:
URL:https://madeiratroop209.com/event/camp-out-treehouses-friedlander/
LOCATION:Madeira-Silverwood Presbyterian Church\, 8000 Miami Avenue\, Madeira\, OH\, 45243\, United States
CATEGORIES:Camping Trips
END:VEVENT
BEGIN:VEVENT
DTSTART;VALUE=DATE:20200124
DTEND;VALUE=DATE:20200127
DTSTAMP:20260424T192232
CREATED:20191024T000721Z
LAST-MODIFIED:20191024T001144Z
UID:2071-1579824000-1580083199@madeiratroop209.com
SUMMARY:Camp out: Marengo Caves
DESCRIPTION:
URL:https://madeiratroop209.com/event/camp-out-marengo-caves/
LOCATION:Madeira-Silverwood Presbyterian Church\, 8000 Miami Avenue\, Madeira\, OH\, 45243\, United States
CATEGORIES:Camping Trips
END:VEVENT
BEGIN:VEVENT
DTSTART;VALUE=DATE:20191108
DTEND;VALUE=DATE:20191111
DTSTAMP:20260424T192232
CREATED:20191023T235913Z
LAST-MODIFIED:20191024T001251Z
UID:2067-1573171200-1573430399@madeiratroop209.com
SUMMARY:Camp out: Wilderness Survival @ Timber Ridge
DESCRIPTION:
URL:https://madeiratroop209.com/event/camp-out-wilderness-survival-timber-ridge/
LOCATION:Madeira-Silverwood Presbyterian Church\, 8000 Miami Avenue\, Madeira\, OH\, 45243\, United States
CATEGORIES:Camping Trips
END:VEVENT
BEGIN:VEVENT
DTSTART;VALUE=DATE:20190707
DTEND;VALUE=DATE:20190714
DTSTAMP:20260424T192232
CREATED:20180930T205029Z
LAST-MODIFIED:20180930T205029Z
UID:1979-1562457600-1563062399@madeiratroop209.com
SUMMARY:Summer Camp
DESCRIPTION:
URL:https://madeiratroop209.com/event/summer-camp-5/
LOCATION:Madeira-Silverwood Presbyterian Church\, 8000 Miami Avenue\, Madeira\, OH\, 45243\, United States
CATEGORIES:Camping Trips
END:VEVENT
BEGIN:VEVENT
DTSTART;VALUE=DATE:20190621
DTEND;VALUE=DATE:20190624
DTSTAMP:20260424T192232
CREATED:20180930T204853Z
LAST-MODIFIED:20180930T204853Z
UID:1977-1561075200-1561334399@madeiratroop209.com
SUMMARY:Ziplining camp out
DESCRIPTION:
URL:https://madeiratroop209.com/event/ziplining-camp-out/
LOCATION:Madeira-Silverwood Presbyterian Church\, 8000 Miami Avenue\, Madeira\, OH\, 45243\, United States
CATEGORIES:Camping Trips
END:VEVENT
BEGIN:VEVENT
DTSTART;VALUE=DATE:20190517
DTEND;VALUE=DATE:20190519
DTSTAMP:20260424T192232
CREATED:20180930T204746Z
LAST-MODIFIED:20190512T232319Z
UID:1975-1558051200-1558223999@madeiratroop209.com
SUMMARY:Camp Craig Camp out
DESCRIPTION:
URL:https://madeiratroop209.com/event/sailing-camp-out/
LOCATION:Madeira-Silverwood Presbyterian Church\, 8000 Miami Avenue\, Madeira\, OH\, 45243\, United States
CATEGORIES:Camping Trips
END:VEVENT
BEGIN:VEVENT
DTSTART;VALUE=DATE:20190405
DTEND;VALUE=DATE:20190408
DTSTAMP:20260424T192232
CREATED:20180930T204635Z
LAST-MODIFIED:20180930T204635Z
UID:1973-1554422400-1554681599@madeiratroop209.com
SUMMARY:Rock Climbing Camp out in RRG
DESCRIPTION:
URL:https://madeiratroop209.com/event/rock-climbing-camp-out-in-rrg/
LOCATION:Madeira-Silverwood Presbyterian Church\, 8000 Miami Avenue\, Madeira\, OH\, 45243\, United States
CATEGORIES:Camping Trips
END:VEVENT
BEGIN:VEVENT
DTSTART;VALUE=DATE:20190308
DTEND;VALUE=DATE:20190311
DTSTAMP:20260424T192232
CREATED:20180930T204509Z
LAST-MODIFIED:20180930T204509Z
UID:1971-1552003200-1552262399@madeiratroop209.com
SUMMARY:Treehouse camp out
DESCRIPTION:
URL:https://madeiratroop209.com/event/treehouse-camp-out/
LOCATION:Madeira-Silverwood Presbyterian Church\, 8000 Miami Avenue\, Madeira\, OH\, 45243\, United States
CATEGORIES:Camping Trips
END:VEVENT
BEGIN:VEVENT
DTSTART;VALUE=DATE:20190118
DTEND;VALUE=DATE:20190121
DTSTAMP:20260424T192232
CREATED:20180930T204303Z
LAST-MODIFIED:20180930T204303Z
UID:1969-1547769600-1548028799@madeiratroop209.com
SUMMARY:Caving Camp out
DESCRIPTION:
URL:https://madeiratroop209.com/event/caving-camp-out/
LOCATION:Madeira-Silverwood Presbyterian Church\, 8000 Miami Avenue\, Madeira\, OH\, 45243\, United States
CATEGORIES:Camping Trips
END:VEVENT
BEGIN:VEVENT
DTSTART;VALUE=DATE:20181116
DTEND;VALUE=DATE:20181119
DTSTAMP:20260424T192232
CREATED:20180930T204018Z
LAST-MODIFIED:20180930T204018Z
UID:1965-1542326400-1542585599@madeiratroop209.com
SUMMARY:Wilderness Survival Camp out
DESCRIPTION:
URL:https://madeiratroop209.com/event/wilderness-survival-camp-out/
LOCATION:Madeira-Silverwood Presbyterian Church\, 8000 Miami Avenue\, Madeira\, OH\, 45243\, United States
CATEGORIES:Camping Trips
END:VEVENT
BEGIN:VEVENT
DTSTART;VALUE=DATE:20181026
DTEND;VALUE=DATE:20181029
DTSTAMP:20260424T192232
CREATED:20180930T203800Z
LAST-MODIFIED:20180930T203800Z
UID:1963-1540512000-1540771199@madeiratroop209.com
SUMMARY:Yurt Camp out
DESCRIPTION:
URL:https://madeiratroop209.com/event/yurt-camp-out/
LOCATION:Madeira-Silverwood Presbyterian Church\, 8000 Miami Avenue\, Madeira\, OH\, 45243\, United States
CATEGORIES:Camping Trips
END:VEVENT
BEGIN:VEVENT
DTSTART;VALUE=DATE:20180914
DTEND;VALUE=DATE:20180917
DTSTAMP:20260424T192232
CREATED:20180321T215105Z
LAST-MODIFIED:20180321T215105Z
UID:1821-1536883200-1537142399@madeiratroop209.com
SUMMARY:Camp out: Horseback riding @ Metamora\, IN
DESCRIPTION:Horseback riding Metamora\, IN (Sept 14-16)
URL:https://madeiratroop209.com/event/camp-out-horseback-riding-metamora-in/
LOCATION:Madeira-Silverwood Presbyterian Church\, 8000 Miami Avenue\, Madeira\, OH\, 45243\, United States
CATEGORIES:Camping Trips
END:VEVENT
BEGIN:VEVENT
DTSTART;VALUE=DATE:20180824
DTEND;VALUE=DATE:20180827
DTSTAMP:20260424T192232
CREATED:20180321T214923Z
LAST-MODIFIED:20180321T214923Z
UID:1819-1535068800-1535327999@madeiratroop209.com
SUMMARY:Camp out: Rappelling @ Hocking Hills
DESCRIPTION:Rappelling Hocking Hills (Aug 24-26)
URL:https://madeiratroop209.com/event/camp-out-rappelling-hocking-hills/
LOCATION:Madeira-Silverwood Presbyterian Church\, 8000 Miami Avenue\, Madeira\, OH\, 45243\, United States
CATEGORIES:Camping Trips
END:VEVENT
BEGIN:VEVENT
DTSTART;VALUE=DATE:20180708
DTEND;VALUE=DATE:20180715
DTSTAMP:20260424T192232
CREATED:20170724T152948Z
LAST-MODIFIED:20170724T152948Z
UID:1600-1531008000-1531612799@madeiratroop209.com
SUMMARY:Summer Camp
DESCRIPTION:See Summer camp page
URL:https://madeiratroop209.com/event/summer-camp-4/
LOCATION:OH
CATEGORIES:Camping Trips
END:VEVENT
BEGIN:VEVENT
DTSTART;TZID=America/New_York:20180622T163000
DTEND;TZID=America/New_York:20180624T110000
DTSTAMP:20260424T192232
CREATED:20180321T214716Z
LAST-MODIFIED:20180321T214716Z
UID:1817-1529685000-1529838000@madeiratroop209.com
SUMMARY:Camp out: SUP/Kayaking Glow Cavern KY
DESCRIPTION:
URL:https://madeiratroop209.com/event/camp-out-sup-kayaking-glow-cavern-ky/
LOCATION:Madeira-Silverwood Presbyterian Church\, 8000 Miami Avenue\, Madeira\, OH\, 45243\, United States
CATEGORIES:Camping Trips
END:VEVENT
BEGIN:VEVENT
DTSTART;TZID=America/New_York:20180511T163000
DTEND;TZID=America/New_York:20180513T100000
DTSTAMP:20260424T192232
CREATED:20180321T150318Z
LAST-MODIFIED:20180424T012746Z
UID:1811-1526056200-1526205600@madeiratroop209.com
SUMMARY:Camp out: Mountain biking @ John Bryan
DESCRIPTION:May Camp out – Mountain biking
URL:https://madeiratroop209.com/event/camp-out-mountain-biking-john-bryan/
LOCATION:Madeira-Silverwood Presbyterian Church\, 8000 Miami Avenue\, Madeira\, OH\, 45243\, United States
CATEGORIES:Camping Trips
END:VEVENT
BEGIN:VEVENT
DTSTART;TZID=America/New_York:20180420T163000
DTEND;TZID=America/New_York:20180422T110000
DTSTAMP:20260424T192232
CREATED:20180321T150111Z
LAST-MODIFIED:20180321T150111Z
UID:1809-1524241800-1524394800@madeiratroop209.com
SUMMARY:Camp out: Via ferreta @ Red River Gorge
DESCRIPTION:
URL:https://madeiratroop209.com/event/camp-out-via-ferreta-red-river-gorge/
LOCATION:Madeira-Silverwood Presbyterian Church\, 8000 Miami Avenue\, Madeira\, OH\, 45243\, United States
CATEGORIES:Camping Trips
END:VEVENT
END:VCALENDAR