BEGIN:VCALENDAR
VERSION:2.0
PRODID:-//Troop 209 - ECPv6.15.16.1//NONSGML v1.0//EN
CALSCALE:GREGORIAN
METHOD:PUBLISH
X-ORIGINAL-URL:https://madeiratroop209.com
X-WR-CALDESC:Events for Troop 209
REFRESH-INTERVAL;VALUE=DURATION:PT1H
X-Robots-Tag:noindex
X-PUBLISHED-TTL:PT1H
BEGIN:VTIMEZONE
TZID:America/New_York
BEGIN:DAYLIGHT
TZOFFSETFROM:-0500
TZOFFSETTO:-0400
TZNAME:EDT
DTSTART:20170312T070000
END:DAYLIGHT
BEGIN:STANDARD
TZOFFSETFROM:-0400
TZOFFSETTO:-0500
TZNAME:EST
DTSTART:20171105T060000
END:STANDARD
BEGIN:DAYLIGHT
TZOFFSETFROM:-0500
TZOFFSETTO:-0400
TZNAME:EDT
DTSTART:20180311T070000
END:DAYLIGHT
BEGIN:STANDARD
TZOFFSETFROM:-0400
TZOFFSETTO:-0500
TZNAME:EST
DTSTART:20181104T060000
END:STANDARD
BEGIN:DAYLIGHT
TZOFFSETFROM:-0500
TZOFFSETTO:-0400
TZNAME:EDT
DTSTART:20190310T070000
END:DAYLIGHT
BEGIN:STANDARD
TZOFFSETFROM:-0400
TZOFFSETTO:-0500
TZNAME:EST
DTSTART:20191103T060000
END:STANDARD
BEGIN:DAYLIGHT
TZOFFSETFROM:-0500
TZOFFSETTO:-0400
TZNAME:EDT
DTSTART:20200308T070000
END:DAYLIGHT
BEGIN:STANDARD
TZOFFSETFROM:-0400
TZOFFSETTO:-0500
TZNAME:EST
DTSTART:20201101T060000
END:STANDARD
BEGIN:DAYLIGHT
TZOFFSETFROM:-0500
TZOFFSETTO:-0400
TZNAME:EDT
DTSTART:20210314T070000
END:DAYLIGHT
BEGIN:STANDARD
TZOFFSETFROM:-0400
TZOFFSETTO:-0500
TZNAME:EST
DTSTART:20211107T060000
END:STANDARD
BEGIN:DAYLIGHT
TZOFFSETFROM:-0500
TZOFFSETTO:-0400
TZNAME:EDT
DTSTART:20220313T070000
END:DAYLIGHT
BEGIN:STANDARD
TZOFFSETFROM:-0400
TZOFFSETTO:-0500
TZNAME:EST
DTSTART:20221106T060000
END:STANDARD
BEGIN:DAYLIGHT
TZOFFSETFROM:-0500
TZOFFSETTO:-0400
TZNAME:EDT
DTSTART:20230312T070000
END:DAYLIGHT
BEGIN:STANDARD
TZOFFSETFROM:-0400
TZOFFSETTO:-0500
TZNAME:EST
DTSTART:20231105T060000
END:STANDARD
BEGIN:DAYLIGHT
TZOFFSETFROM:-0500
TZOFFSETTO:-0400
TZNAME:EDT
DTSTART:20240310T070000
END:DAYLIGHT
BEGIN:STANDARD
TZOFFSETFROM:-0400
TZOFFSETTO:-0500
TZNAME:EST
DTSTART:20241103T060000
END:STANDARD
BEGIN:DAYLIGHT
TZOFFSETFROM:-0500
TZOFFSETTO:-0400
TZNAME:EDT
DTSTART:20250309T070000
END:DAYLIGHT
BEGIN:STANDARD
TZOFFSETFROM:-0400
TZOFFSETTO:-0500
TZNAME:EST
DTSTART:20251102T060000
END:STANDARD
BEGIN:DAYLIGHT
TZOFFSETFROM:-0500
TZOFFSETTO:-0400
TZNAME:EDT
DTSTART:20260308T070000
END:DAYLIGHT
BEGIN:STANDARD
TZOFFSETFROM:-0400
TZOFFSETTO:-0500
TZNAME:EST
DTSTART:20261101T060000
END:STANDARD
BEGIN:DAYLIGHT
TZOFFSETFROM:-0500
TZOFFSETTO:-0400
TZNAME:EDT
DTSTART:20270314T070000
END:DAYLIGHT
BEGIN:STANDARD
TZOFFSETFROM:-0400
TZOFFSETTO:-0500
TZNAME:EST
DTSTART:20271107T060000
END:STANDARD
END:VTIMEZONE
BEGIN:VEVENT
DTSTART;VALUE=DATE:20260307
DTEND;VALUE=DATE:20260308
DTSTAMP:20260424T141559
CREATED:20260225T211808Z
LAST-MODIFIED:20260225T211808Z
UID:3561-1772841600-1772927999@madeiratroop209.com
SUMMARY:Mulch Blitz Day
DESCRIPTION:Get out and work your mulch accounts
URL:https://madeiratroop209.com/event/mulch-blitz-day/
LOCATION:OH
CATEGORIES:Community Events
END:VEVENT
BEGIN:VEVENT
DTSTART;TZID=America/New_York:20250426T080000
DTEND;TZID=America/New_York:20250426T170000
DTSTAMP:20260424T141559
CREATED:20250408T184536Z
LAST-MODIFIED:20250408T184536Z
UID:3401-1745654400-1745686800@madeiratroop209.com
SUMMARY:Mulch Delivery
DESCRIPTION:
URL:https://madeiratroop209.com/event/mulch-delivery/
LOCATION:Madeira-Silverwood Presbyterian Church\, 8000 Miami Avenue\, Madeira\, OH\, 45243\, United States
CATEGORIES:Community Events
END:VEVENT
BEGIN:VEVENT
DTSTART;TZID=America/New_York:20240427T080000
DTEND;TZID=America/New_York:20240427T170000
DTSTAMP:20260424T141559
CREATED:20240301T022517Z
LAST-MODIFIED:20240301T022517Z
UID:3251-1714204800-1714237200@madeiratroop209.com
SUMMARY:Mulch Delivery Day
DESCRIPTION:
URL:https://madeiratroop209.com/event/mulch-delivery-day/
LOCATION:Madeira-Silverwood Presbyterian Church\, 8000 Miami Avenue\, Madeira\, OH\, 45243\, United States
CATEGORIES:Community Events
END:VEVENT
BEGIN:VEVENT
DTSTART;TZID=America/New_York:20230529T093000
DTEND;TZID=America/New_York:20230529T110000
DTSTAMP:20260424T141559
CREATED:20221025T221458Z
LAST-MODIFIED:20230526T122017Z
UID:2648-1685352600-1685358000@madeiratroop209.com
SUMMARY:Memorial Day March
DESCRIPTION:The troop will participate in the silent Memorial Day March.  Meet by 9:45am at St. Gertrude Church\, Scouts dressed in full Class A uniform.  The walk starts at 10:00am\, leaves from St. Gertrude Church and ends at Madeira Middle School.  Families\, siblings\, friends and any Veterans you know are more than welcome to walk with the Troop.  There is also a program at 10:15 at the Middle School\, with a guest speaker\, that we generally hang around for.
URL:https://madeiratroop209.com/event/memorial-day-march-6/
LOCATION:St Gertrude\, 6543 Miami Ave\, Cincinnati\, OH\, 45243\, United States
CATEGORIES:Community Events
END:VEVENT
BEGIN:VEVENT
DTSTART;VALUE=DATE:20220530
DTEND;VALUE=DATE:20220531
DTSTAMP:20260424T141559
CREATED:20211004T002250Z
LAST-MODIFIED:20211004T002250Z
UID:2543-1653868800-1653955199@madeiratroop209.com
SUMMARY:Memorial Day March
DESCRIPTION:
URL:https://madeiratroop209.com/event/memorial-day-march-5/
LOCATION:Madeira-Silverwood Presbyterian Church\, 8000 Miami Avenue\, Madeira\, OH\, 45243\, United States
CATEGORIES:Community Events
END:VEVENT
BEGIN:VEVENT
DTSTART;VALUE=DATE:20220530
DTEND;VALUE=DATE:20220531
DTSTAMP:20260424T141559
CREATED:20211004T002118Z
LAST-MODIFIED:20211004T002508Z
UID:2537-1653868800-1653955199@madeiratroop209.com
SUMMARY:Memorial Day March
DESCRIPTION:
URL:https://madeiratroop209.com/event/memorial-day-march-4/
LOCATION:Madeira-Silverwood Presbyterian Church\, 8000 Miami Avenue\, Madeira\, OH\, 45243\, United States
CATEGORIES:Community Events
END:VEVENT
BEGIN:VEVENT
DTSTART;TZID=America/New_York:20200509T070000
DTEND;TZID=America/New_York:20200509T170000
DTSTAMP:20260424T141559
CREATED:20200312T204519Z
LAST-MODIFIED:20200327T161746Z
UID:2181-1589007600-1589043600@madeiratroop209.com
SUMMARY:Mulch Delivery Day
DESCRIPTION:
URL:https://madeiratroop209.com/event/mulch-delivery-day-2/
LOCATION:Madeira-Silverwood Presbyterian Church\, 8000 Miami Avenue\, Madeira\, OH\, 45243\, United States
CATEGORIES:Community Events
END:VEVENT
BEGIN:VEVENT
DTSTART;TZID=America/New_York:20190527T093000
DTEND;TZID=America/New_York:20190527T093000
DTSTAMP:20260424T141559
CREATED:20190512T232558Z
LAST-MODIFIED:20190512T232558Z
UID:2055-1558949400-1558949400@madeiratroop209.com
SUMMARY:Memorial Day Silent March
DESCRIPTION:
URL:https://madeiratroop209.com/event/memorial-day-silent-march/
LOCATION:Madeira Middle School\, 6612 Miami Ave\, Cincinnai\, OH\, 45243\, United States
CATEGORIES:Community Events
END:VEVENT
BEGIN:VEVENT
DTSTART;TZID=America/New_York:20180528T084500
DTEND;TZID=America/New_York:20180528T110000
DTSTAMP:20260424T141559
CREATED:20180321T150518Z
LAST-MODIFIED:20180321T150518Z
UID:1813-1527497100-1527505200@madeiratroop209.com
SUMMARY:Memorial Day March
DESCRIPTION:
URL:https://madeiratroop209.com/event/memorial-day-march-3/
LOCATION:Madeira Middle School\, 6612 Miami Ave\, Cincinnai\, OH\, 45243\, United States
CATEGORIES:Community Events
END:VEVENT
END:VCALENDAR