BEGIN:VCALENDAR
VERSION:2.0
PRODID:-//Troop 209 - ECPv6.15.16.1//NONSGML v1.0//EN
CALSCALE:GREGORIAN
METHOD:PUBLISH
X-ORIGINAL-URL:https://madeiratroop209.com
X-WR-CALDESC:Events for Troop 209
REFRESH-INTERVAL;VALUE=DURATION:PT1H
X-Robots-Tag:noindex
X-PUBLISHED-TTL:PT1H
BEGIN:VTIMEZONE
TZID:America/New_York
BEGIN:DAYLIGHT
TZOFFSETFROM:-0500
TZOFFSETTO:-0400
TZNAME:EDT
DTSTART:20240310T070000
END:DAYLIGHT
BEGIN:STANDARD
TZOFFSETFROM:-0400
TZOFFSETTO:-0500
TZNAME:EST
DTSTART:20241103T060000
END:STANDARD
BEGIN:DAYLIGHT
TZOFFSETFROM:-0500
TZOFFSETTO:-0400
TZNAME:EDT
DTSTART:20250309T070000
END:DAYLIGHT
BEGIN:STANDARD
TZOFFSETFROM:-0400
TZOFFSETTO:-0500
TZNAME:EST
DTSTART:20251102T060000
END:STANDARD
BEGIN:DAYLIGHT
TZOFFSETFROM:-0500
TZOFFSETTO:-0400
TZNAME:EDT
DTSTART:20260308T070000
END:DAYLIGHT
BEGIN:STANDARD
TZOFFSETFROM:-0400
TZOFFSETTO:-0500
TZNAME:EST
DTSTART:20261101T060000
END:STANDARD
END:VTIMEZONE
BEGIN:VEVENT
DTSTART;VALUE=DATE:20250107
DTEND;VALUE=DATE:20250108
DTSTAMP:20260425T113026
CREATED:20241020T001643Z
LAST-MODIFIED:20250107T155114Z
UID:3336-1736208000-1736294399@madeiratroop209.com
SUMMARY:Canceled: Troop Meeting
DESCRIPTION:Troop meeting canceled due to inclement weather
URL:https://madeiratroop209.com/event/troop-meeting-7/
LOCATION:Madeira-Silverwood Presbyterian Church\, 8000 Miami Avenue\, Madeira\, OH\, 45243\, United States
CATEGORIES:Meeting
END:VEVENT
BEGIN:VEVENT
DTSTART;TZID=America/New_York:20250114T174500
DTEND;TZID=America/New_York:20250114T190000
DTSTAMP:20260425T113026
CREATED:20241020T001400Z
LAST-MODIFIED:20250107T154930Z
UID:3304-1736876700-1736881200@madeiratroop209.com
SUMMARY:PLC Meeting
DESCRIPTION:Regular Tuesday PLC Meeting – Moved due to inclement weather
URL:https://madeiratroop209.com/event/plc-meeting-3/
LOCATION:Madeira-Silverwood Presbyterian Church\, 8000 Miami Avenue\, Madeira\, OH\, 45243\, United States
CATEGORIES:Meeting
END:VEVENT
BEGIN:VEVENT
DTSTART;TZID=America/New_York:20250114T190000
DTEND;TZID=America/New_York:20250114T201500
DTSTAMP:20260425T113026
CREATED:20241020T001658Z
LAST-MODIFIED:20241020T001658Z
UID:3337-1736881200-1736885700@madeiratroop209.com
SUMMARY:Troop Meeting
DESCRIPTION:
URL:https://madeiratroop209.com/event/troop-meeting-8/
LOCATION:Madeira-Silverwood Presbyterian Church\, 8000 Miami Avenue\, Madeira\, OH\, 45243\, United States
CATEGORIES:Meeting
END:VEVENT
BEGIN:VEVENT
DTSTART;TZID=America/New_York:20250121T190000
DTEND;TZID=America/New_York:20250121T201500
DTSTAMP:20260425T113026
CREATED:20241020T001658Z
LAST-MODIFIED:20241020T001658Z
UID:3338-1737486000-1737490500@madeiratroop209.com
SUMMARY:Court of Honor
DESCRIPTION:Family is invited to join us celebrating our Scouts’ accomplishments
URL:https://madeiratroop209.com/event/court-of-honor/
LOCATION:Madeira-Silverwood Presbyterian Church\, 8000 Miami Avenue\, Madeira\, OH\, 45243\, United States
CATEGORIES:Meeting
END:VEVENT
BEGIN:VEVENT
DTSTART;TZID=America/New_York:20250128T190000
DTEND;TZID=America/New_York:20250128T201500
DTSTAMP:20260425T113026
CREATED:20241020T001658Z
LAST-MODIFIED:20241020T001658Z
UID:3339-1738090800-1738095300@madeiratroop209.com
SUMMARY:Troop Meeting
DESCRIPTION:
URL:https://madeiratroop209.com/event/troop-meeting-9/
LOCATION:Madeira-Silverwood Presbyterian Church\, 8000 Miami Avenue\, Madeira\, OH\, 45243\, United States
CATEGORIES:Meeting
END:VEVENT
END:VCALENDAR