BEGIN:VCALENDAR
VERSION:2.0
PRODID:-//Troop 209 - ECPv6.15.16.1//NONSGML v1.0//EN
CALSCALE:GREGORIAN
METHOD:PUBLISH
X-WR-CALNAME:Troop 209
X-ORIGINAL-URL:https://madeiratroop209.com
X-WR-CALDESC:Events for Troop 209
REFRESH-INTERVAL;VALUE=DURATION:PT1H
X-Robots-Tag:noindex
X-PUBLISHED-TTL:PT1H
BEGIN:VTIMEZONE
TZID:America/New_York
BEGIN:DAYLIGHT
TZOFFSETFROM:-0500
TZOFFSETTO:-0400
TZNAME:EDT
DTSTART:20220313T070000
END:DAYLIGHT
BEGIN:STANDARD
TZOFFSETFROM:-0400
TZOFFSETTO:-0500
TZNAME:EST
DTSTART:20221106T060000
END:STANDARD
BEGIN:DAYLIGHT
TZOFFSETFROM:-0500
TZOFFSETTO:-0400
TZNAME:EDT
DTSTART:20230312T070000
END:DAYLIGHT
BEGIN:STANDARD
TZOFFSETFROM:-0400
TZOFFSETTO:-0500
TZNAME:EST
DTSTART:20231105T060000
END:STANDARD
BEGIN:DAYLIGHT
TZOFFSETFROM:-0500
TZOFFSETTO:-0400
TZNAME:EDT
DTSTART:20240310T070000
END:DAYLIGHT
BEGIN:STANDARD
TZOFFSETFROM:-0400
TZOFFSETTO:-0500
TZNAME:EST
DTSTART:20241103T060000
END:STANDARD
END:VTIMEZONE
BEGIN:VEVENT
DTSTART;TZID=America/New_York:20231114T190000
DTEND;TZID=America/New_York:20231114T201500
DTSTAMP:20260425T142249
CREATED:20230827T142455Z
LAST-MODIFIED:20230827T142455Z
UID:2844-1699988400-1699992900@madeiratroop209.com
SUMMARY:Troop Meeting
DESCRIPTION:Regular Tuesday Meeting
URL:https://madeiratroop209.com/event/troop-meeting-435/
LOCATION:Madeira-Silverwood Presbyterian Church\, 8000 Miami Avenue\, Madeira\, OH\, 45243\, United States
CATEGORIES:Meeting
END:VEVENT
BEGIN:VEVENT
DTSTART;TZID=America/New_York:20231107T190000
DTEND;TZID=America/New_York:20231107T201500
DTSTAMP:20260425T142249
CREATED:20230827T142455Z
LAST-MODIFIED:20230827T142455Z
UID:2843-1699383600-1699388100@madeiratroop209.com
SUMMARY:Troop Meeting - Election Night
DESCRIPTION:To respect the voting pool location please enter through the front of the church not the fellowship hall
URL:https://madeiratroop209.com/event/troop-meeting-election-night-2/
LOCATION:Madeira-Silverwood Presbyterian Church\, 8000 Miami Avenue\, Madeira\, OH\, 45243\, United States
CATEGORIES:Meeting
END:VEVENT
BEGIN:VEVENT
DTSTART;TZID=America/New_York:20231107T174500
DTEND;TZID=America/New_York:20231107T190000
DTSTAMP:20260425T142249
CREATED:20230827T143655Z
LAST-MODIFIED:20230827T143655Z
UID:2897-1699379100-1699383600@madeiratroop209.com
SUMMARY:PLC Meeting
DESCRIPTION:Regular Tuesday PLC Meeting
URL:https://madeiratroop209.com/event/plc-meeting-72/
LOCATION:Madeira-Silverwood Presbyterian Church\, 8000 Miami Avenue\, Madeira\, OH\, 45243\, United States
CATEGORIES:Meeting
END:VEVENT
BEGIN:VEVENT
DTSTART;VALUE=DATE:20231031
DTEND;VALUE=DATE:20231101
DTSTAMP:20260425T142249
CREATED:20221025T222155Z
LAST-MODIFIED:20231023T144900Z
UID:2702-1698710400-1698796799@madeiratroop209.com
SUMMARY:No Troop Meeting
DESCRIPTION:Meeting canceled due to Halloween. Have a fun and safe Trick or Treating.
URL:https://madeiratroop209.com/event/troop-meeting-432/
LOCATION:Madeira-Silverwood Presbyterian Church\, 8000 Miami Avenue\, Madeira\, OH\, 45243\, United States
CATEGORIES:Meeting
END:VEVENT
BEGIN:VEVENT
DTSTART;TZID=America/New_York:20231024T190000
DTEND;TZID=America/New_York:20231024T201500
DTSTAMP:20260425T142249
CREATED:20221025T222155Z
LAST-MODIFIED:20221025T222155Z
UID:2701-1698174000-1698178500@madeiratroop209.com
SUMMARY:Troop Meeting
DESCRIPTION:Regular Tuesday Meeting
URL:https://madeiratroop209.com/event/troop-meeting-431/
LOCATION:Madeira-Silverwood Presbyterian Church\, 8000 Miami Avenue\, Madeira\, OH\, 45243\, United States
CATEGORIES:Meeting
END:VEVENT
BEGIN:VEVENT
DTSTART;TZID=America/New_York:20231017T190000
DTEND;TZID=America/New_York:20231017T201500
DTSTAMP:20260425T142249
CREATED:20221025T222143Z
LAST-MODIFIED:20221025T222143Z
UID:2700-1697569200-1697573700@madeiratroop209.com
SUMMARY:Troop Meeting
DESCRIPTION:Regular Tuesday Meeting
URL:https://madeiratroop209.com/event/troop-meeting-430/
LOCATION:Madeira-Silverwood Presbyterian Church\, 8000 Miami Avenue\, Madeira\, OH\, 45243\, United States
CATEGORIES:Meeting
END:VEVENT
BEGIN:VEVENT
DTSTART;TZID=America/New_York:20231010T190000
DTEND;TZID=America/New_York:20231010T201500
DTSTAMP:20260425T142249
CREATED:20221025T222142Z
LAST-MODIFIED:20221025T222142Z
UID:2699-1696964400-1696968900@madeiratroop209.com
SUMMARY:Troop Meeting
DESCRIPTION:Regular Tuesday Meeting
URL:https://madeiratroop209.com/event/troop-meeting-429/
LOCATION:Madeira-Silverwood Presbyterian Church\, 8000 Miami Avenue\, Madeira\, OH\, 45243\, United States
CATEGORIES:Meeting
END:VEVENT
BEGIN:VEVENT
DTSTART;TZID=America/New_York:20231003T190000
DTEND;TZID=America/New_York:20231003T201500
DTSTAMP:20260425T142249
CREATED:20221025T222141Z
LAST-MODIFIED:20221025T222141Z
UID:2698-1696359600-1696364100@madeiratroop209.com
SUMMARY:Troop Meeting
DESCRIPTION:Regular Tuesday Meeting
URL:https://madeiratroop209.com/event/troop-meeting-428/
LOCATION:Madeira-Silverwood Presbyterian Church\, 8000 Miami Avenue\, Madeira\, OH\, 45243\, United States
CATEGORIES:Meeting
END:VEVENT
BEGIN:VEVENT
DTSTART;TZID=America/New_York:20231003T174500
DTEND;TZID=America/New_York:20231003T190000
DTSTAMP:20260425T142249
CREATED:20230827T143713Z
LAST-MODIFIED:20230827T143713Z
UID:2908-1696355100-1696359600@madeiratroop209.com
SUMMARY:PLC Meeting
DESCRIPTION:Regular Tuesday PLC Meeting
URL:https://madeiratroop209.com/event/plc-meeting-83/
LOCATION:Madeira-Silverwood Presbyterian Church\, 8000 Miami Avenue\, Madeira\, OH\, 45243\, United States
CATEGORIES:Meeting
END:VEVENT
BEGIN:VEVENT
DTSTART;TZID=America/New_York:20230926T190000
DTEND;TZID=America/New_York:20230926T201500
DTSTAMP:20260425T142249
CREATED:20221025T222141Z
LAST-MODIFIED:20221025T222141Z
UID:2697-1695754800-1695759300@madeiratroop209.com
SUMMARY:Court of Honor
DESCRIPTION:Family is invited to join us celebrating our Scouts’ accomplishments
URL:https://madeiratroop209.com/event/court-of-honor-10/
LOCATION:Madeira-Silverwood Presbyterian Church\, 8000 Miami Avenue\, Madeira\, OH\, 45243\, United States
CATEGORIES:Meeting
END:VEVENT
BEGIN:VEVENT
DTSTART;TZID=America/New_York:20230919T190000
DTEND;TZID=America/New_York:20230919T201500
DTSTAMP:20260425T142249
CREATED:20221025T222139Z
LAST-MODIFIED:20221025T222139Z
UID:2696-1695150000-1695154500@madeiratroop209.com
SUMMARY:Troop Meeting
DESCRIPTION:Regular Tuesday Meeting
URL:https://madeiratroop209.com/event/troop-meeting-427/
LOCATION:Madeira-Silverwood Presbyterian Church\, 8000 Miami Avenue\, Madeira\, OH\, 45243\, United States
CATEGORIES:Meeting
END:VEVENT
BEGIN:VEVENT
DTSTART;TZID=America/New_York:20230912T190000
DTEND;TZID=America/New_York:20230912T201500
DTSTAMP:20260425T142249
CREATED:20221025T222127Z
LAST-MODIFIED:20221025T222127Z
UID:2695-1694545200-1694549700@madeiratroop209.com
SUMMARY:Troop Meeting
DESCRIPTION:Regular Tuesday Meeting
URL:https://madeiratroop209.com/event/troop-meeting-426/
LOCATION:Madeira-Silverwood Presbyterian Church\, 8000 Miami Avenue\, Madeira\, OH\, 45243\, United States
CATEGORIES:Meeting
END:VEVENT
BEGIN:VEVENT
DTSTART;TZID=America/New_York:20230905T190000
DTEND;TZID=America/New_York:20230905T201500
DTSTAMP:20260425T142249
CREATED:20230827T164904Z
LAST-MODIFIED:20230827T164904Z
UID:2911-1693940400-1693944900@madeiratroop209.com
SUMMARY:Troop Meeting
DESCRIPTION:
URL:https://madeiratroop209.com/event/troop-meeting-481/
LOCATION:Madeira-Silverwood Presbyterian Church\, 8000 Miami Avenue\, Madeira\, OH\, 45243\, United States
CATEGORIES:Meeting
END:VEVENT
BEGIN:VEVENT
DTSTART;TZID=America/New_York:20230905T174500
DTEND;TZID=America/New_York:20230905T190000
DTSTAMP:20260425T142249
CREATED:20221025T221321Z
LAST-MODIFIED:20221025T221321Z
UID:2632-1693935900-1693940400@madeiratroop209.com
SUMMARY:PLC Meeting
DESCRIPTION:Regular Tuesday PLC Meeting
URL:https://madeiratroop209.com/event/plc-meeting-71/
LOCATION:Madeira-Silverwood Presbyterian Church\, 8000 Miami Avenue\, Madeira\, OH\, 45243\, United States
CATEGORIES:Meeting
END:VEVENT
BEGIN:VEVENT
DTSTART;TZID=America/New_York:20230829T190000
DTEND;TZID=America/New_York:20230829T201500
DTSTAMP:20260425T142249
CREATED:20221025T222126Z
LAST-MODIFIED:20221025T222126Z
UID:2693-1693335600-1693340100@madeiratroop209.com
SUMMARY:Troop Meeting
DESCRIPTION:Regular Tuesday Meeting
URL:https://madeiratroop209.com/event/troop-meeting-424/
LOCATION:Madeira-Silverwood Presbyterian Church\, 8000 Miami Avenue\, Madeira\, OH\, 45243\, United States
CATEGORIES:Meeting
END:VEVENT
BEGIN:VEVENT
DTSTART;TZID=America/New_York:20230822T190000
DTEND;TZID=America/New_York:20230822T201500
DTSTAMP:20260425T142249
CREATED:20221025T222125Z
LAST-MODIFIED:20221025T222125Z
UID:2692-1692730800-1692735300@madeiratroop209.com
SUMMARY:Troop Meeting
DESCRIPTION:Regular Tuesday Meeting
URL:https://madeiratroop209.com/event/troop-meeting-423/
LOCATION:Madeira-Silverwood Presbyterian Church\, 8000 Miami Avenue\, Madeira\, OH\, 45243\, United States
CATEGORIES:Meeting
END:VEVENT
BEGIN:VEVENT
DTSTART;TZID=America/New_York:20230815T190000
DTEND;TZID=America/New_York:20230815T201500
DTSTAMP:20260425T142249
CREATED:20221025T222125Z
LAST-MODIFIED:20221025T222125Z
UID:2691-1692126000-1692130500@madeiratroop209.com
SUMMARY:Troop Meeting
DESCRIPTION:Regular Tuesday Meeting
URL:https://madeiratroop209.com/event/troop-meeting-422/
LOCATION:Madeira-Silverwood Presbyterian Church\, 8000 Miami Avenue\, Madeira\, OH\, 45243\, United States
CATEGORIES:Meeting
END:VEVENT
BEGIN:VEVENT
DTSTART;TZID=America/New_York:20230808T190000
DTEND;TZID=America/New_York:20230808T201500
DTSTAMP:20260425T142249
CREATED:20221025T223020Z
LAST-MODIFIED:20221025T223020Z
UID:2725-1691521200-1691525700@madeiratroop209.com
SUMMARY:Troop Meeting
DESCRIPTION:
URL:https://madeiratroop209.com/event/troop-meeting-434/
LOCATION:Madeira-Silverwood Presbyterian Church\, 8000 Miami Avenue\, Madeira\, OH\, 45243\, United States
CATEGORIES:Meeting
END:VEVENT
BEGIN:VEVENT
DTSTART;TZID=America/New_York:20230808T174500
DTEND;TZID=America/New_York:20230808T190000
DTSTAMP:20260425T142249
CREATED:20221025T221307Z
LAST-MODIFIED:20221025T221307Z
UID:2631-1691516700-1691521200@madeiratroop209.com
SUMMARY:PLC Meeting
DESCRIPTION:Regular Tuesday PLC Meeting
URL:https://madeiratroop209.com/event/plc-meeting-70/
LOCATION:Madeira-Silverwood Presbyterian Church\, 8000 Miami Avenue\, Madeira\, OH\, 45243\, United States
CATEGORIES:Meeting
END:VEVENT
BEGIN:VEVENT
DTSTART;VALUE=DATE:20230801
DTEND;VALUE=DATE:20230802
DTSTAMP:20260425T142249
CREATED:20221025T222111Z
LAST-MODIFIED:20230210T194038Z
UID:2689-1690848000-1690934399@madeiratroop209.com
SUMMARY:No Troop Meeting
DESCRIPTION:No meeting summer break schedule
URL:https://madeiratroop209.com/event/no-troop-meeting-5/
LOCATION:Madeira-Silverwood Presbyterian Church\, 8000 Miami Avenue\, Madeira\, OH\, 45243\, United States
CATEGORIES:Meeting
END:VEVENT
BEGIN:VEVENT
DTSTART;TZID=America/New_York:20230725T190000
DTEND;TZID=America/New_York:20230725T201500
DTSTAMP:20260425T142249
CREATED:20221025T222111Z
LAST-MODIFIED:20221025T222111Z
UID:2688-1690311600-1690316100@madeiratroop209.com
SUMMARY:Troop Meeting
DESCRIPTION:Regular Tuesday Meeting
URL:https://madeiratroop209.com/event/troop-meeting-420/
LOCATION:Madeira-Silverwood Presbyterian Church\, 8000 Miami Avenue\, Madeira\, OH\, 45243\, United States
CATEGORIES:Meeting
END:VEVENT
BEGIN:VEVENT
DTSTART;VALUE=DATE:20230718
DTEND;VALUE=DATE:20230719
DTSTAMP:20260425T142249
CREATED:20221025T222110Z
LAST-MODIFIED:20230210T194023Z
UID:2687-1689638400-1689724799@madeiratroop209.com
SUMMARY:No Troop Meeting
DESCRIPTION:No meeting summer break schedule
URL:https://madeiratroop209.com/event/no-troop-meeting-4/
LOCATION:Madeira-Silverwood Presbyterian Church\, 8000 Miami Avenue\, Madeira\, OH\, 45243\, United States
CATEGORIES:Meeting
END:VEVENT
BEGIN:VEVENT
DTSTART;VALUE=DATE:20230704
DTEND;VALUE=DATE:20230705
DTSTAMP:20260425T142249
CREATED:20221025T222057Z
LAST-MODIFIED:20230210T194008Z
UID:2685-1688428800-1688515199@madeiratroop209.com
SUMMARY:No Troop Meeting
DESCRIPTION:No meeting. Happy 4th of July
URL:https://madeiratroop209.com/event/no-troop-meeting-3/
LOCATION:Madeira-Silverwood Presbyterian Church\, 8000 Miami Avenue\, Madeira\, OH\, 45243\, United States
CATEGORIES:Meeting
END:VEVENT
BEGIN:VEVENT
DTSTART;TZID=America/New_York:20230627T190000
DTEND;TZID=America/New_York:20230627T201500
DTSTAMP:20260425T142249
CREATED:20221025T222056Z
LAST-MODIFIED:20230612T145908Z
UID:2684-1687892400-1687896900@madeiratroop209.com
SUMMARY:Troop Meeting
DESCRIPTION:Regular Tuesday Meeting
URL:https://madeiratroop209.com/event/troop-meeting-418/
LOCATION:Sellman park\, Madeira\, OH\, 45243\, United States
CATEGORIES:Meeting
END:VEVENT
BEGIN:VEVENT
DTSTART;TZID=America/New_York:20230627T190000
DTEND;TZID=America/New_York:20230627T200000
DTSTAMP:20260425T142249
CREATED:20230612T145551Z
LAST-MODIFIED:20230612T145551Z
UID:2820-1687892400-1687896000@madeiratroop209.com
SUMMARY:Parent's meeting for 1st time Summer Campers
DESCRIPTION:This meeting is for parent’s that have a scout going to summer camp for the 1st time.
URL:https://madeiratroop209.com/event/parents-meeting-for-1st-time-summer-campers/
LOCATION:Sellman park\, Madeira\, OH\, 45243\, United States
CATEGORIES:Meeting
END:VEVENT
BEGIN:VEVENT
DTSTART;TZID=America/New_York:20230627T174500
DTEND;TZID=America/New_York:20230627T190000
DTSTAMP:20260425T142249
CREATED:20221025T221307Z
LAST-MODIFIED:20230612T145849Z
UID:2630-1687887900-1687892400@madeiratroop209.com
SUMMARY:PLC Meeting
DESCRIPTION:Regular Tuesday PLC Meeting. Week early due to 4th of July
URL:https://madeiratroop209.com/event/plc-meeting-69/
LOCATION:Sellman park\, Madeira\, OH\, 45243\, United States
CATEGORIES:Meeting
END:VEVENT
BEGIN:VEVENT
DTSTART;TZID=America/New_York:20230620T190000
DTEND;TZID=America/New_York:20230620T201500
DTSTAMP:20260425T142249
CREATED:20221025T222055Z
LAST-MODIFIED:20221025T222055Z
UID:2683-1687287600-1687292100@madeiratroop209.com
SUMMARY:Troop Meeting
DESCRIPTION:Regular Tuesday Meeting
URL:https://madeiratroop209.com/event/troop-meeting-417/
LOCATION:Madeira-Silverwood Presbyterian Church\, 8000 Miami Avenue\, Madeira\, OH\, 45243\, United States
CATEGORIES:Meeting
END:VEVENT
BEGIN:VEVENT
DTSTART;TZID=America/New_York:20230613T190000
DTEND;TZID=America/New_York:20230613T201500
DTSTAMP:20260425T142249
CREATED:20221025T222055Z
LAST-MODIFIED:20230612T145226Z
UID:2682-1686682800-1686687300@madeiratroop209.com
SUMMARY:Troop Meeting - Swim Test
DESCRIPTION:Scout meeting is at the Madeira Swim and Tennis Club.  We will be doing our annual swim tests.  Wear a bathing suit; and bring a towel\, googles (if you need them) and any other pool-related items you need! \nGear from Fishing Charter campout:  For those that were on the campout this weekend\, please clean/dry all troop gear; however DO NOT bring to Swim Club this week.  Instead bring the gear back to the regular meeting on 6/20.
URL:https://madeiratroop209.com/event/troop-meeting-416/
LOCATION:Madeira Swim & Tennis Club\, 6580 Miami Avenue\, Madeira\, OH\, 45243\, United States
CATEGORIES:Meeting
END:VEVENT
BEGIN:VEVENT
DTSTART;TZID=America/New_York:20230606T190000
DTEND;TZID=America/New_York:20230606T201500
DTSTAMP:20260425T142249
CREATED:20221025T222055Z
LAST-MODIFIED:20221025T222055Z
UID:2681-1686078000-1686082500@madeiratroop209.com
SUMMARY:Troop Meeting
DESCRIPTION:Regular Tuesday Meeting
URL:https://madeiratroop209.com/event/troop-meeting-415/
LOCATION:Madeira-Silverwood Presbyterian Church\, 8000 Miami Avenue\, Madeira\, OH\, 45243\, United States
CATEGORIES:Meeting
END:VEVENT
BEGIN:VEVENT
DTSTART;TZID=America/New_York:20230606T174500
DTEND;TZID=America/New_York:20230606T190000
DTSTAMP:20260425T142249
CREATED:20221025T221306Z
LAST-MODIFIED:20221025T221306Z
UID:2629-1686073500-1686078000@madeiratroop209.com
SUMMARY:PLC Meeting
DESCRIPTION:Regular Tuesday PLC Meeting
URL:https://madeiratroop209.com/event/plc-meeting-68/
LOCATION:Madeira-Silverwood Presbyterian Church\, 8000 Miami Avenue\, Madeira\, OH\, 45243\, United States
CATEGORIES:Meeting
END:VEVENT
END:VCALENDAR