BEGIN:VCALENDAR
VERSION:2.0
PRODID:-//Troop 209 - ECPv6.15.16.1//NONSGML v1.0//EN
CALSCALE:GREGORIAN
METHOD:PUBLISH
X-WR-CALNAME:Troop 209
X-ORIGINAL-URL:https://madeiratroop209.com
X-WR-CALDESC:Events for Troop 209
REFRESH-INTERVAL;VALUE=DURATION:PT1H
X-Robots-Tag:noindex
X-PUBLISHED-TTL:PT1H
BEGIN:VTIMEZONE
TZID:America/New_York
BEGIN:DAYLIGHT
TZOFFSETFROM:-0500
TZOFFSETTO:-0400
TZNAME:EDT
DTSTART:20210314T070000
END:DAYLIGHT
BEGIN:STANDARD
TZOFFSETFROM:-0400
TZOFFSETTO:-0500
TZNAME:EST
DTSTART:20211107T060000
END:STANDARD
BEGIN:DAYLIGHT
TZOFFSETFROM:-0500
TZOFFSETTO:-0400
TZNAME:EDT
DTSTART:20220313T070000
END:DAYLIGHT
BEGIN:STANDARD
TZOFFSETFROM:-0400
TZOFFSETTO:-0500
TZNAME:EST
DTSTART:20221106T060000
END:STANDARD
BEGIN:DAYLIGHT
TZOFFSETFROM:-0500
TZOFFSETTO:-0400
TZNAME:EDT
DTSTART:20230312T070000
END:DAYLIGHT
BEGIN:STANDARD
TZOFFSETFROM:-0400
TZOFFSETTO:-0500
TZNAME:EST
DTSTART:20231105T060000
END:STANDARD
BEGIN:DAYLIGHT
TZOFFSETFROM:-0500
TZOFFSETTO:-0400
TZNAME:EDT
DTSTART:20240310T070000
END:DAYLIGHT
BEGIN:STANDARD
TZOFFSETFROM:-0400
TZOFFSETTO:-0500
TZNAME:EST
DTSTART:20241103T060000
END:STANDARD
END:VTIMEZONE
BEGIN:VEVENT
DTSTART;TZID=America/New_York:20230530T190000
DTEND;TZID=America/New_York:20230530T201500
DTSTAMP:20260425T182908
CREATED:20221025T222044Z
LAST-MODIFIED:20221025T222044Z
UID:2680-1685473200-1685477700@madeiratroop209.com
SUMMARY:Troop Meeting
DESCRIPTION:Regular Tuesday Meeting
URL:https://madeiratroop209.com/event/troop-meeting-414/
LOCATION:Madeira-Silverwood Presbyterian Church\, 8000 Miami Avenue\, Madeira\, OH\, 45243\, United States
CATEGORIES:Meeting
END:VEVENT
BEGIN:VEVENT
DTSTART;TZID=America/New_York:20230523T190000
DTEND;TZID=America/New_York:20230523T201500
DTSTAMP:20260425T182908
CREATED:20221025T222042Z
LAST-MODIFIED:20221025T222042Z
UID:2679-1684868400-1684872900@madeiratroop209.com
SUMMARY:Troop Meeting
DESCRIPTION:Regular Tuesday Meeting
URL:https://madeiratroop209.com/event/troop-meeting-413/
LOCATION:Madeira-Silverwood Presbyterian Church\, 8000 Miami Avenue\, Madeira\, OH\, 45243\, United States
CATEGORIES:Meeting
END:VEVENT
BEGIN:VEVENT
DTSTART;TZID=America/New_York:20230516T190000
DTEND;TZID=America/New_York:20230516T201500
DTSTAMP:20260425T182908
CREATED:20221025T222042Z
LAST-MODIFIED:20221025T222042Z
UID:2678-1684263600-1684268100@madeiratroop209.com
SUMMARY:Troop Meeting
DESCRIPTION:Regular Tuesday Meeting
URL:https://madeiratroop209.com/event/troop-meeting-412/
LOCATION:Madeira-Silverwood Presbyterian Church\, 8000 Miami Avenue\, Madeira\, OH\, 45243\, United States
CATEGORIES:Meeting
END:VEVENT
BEGIN:VEVENT
DTSTART;TZID=America/New_York:20230509T190000
DTEND;TZID=America/New_York:20230509T201500
DTSTAMP:20260425T182908
CREATED:20221025T222041Z
LAST-MODIFIED:20221025T222041Z
UID:2677-1683658800-1683663300@madeiratroop209.com
SUMMARY:Court of Honor
DESCRIPTION:Family is invited to join us celebrating our Scouts’ accomplishments
URL:https://madeiratroop209.com/event/court-of-honor-9/
LOCATION:Madeira-Silverwood Presbyterian Church\, 8000 Miami Avenue\, Madeira\, OH\, 45243\, United States
CATEGORIES:Meeting
END:VEVENT
BEGIN:VEVENT
DTSTART;TZID=America/New_York:20230502T190000
DTEND;TZID=America/New_York:20230502T201500
DTSTAMP:20260425T182908
CREATED:20221025T222040Z
LAST-MODIFIED:20221025T222040Z
UID:2676-1683054000-1683058500@madeiratroop209.com
SUMMARY:Troop Meeting
DESCRIPTION:Regular Tuesday Meeting
URL:https://madeiratroop209.com/event/troop-meeting-411/
LOCATION:Madeira-Silverwood Presbyterian Church\, 8000 Miami Avenue\, Madeira\, OH\, 45243\, United States
CATEGORIES:Meeting
END:VEVENT
BEGIN:VEVENT
DTSTART;TZID=America/New_York:20230502T174500
DTEND;TZID=America/New_York:20230502T190000
DTSTAMP:20260425T182908
CREATED:20221025T221306Z
LAST-MODIFIED:20221025T221306Z
UID:2628-1683049500-1683054000@madeiratroop209.com
SUMMARY:PLC Meeting
DESCRIPTION:Regular Tuesday PLC Meeting
URL:https://madeiratroop209.com/event/plc-meeting-67/
LOCATION:Madeira-Silverwood Presbyterian Church\, 8000 Miami Avenue\, Madeira\, OH\, 45243\, United States
CATEGORIES:Meeting
END:VEVENT
BEGIN:VEVENT
DTSTART;TZID=America/New_York:20230425T190000
DTEND;TZID=America/New_York:20230425T201500
DTSTAMP:20260425T182908
CREATED:20221025T221303Z
LAST-MODIFIED:20221025T221303Z
UID:2623-1682449200-1682453700@madeiratroop209.com
SUMMARY:Troop Meeting
DESCRIPTION:Regular Tuesday Meeting
URL:https://madeiratroop209.com/event/troop-meeting-392/
LOCATION:Madeira-Silverwood Presbyterian Church\, 8000 Miami Avenue\, Madeira\, OH\, 45243\, United States
CATEGORIES:Meeting
END:VEVENT
BEGIN:VEVENT
DTSTART;TZID=America/New_York:20230418T190000
DTEND;TZID=America/New_York:20230418T201500
DTSTAMP:20260425T182908
CREATED:20221025T221302Z
LAST-MODIFIED:20221025T221302Z
UID:2620-1681844400-1681848900@madeiratroop209.com
SUMMARY:Troop Meeting
DESCRIPTION:Regular Tuesday Meeting
URL:https://madeiratroop209.com/event/troop-meeting-391/
LOCATION:Madeira-Silverwood Presbyterian Church\, 8000 Miami Avenue\, Madeira\, OH\, 45243\, United States
CATEGORIES:Meeting
END:VEVENT
BEGIN:VEVENT
DTSTART;TZID=America/New_York:20230411T190000
DTEND;TZID=America/New_York:20230411T201500
DTSTAMP:20260425T182908
CREATED:20221025T221301Z
LAST-MODIFIED:20221025T221301Z
UID:2619-1681239600-1681244100@madeiratroop209.com
SUMMARY:Troop Meeting
DESCRIPTION:Regular Tuesday Meeting
URL:https://madeiratroop209.com/event/troop-meeting-390/
LOCATION:Madeira-Silverwood Presbyterian Church\, 8000 Miami Avenue\, Madeira\, OH\, 45243\, United States
CATEGORIES:Meeting
END:VEVENT
BEGIN:VEVENT
DTSTART;TZID=America/New_York:20230404T190000
DTEND;TZID=America/New_York:20230404T201500
DTSTAMP:20260425T182908
CREATED:20221025T221301Z
LAST-MODIFIED:20221025T221301Z
UID:2618-1680634800-1680639300@madeiratroop209.com
SUMMARY:Troop Meeting
DESCRIPTION:Regular Tuesday Meeting
URL:https://madeiratroop209.com/event/troop-meeting-389/
LOCATION:Madeira-Silverwood Presbyterian Church\, 8000 Miami Avenue\, Madeira\, OH\, 45243\, United States
CATEGORIES:Meeting
END:VEVENT
BEGIN:VEVENT
DTSTART;TZID=America/New_York:20230404T174500
DTEND;TZID=America/New_York:20230404T190000
DTSTAMP:20260425T182908
CREATED:20221025T221306Z
LAST-MODIFIED:20221025T221306Z
UID:2627-1680630300-1680634800@madeiratroop209.com
SUMMARY:PLC Meeting
DESCRIPTION:Regular Tuesday PLC Meeting
URL:https://madeiratroop209.com/event/plc-meeting-66/
LOCATION:Madeira-Silverwood Presbyterian Church\, 8000 Miami Avenue\, Madeira\, OH\, 45243\, United States
CATEGORIES:Meeting
END:VEVENT
BEGIN:VEVENT
DTSTART;VALUE=DATE:20230328
DTEND;VALUE=DATE:20230329
DTSTAMP:20260425T182908
CREATED:20221025T221300Z
LAST-MODIFIED:20230209T154341Z
UID:2617-1679961600-1680047999@madeiratroop209.com
SUMMARY:No Troop Meeting
DESCRIPTION:No meeting due to Madeira spring break
URL:https://madeiratroop209.com/event/no-troop-meeting/
LOCATION:Madeira-Silverwood Presbyterian Church\, 8000 Miami Avenue\, Madeira\, OH\, 45243\, United States
CATEGORIES:Meeting
END:VEVENT
BEGIN:VEVENT
DTSTART;TZID=America/New_York:20230321T190000
DTEND;TZID=America/New_York:20230321T201500
DTSTAMP:20260425T182908
CREATED:20221025T221248Z
LAST-MODIFIED:20221025T221248Z
UID:2615-1679425200-1679429700@madeiratroop209.com
SUMMARY:Troop Meeting
DESCRIPTION:Regular Tuesday Meeting
URL:https://madeiratroop209.com/event/troop-meeting-388/
LOCATION:Madeira-Silverwood Presbyterian Church\, 8000 Miami Avenue\, Madeira\, OH\, 45243\, United States
CATEGORIES:Meeting
END:VEVENT
BEGIN:VEVENT
DTSTART;TZID=America/New_York:20230314T190000
DTEND;TZID=America/New_York:20230314T201500
DTSTAMP:20260425T182908
CREATED:20221025T221247Z
LAST-MODIFIED:20221025T221247Z
UID:2614-1678820400-1678824900@madeiratroop209.com
SUMMARY:Troop Meeting
DESCRIPTION:Regular Tuesday Meeting
URL:https://madeiratroop209.com/event/troop-meeting-387/
LOCATION:Madeira-Silverwood Presbyterian Church\, 8000 Miami Avenue\, Madeira\, OH\, 45243\, United States
CATEGORIES:Meeting
END:VEVENT
BEGIN:VEVENT
DTSTART;TZID=America/New_York:20230307T190000
DTEND;TZID=America/New_York:20230307T201500
DTSTAMP:20260425T182908
CREATED:20221025T221247Z
LAST-MODIFIED:20221025T221247Z
UID:2613-1678215600-1678220100@madeiratroop209.com
SUMMARY:Troop Meeting
DESCRIPTION:Regular Tuesday Meeting
URL:https://madeiratroop209.com/event/troop-meeting-386/
LOCATION:Madeira-Silverwood Presbyterian Church\, 8000 Miami Avenue\, Madeira\, OH\, 45243\, United States
CATEGORIES:Meeting
END:VEVENT
BEGIN:VEVENT
DTSTART;TZID=America/New_York:20230307T174500
DTEND;TZID=America/New_York:20230307T190000
DTSTAMP:20260425T182908
CREATED:20221025T221304Z
LAST-MODIFIED:20221025T221304Z
UID:2626-1678211100-1678215600@madeiratroop209.com
SUMMARY:PLC Meeting
DESCRIPTION:Regular Tuesday PLC Meeting
URL:https://madeiratroop209.com/event/plc-meeting-65/
LOCATION:Madeira-Silverwood Presbyterian Church\, 8000 Miami Avenue\, Madeira\, OH\, 45243\, United States
CATEGORIES:Meeting
END:VEVENT
BEGIN:VEVENT
DTSTART;TZID=America/New_York:20230228T190000
DTEND;TZID=America/New_York:20230228T201500
DTSTAMP:20260425T182908
CREATED:20221025T221246Z
LAST-MODIFIED:20221025T221246Z
UID:2612-1677610800-1677615300@madeiratroop209.com
SUMMARY:Troop Meeting
DESCRIPTION:Regular Tuesday Meeting
URL:https://madeiratroop209.com/event/troop-meeting-385/
LOCATION:Madeira-Silverwood Presbyterian Church\, 8000 Miami Avenue\, Madeira\, OH\, 45243\, United States
CATEGORIES:Meeting
END:VEVENT
BEGIN:VEVENT
DTSTART;VALUE=DATE:20230226
DTEND;VALUE=DATE:20230227
DTSTAMP:20260425T182908
CREATED:20230211T170636Z
LAST-MODIFIED:20230211T170648Z
UID:2783-1677369600-1677455999@madeiratroop209.com
SUMMARY:AOL Crossover
DESCRIPTION:Time and location TBD
URL:https://madeiratroop209.com/event/aol-crossover/
LOCATION:Madeira-Silverwood Presbyterian Church\, 8000 Miami Avenue\, Madeira\, OH\, 45243\, United States
CATEGORIES:Meeting
END:VEVENT
BEGIN:VEVENT
DTSTART;TZID=America/New_York:20230221T190000
DTEND;TZID=America/New_York:20230221T201500
DTSTAMP:20260425T182908
CREATED:20221025T221245Z
LAST-MODIFIED:20221025T221245Z
UID:2611-1677006000-1677010500@madeiratroop209.com
SUMMARY:Troop Meeting
DESCRIPTION:Regular Tuesday Meeting
URL:https://madeiratroop209.com/event/troop-meeting-384/
LOCATION:Madeira-Silverwood Presbyterian Church\, 8000 Miami Avenue\, Madeira\, OH\, 45243\, United States
CATEGORIES:Meeting
END:VEVENT
BEGIN:VEVENT
DTSTART;TZID=America/New_York:20230214T190000
DTEND;TZID=America/New_York:20230214T201500
DTSTAMP:20260425T182908
CREATED:20221025T221232Z
LAST-MODIFIED:20221025T221232Z
UID:2610-1676401200-1676405700@madeiratroop209.com
SUMMARY:Troop Meeting
DESCRIPTION:Regular Tuesday Meeting
URL:https://madeiratroop209.com/event/troop-meeting-383/
LOCATION:Madeira-Silverwood Presbyterian Church\, 8000 Miami Avenue\, Madeira\, OH\, 45243\, United States
CATEGORIES:Meeting
END:VEVENT
BEGIN:VEVENT
DTSTART;TZID=America/New_York:20230207T190000
DTEND;TZID=America/New_York:20230207T201500
DTSTAMP:20260425T182908
CREATED:20221025T221232Z
LAST-MODIFIED:20221025T221232Z
UID:2609-1675796400-1675800900@madeiratroop209.com
SUMMARY:Troop Meeting
DESCRIPTION:Regular Tuesday Meeting
URL:https://madeiratroop209.com/event/troop-meeting-382/
LOCATION:Madeira-Silverwood Presbyterian Church\, 8000 Miami Avenue\, Madeira\, OH\, 45243\, United States
CATEGORIES:Meeting
END:VEVENT
BEGIN:VEVENT
DTSTART;TZID=America/New_York:20230207T174500
DTEND;TZID=America/New_York:20230207T190000
DTSTAMP:20260425T182908
CREATED:20221025T221303Z
LAST-MODIFIED:20221025T221303Z
UID:2625-1675791900-1675796400@madeiratroop209.com
SUMMARY:PLC Meeting
DESCRIPTION:Regular Tuesday PLC Meeting
URL:https://madeiratroop209.com/event/plc-meeting-64/
LOCATION:Madeira-Silverwood Presbyterian Church\, 8000 Miami Avenue\, Madeira\, OH\, 45243\, United States
CATEGORIES:Meeting
END:VEVENT
BEGIN:VEVENT
DTSTART;TZID=America/New_York:20230131T190000
DTEND;TZID=America/New_York:20230131T201500
DTSTAMP:20260425T182908
CREATED:20221025T221232Z
LAST-MODIFIED:20221025T221232Z
UID:2608-1675191600-1675196100@madeiratroop209.com
SUMMARY:Troop Meeting
DESCRIPTION:Regular Tuesday Meeting
URL:https://madeiratroop209.com/event/troop-meeting-381/
LOCATION:Madeira-Silverwood Presbyterian Church\, 8000 Miami Avenue\, Madeira\, OH\, 45243\, United States
CATEGORIES:Meeting
END:VEVENT
BEGIN:VEVENT
DTSTART;TZID=America/New_York:20230124T190000
DTEND;TZID=America/New_York:20230124T201500
DTSTAMP:20260425T182908
CREATED:20221025T221955Z
LAST-MODIFIED:20221025T221955Z
UID:2662-1674586800-1674591300@madeiratroop209.com
SUMMARY:Court of Honor
DESCRIPTION:Family is invited to join us celebrating our Scouts’ accomplishments
URL:https://madeiratroop209.com/event/court-of-honor-8/
LOCATION:Madeira-Silverwood Presbyterian Church\, 8000 Miami Avenue\, Madeira\, OH\, 45243\, United States
CATEGORIES:Meeting
END:VEVENT
BEGIN:VEVENT
DTSTART;TZID=America/New_York:20230117T190000
DTEND;TZID=America/New_York:20230117T201500
DTSTAMP:20260425T182908
CREATED:20221025T221230Z
LAST-MODIFIED:20221025T221230Z
UID:2606-1673982000-1673986500@madeiratroop209.com
SUMMARY:Troop Meeting
DESCRIPTION:Regular Tuesday Meeting
URL:https://madeiratroop209.com/event/troop-meeting-380/
LOCATION:Madeira-Silverwood Presbyterian Church\, 8000 Miami Avenue\, Madeira\, OH\, 45243\, United States
CATEGORIES:Meeting
END:VEVENT
BEGIN:VEVENT
DTSTART;TZID=America/New_York:20230110T190000
DTEND;TZID=America/New_York:20230110T201500
DTSTAMP:20260425T182908
CREATED:20221025T221217Z
LAST-MODIFIED:20221025T221217Z
UID:2605-1673377200-1673381700@madeiratroop209.com
SUMMARY:Troop Meeting
DESCRIPTION:Regular Tuesday Meeting
URL:https://madeiratroop209.com/event/troop-meeting-379/
LOCATION:Madeira-Silverwood Presbyterian Church\, 8000 Miami Avenue\, Madeira\, OH\, 45243\, United States
CATEGORIES:Meeting
END:VEVENT
BEGIN:VEVENT
DTSTART;TZID=America/New_York:20230103T190000
DTEND;TZID=America/New_York:20230103T201500
DTSTAMP:20260425T182908
CREATED:20221025T221216Z
LAST-MODIFIED:20221025T221216Z
UID:2604-1672772400-1672776900@madeiratroop209.com
SUMMARY:Troop Meeting
DESCRIPTION:Regular Tuesday Meeting
URL:https://madeiratroop209.com/event/troop-meeting-378/
LOCATION:Madeira-Silverwood Presbyterian Church\, 8000 Miami Avenue\, Madeira\, OH\, 45243\, United States
CATEGORIES:Meeting
END:VEVENT
BEGIN:VEVENT
DTSTART;TZID=America/New_York:20230103T174500
DTEND;TZID=America/New_York:20230103T190000
DTSTAMP:20260425T182908
CREATED:20221025T221303Z
LAST-MODIFIED:20221025T221303Z
UID:2624-1672767900-1672772400@madeiratroop209.com
SUMMARY:PLC Meeting
DESCRIPTION:Regular Tuesday PLC Meeting
URL:https://madeiratroop209.com/event/plc-meeting-63/
LOCATION:Madeira-Silverwood Presbyterian Church\, 8000 Miami Avenue\, Madeira\, OH\, 45243\, United States
CATEGORIES:Meeting
END:VEVENT
BEGIN:VEVENT
DTSTART;TZID=America/New_York:20221227T190000
DTEND;TZID=America/New_York:20221227T201500
DTSTAMP:20260425T182908
CREATED:20221025T221216Z
LAST-MODIFIED:20221025T221216Z
UID:2603-1672167600-1672172100@madeiratroop209.com
SUMMARY:Troop Meeting
DESCRIPTION:Regular Tuesday Meeting
URL:https://madeiratroop209.com/event/troop-meeting-377/
LOCATION:Madeira-Silverwood Presbyterian Church\, 8000 Miami Avenue\, Madeira\, OH\, 45243\, United States
CATEGORIES:Meeting
END:VEVENT
BEGIN:VEVENT
DTSTART;TZID=America/New_York:20221220T190000
DTEND;TZID=America/New_York:20221220T201500
DTSTAMP:20260425T182908
CREATED:20221025T221215Z
LAST-MODIFIED:20221025T221215Z
UID:2602-1671562800-1671567300@madeiratroop209.com
SUMMARY:Troop Meeting
DESCRIPTION:Regular Tuesday Meeting
URL:https://madeiratroop209.com/event/troop-meeting-376/
LOCATION:Madeira-Silverwood Presbyterian Church\, 8000 Miami Avenue\, Madeira\, OH\, 45243\, United States
CATEGORIES:Meeting
END:VEVENT
END:VCALENDAR