BEGIN:VCALENDAR
VERSION:2.0
PRODID:-//Troop 209 - ECPv6.15.16.1//NONSGML v1.0//EN
CALSCALE:GREGORIAN
METHOD:PUBLISH
X-WR-CALNAME:Troop 209
X-ORIGINAL-URL:https://madeiratroop209.com
X-WR-CALDESC:Events for Troop 209
REFRESH-INTERVAL;VALUE=DURATION:PT1H
X-Robots-Tag:noindex
X-PUBLISHED-TTL:PT1H
BEGIN:VTIMEZONE
TZID:America/New_York
BEGIN:DAYLIGHT
TZOFFSETFROM:-0500
TZOFFSETTO:-0400
TZNAME:EDT
DTSTART:20180311T070000
END:DAYLIGHT
BEGIN:STANDARD
TZOFFSETFROM:-0400
TZOFFSETTO:-0500
TZNAME:EST
DTSTART:20181104T060000
END:STANDARD
BEGIN:DAYLIGHT
TZOFFSETFROM:-0500
TZOFFSETTO:-0400
TZNAME:EDT
DTSTART:20190310T070000
END:DAYLIGHT
BEGIN:STANDARD
TZOFFSETFROM:-0400
TZOFFSETTO:-0500
TZNAME:EST
DTSTART:20191103T060000
END:STANDARD
BEGIN:DAYLIGHT
TZOFFSETFROM:-0500
TZOFFSETTO:-0400
TZNAME:EDT
DTSTART:20200308T070000
END:DAYLIGHT
BEGIN:STANDARD
TZOFFSETFROM:-0400
TZOFFSETTO:-0500
TZNAME:EST
DTSTART:20201101T060000
END:STANDARD
BEGIN:DAYLIGHT
TZOFFSETFROM:-0500
TZOFFSETTO:-0400
TZNAME:EDT
DTSTART:20210314T070000
END:DAYLIGHT
BEGIN:STANDARD
TZOFFSETFROM:-0400
TZOFFSETTO:-0500
TZNAME:EST
DTSTART:20211107T060000
END:STANDARD
BEGIN:DAYLIGHT
TZOFFSETFROM:-0500
TZOFFSETTO:-0400
TZNAME:EDT
DTSTART:20220313T070000
END:DAYLIGHT
BEGIN:STANDARD
TZOFFSETFROM:-0400
TZOFFSETTO:-0500
TZNAME:EST
DTSTART:20221106T060000
END:STANDARD
BEGIN:DAYLIGHT
TZOFFSETFROM:-0500
TZOFFSETTO:-0400
TZNAME:EDT
DTSTART:20230312T070000
END:DAYLIGHT
BEGIN:STANDARD
TZOFFSETFROM:-0400
TZOFFSETTO:-0500
TZNAME:EST
DTSTART:20231105T060000
END:STANDARD
BEGIN:DAYLIGHT
TZOFFSETFROM:-0500
TZOFFSETTO:-0400
TZNAME:EDT
DTSTART:20240310T070000
END:DAYLIGHT
BEGIN:STANDARD
TZOFFSETFROM:-0400
TZOFFSETTO:-0500
TZNAME:EST
DTSTART:20241103T060000
END:STANDARD
END:VTIMEZONE
BEGIN:VEVENT
DTSTART;TZID=America/New_York:20230422T073000
DTEND;TZID=America/New_York:20230422T170000
DTSTAMP:20260424T233342
CREATED:20221025T221458Z
LAST-MODIFIED:20230418T152810Z
UID:2647-1682148600-1682182800@madeiratroop209.com
SUMMARY:Mulch Delivery Day
DESCRIPTION:Mulch day is one of my favorites days of the year and it is coming up this Saturday!  Thanks to  our hard work\, we have a bunch of mulch to deliver.  We do this rain\, sleet\, snow or shine so come prepared! \nDay: Saturday April 22\n \nTime: 7:30am until we are done\, should be done by dinner time for most.\n \nWhy: A scout and a parent/adult are required to deliver mulch\, it is 2/3 of the mulch calculation.\n \nWhat you should wear: Old clothes you don’t care about\, as you will get dirty.   DO NOT wear your Class A or Class B scout uniform (they will get ruined).   Also bring gloves\, sun protection\, and a full water bottle.
URL:https://madeiratroop209.com/event/mulch-delivery-day-4/
LOCATION:Madeira-Silverwood Presbyterian Church\, 8000 Miami Avenue\, Madeira\, OH\, 45243\, United States
CATEGORIES:Service
END:VEVENT
BEGIN:VEVENT
DTSTART;TZID=America/New_York:20230212T084500
DTEND;TZID=America/New_York:20230212T120000
DTSTAMP:20260424T233342
CREATED:20221025T221458Z
LAST-MODIFIED:20230209T154047Z
UID:2646-1676191500-1676203200@madeiratroop209.com
SUMMARY:Scout Sunday
DESCRIPTION:We need everyone’s attendance to make it a success!  This is our time to thank Madeira-Silverwood Presbyterian Church for all the support they provide us during the year.  Please plan to attend from 8:45am-12:00 Noon to support the activities for the morning.  All scouts are required to wear their Class A uniforms.\n\n\n\n\n\n\n9am service – We’ll need 2 scouts to read during the worship service.   Everyone else will either attend the service for support or help set-up for breakfast.\n\n10am pancake breakfast – We need all scouts to help prepare\, serve\, and clean-up.\n\n\n\n11am service – We’ll need 2 scouts to read during the worship service.  Others will attend the service for support or clean-up from breakfast.\n \nEveryone that participates during Scout Sunday will get a special Scout Sunday patch\, designed by our scout Shane S.
URL:https://madeiratroop209.com/event/scout-sunday-5/
LOCATION:Madeira-Silverwood Presbyterian Church\, 8000 Miami Avenue\, Madeira\, OH\, 45243\, United States
CATEGORIES:Service
END:VEVENT
BEGIN:VEVENT
DTSTART;VALUE=DATE:20221203
DTEND;VALUE=DATE:20221204
DTSTAMP:20260424T233342
CREATED:20221025T221457Z
LAST-MODIFIED:20221025T221457Z
UID:2645-1670025600-1670111999@madeiratroop209.com
SUMMARY:Light up Madeira
DESCRIPTION:
URL:https://madeiratroop209.com/event/light-up-madeira-3/
LOCATION:Madeira-Silverwood Presbyterian Church\, 8000 Miami Avenue\, Madeira\, OH\, 45243\, United States
CATEGORIES:Service
END:VEVENT
BEGIN:VEVENT
DTSTART;VALUE=DATE:20220430
DTEND;VALUE=DATE:20220501
DTSTAMP:20260424T233342
CREATED:20211004T002118Z
LAST-MODIFIED:20220221T151854Z
UID:2536-1651276800-1651363199@madeiratroop209.com
SUMMARY:Mulch Delivery Day
DESCRIPTION:
URL:https://madeiratroop209.com/event/mulch-delivery-day-3/
LOCATION:Madeira-Silverwood Presbyterian Church\, 8000 Miami Avenue\, Madeira\, OH\, 45243\, United States
CATEGORIES:Service
END:VEVENT
BEGIN:VEVENT
DTSTART;TZID=America/New_York:20220213T090000
DTEND;TZID=America/New_York:20220213T120000
DTSTAMP:20260424T233342
CREATED:20211004T002117Z
LAST-MODIFIED:20220206T191145Z
UID:2535-1644742800-1644753600@madeiratroop209.com
SUMMARY:Scout Sunday
DESCRIPTION:
URL:https://madeiratroop209.com/event/scout-sunday-4/
LOCATION:Madeira-Silverwood Presbyterian Church\, 8000 Miami Avenue\, Madeira\, OH\, 45243\, United States
CATEGORIES:Service
END:VEVENT
BEGIN:VEVENT
DTSTART;VALUE=DATE:20211204
DTEND;VALUE=DATE:20211205
DTSTAMP:20260424T233342
CREATED:20211004T002117Z
LAST-MODIFIED:20211004T002250Z
UID:2534-1638576000-1638662399@madeiratroop209.com
SUMMARY:Light up Madeira
DESCRIPTION:
URL:https://madeiratroop209.com/event/light-up-madeira-2/
LOCATION:Madeira-Silverwood Presbyterian Church\, 8000 Miami Avenue\, Madeira\, OH\, 45243\, United States
CATEGORIES:Service
END:VEVENT
BEGIN:VEVENT
DTSTART;VALUE=DATE:20191213
DTEND;VALUE=DATE:20191215
DTSTAMP:20260424T233342
CREATED:20191024T000501Z
LAST-MODIFIED:20191024T001227Z
UID:2069-1576195200-1576367999@madeiratroop209.com
SUMMARY:Lock in @ MSPC
DESCRIPTION:
URL:https://madeiratroop209.com/event/lock-in-mspc/
LOCATION:Madeira-Silverwood Presbyterian Church\, 8000 Miami Avenue\, Madeira\, OH\, 45243\, United States
CATEGORIES:Service
END:VEVENT
END:VCALENDAR