BEGIN:VCALENDAR
VERSION:2.0
PRODID:-//Troop 209 - ECPv6.15.16.1//NONSGML v1.0//EN
CALSCALE:GREGORIAN
METHOD:PUBLISH
X-ORIGINAL-URL:https://madeiratroop209.com
X-WR-CALDESC:Events for Troop 209
REFRESH-INTERVAL;VALUE=DURATION:PT1H
X-Robots-Tag:noindex
X-PUBLISHED-TTL:PT1H
BEGIN:VTIMEZONE
TZID:America/New_York
BEGIN:DAYLIGHT
TZOFFSETFROM:-0500
TZOFFSETTO:-0400
TZNAME:EDT
DTSTART:20240310T070000
END:DAYLIGHT
BEGIN:STANDARD
TZOFFSETFROM:-0400
TZOFFSETTO:-0500
TZNAME:EST
DTSTART:20241103T060000
END:STANDARD
BEGIN:DAYLIGHT
TZOFFSETFROM:-0500
TZOFFSETTO:-0400
TZNAME:EDT
DTSTART:20250309T070000
END:DAYLIGHT
BEGIN:STANDARD
TZOFFSETFROM:-0400
TZOFFSETTO:-0500
TZNAME:EST
DTSTART:20251102T060000
END:STANDARD
BEGIN:DAYLIGHT
TZOFFSETFROM:-0500
TZOFFSETTO:-0400
TZNAME:EDT
DTSTART:20260308T070000
END:DAYLIGHT
BEGIN:STANDARD
TZOFFSETFROM:-0400
TZOFFSETTO:-0500
TZNAME:EST
DTSTART:20261101T060000
END:STANDARD
END:VTIMEZONE
BEGIN:VEVENT
DTSTART;TZID=America/New_York:20250513T190000
DTEND;TZID=America/New_York:20250513T201500
DTSTAMP:20260425T094941
CREATED:20241020T001743Z
LAST-MODIFIED:20241020T001743Z
UID:3354-1747162800-1747167300@madeiratroop209.com
SUMMARY:Troop Meeting
DESCRIPTION:
URL:https://madeiratroop209.com/event/troop-meeting-23/
LOCATION:Madeira-Silverwood Presbyterian Church\, 8000 Miami Avenue\, Madeira\, OH\, 45243\, United States
CATEGORIES:Meeting
END:VEVENT
BEGIN:VEVENT
DTSTART;TZID=America/New_York:20250516T090000
DTEND;TZID=America/New_York:20250518T170000
DTSTAMP:20260425T094941
CREATED:20241020T001515Z
LAST-MODIFIED:20241020T001515Z
UID:3320-1747386000-1747587600@madeiratroop209.com
SUMMARY:Camp out: Mega Cavern Ziplines
DESCRIPTION:
URL:https://madeiratroop209.com/event/camp-out-mega-cavern-ziplines/
LOCATION:Madeira-Silverwood Presbyterian Church\, 8000 Miami Avenue\, Madeira\, OH\, 45243\, United States
CATEGORIES:Camping Trips
END:VEVENT
BEGIN:VEVENT
DTSTART;TZID=America/New_York:20250520T190000
DTEND;TZID=America/New_York:20250520T201500
DTSTAMP:20260425T094941
CREATED:20241020T001743Z
LAST-MODIFIED:20241020T001743Z
UID:3355-1747767600-1747772100@madeiratroop209.com
SUMMARY:Troop Meeting
DESCRIPTION:
URL:https://madeiratroop209.com/event/troop-meeting-24/
LOCATION:Madeira-Silverwood Presbyterian Church\, 8000 Miami Avenue\, Madeira\, OH\, 45243\, United States
CATEGORIES:Meeting
END:VEVENT
BEGIN:VEVENT
DTSTART;TZID=America/New_York:20250527T190000
DTEND;TZID=America/New_York:20250527T201500
DTSTAMP:20260425T094941
CREATED:20241020T001744Z
LAST-MODIFIED:20241020T001744Z
UID:3356-1748372400-1748376900@madeiratroop209.com
SUMMARY:Troop Meeting
DESCRIPTION:
URL:https://madeiratroop209.com/event/troop-meeting-25/
LOCATION:Madeira-Silverwood Presbyterian Church\, 8000 Miami Avenue\, Madeira\, OH\, 45243\, United States
CATEGORIES:Meeting
END:VEVENT
BEGIN:VEVENT
DTSTART;TZID=America/New_York:20250603T174500
DTEND;TZID=America/New_York:20250603T190000
DTSTAMP:20260425T094941
CREATED:20241020T001403Z
LAST-MODIFIED:20241020T001403Z
UID:3309-1748972700-1748977200@madeiratroop209.com
SUMMARY:PLC Meeting
DESCRIPTION:Regular Tuesday PLC Meeting
URL:https://madeiratroop209.com/event/plc-meeting-8/
LOCATION:Madeira-Silverwood Presbyterian Church\, 8000 Miami Avenue\, Madeira\, OH\, 45243\, United States
CATEGORIES:Meeting
END:VEVENT
BEGIN:VEVENT
DTSTART;TZID=America/New_York:20250603T190000
DTEND;TZID=America/New_York:20250603T201500
DTSTAMP:20260425T094941
CREATED:20241020T001758Z
LAST-MODIFIED:20241020T001758Z
UID:3357-1748977200-1748981700@madeiratroop209.com
SUMMARY:Troop Meeting
DESCRIPTION:
URL:https://madeiratroop209.com/event/troop-meeting-26/
LOCATION:Madeira-Silverwood Presbyterian Church\, 8000 Miami Avenue\, Madeira\, OH\, 45243\, United States
CATEGORIES:Meeting
END:VEVENT
BEGIN:VEVENT
DTSTART;TZID=America/New_York:20250610T190000
DTEND;TZID=America/New_York:20250610T201500
DTSTAMP:20260425T094941
CREATED:20241020T001758Z
LAST-MODIFIED:20241020T001758Z
UID:3358-1749582000-1749586500@madeiratroop209.com
SUMMARY:Troop Meeting
DESCRIPTION:
URL:https://madeiratroop209.com/event/troop-meeting-27/
LOCATION:Madeira-Silverwood Presbyterian Church\, 8000 Miami Avenue\, Madeira\, OH\, 45243\, United States
CATEGORIES:Meeting
END:VEVENT
BEGIN:VEVENT
DTSTART;TZID=America/New_York:20250617T190000
DTEND;TZID=America/New_York:20250617T201500
DTSTAMP:20260425T094941
CREATED:20241020T001758Z
LAST-MODIFIED:20241020T001758Z
UID:3359-1750186800-1750191300@madeiratroop209.com
SUMMARY:Troop Meeting
DESCRIPTION:
URL:https://madeiratroop209.com/event/troop-meeting-28/
LOCATION:Madeira-Silverwood Presbyterian Church\, 8000 Miami Avenue\, Madeira\, OH\, 45243\, United States
CATEGORIES:Meeting
END:VEVENT
BEGIN:VEVENT
DTSTART;TZID=America/New_York:20250620T163000
DTEND;TZID=America/New_York:20250622T100000
DTSTAMP:20260425T094941
CREATED:20241020T001517Z
LAST-MODIFIED:20241020T001517Z
UID:3321-1750437000-1750586400@madeiratroop209.com
SUMMARY:Camp out: Via Ferrata
DESCRIPTION:
URL:https://madeiratroop209.com/event/camp-out-via-ferrata/
LOCATION:Madeira-Silverwood Presbyterian Church\, 8000 Miami Avenue\, Madeira\, OH\, 45243\, United States
CATEGORIES:Camping Trips
END:VEVENT
BEGIN:VEVENT
DTSTART;TZID=America/New_York:20250624T190000
DTEND;TZID=America/New_York:20250624T201500
DTSTAMP:20260425T094941
CREATED:20241020T001758Z
LAST-MODIFIED:20241020T001758Z
UID:3360-1750791600-1750796100@madeiratroop209.com
SUMMARY:Troop Meeting
DESCRIPTION:
URL:https://madeiratroop209.com/event/troop-meeting-29/
LOCATION:Madeira-Silverwood Presbyterian Church\, 8000 Miami Avenue\, Madeira\, OH\, 45243\, United States
CATEGORIES:Meeting
END:VEVENT
BEGIN:VEVENT
DTSTART;TZID=America/New_York:20250701T174500
DTEND;TZID=America/New_York:20250701T190000
DTSTAMP:20260425T094941
CREATED:20241020T001403Z
LAST-MODIFIED:20241020T001403Z
UID:3310-1751391900-1751396400@madeiratroop209.com
SUMMARY:PLC Meeting
DESCRIPTION:Regular Tuesday PLC Meeting
URL:https://madeiratroop209.com/event/plc-meeting-9/
LOCATION:Madeira-Silverwood Presbyterian Church\, 8000 Miami Avenue\, Madeira\, OH\, 45243\, United States
CATEGORIES:Meeting
END:VEVENT
BEGIN:VEVENT
DTSTART;TZID=America/New_York:20250701T190000
DTEND;TZID=America/New_York:20250701T201500
DTSTAMP:20260425T094941
CREATED:20241020T001758Z
LAST-MODIFIED:20241020T001758Z
UID:3361-1751396400-1751400900@madeiratroop209.com
SUMMARY:Troop Meeting
DESCRIPTION:
URL:https://madeiratroop209.com/event/troop-meeting-30/
LOCATION:Madeira-Silverwood Presbyterian Church\, 8000 Miami Avenue\, Madeira\, OH\, 45243\, United States
CATEGORIES:Meeting
END:VEVENT
BEGIN:VEVENT
DTSTART;TZID=America/New_York:20250706T120000
DTEND;TZID=America/New_York:20250712T110000
DTSTAMP:20260425T094941
CREATED:20241020T001518Z
LAST-MODIFIED:20241020T001518Z
UID:3322-1751803200-1752318000@madeiratroop209.com
SUMMARY:Summer Camp
DESCRIPTION:
URL:https://madeiratroop209.com/event/summer-camp-2/
LOCATION:Madeira-Silverwood Presbyterian Church\, 8000 Miami Avenue\, Madeira\, OH\, 45243\, United States
CATEGORIES:Camping Trips
END:VEVENT
BEGIN:VEVENT
DTSTART;VALUE=DATE:20250708
DTEND;VALUE=DATE:20250709
DTSTAMP:20260425T094941
CREATED:20241020T001813Z
LAST-MODIFIED:20241020T001813Z
UID:3362-1751932800-1752019199@madeiratroop209.com
SUMMARY:No Troop Meeting
DESCRIPTION:We are at summer camp
URL:https://madeiratroop209.com/event/no-troop-meeting-11/
LOCATION:Madeira-Silverwood Presbyterian Church\, 8000 Miami Avenue\, Madeira\, OH\, 45243\, United States
CATEGORIES:Meeting
END:VEVENT
BEGIN:VEVENT
DTSTART;VALUE=DATE:20250715
DTEND;VALUE=DATE:20250716
DTSTAMP:20260425T094941
CREATED:20241020T001813Z
LAST-MODIFIED:20241020T001813Z
UID:3363-1752537600-1752623999@madeiratroop209.com
SUMMARY:No Troop Meeting
DESCRIPTION:No meeting summer break schedule
URL:https://madeiratroop209.com/event/no-troop-meeting-12/
LOCATION:Madeira-Silverwood Presbyterian Church\, 8000 Miami Avenue\, Madeira\, OH\, 45243\, United States
CATEGORIES:Meeting
END:VEVENT
BEGIN:VEVENT
DTSTART;TZID=America/New_York:20250722T190000
DTEND;TZID=America/New_York:20250722T201500
DTSTAMP:20260425T094941
CREATED:20241020T001813Z
LAST-MODIFIED:20241020T001813Z
UID:3364-1753210800-1753215300@madeiratroop209.com
SUMMARY:Troop Meeting
DESCRIPTION:
URL:https://madeiratroop209.com/event/troop-meeting-31/
LOCATION:Madeira-Silverwood Presbyterian Church\, 8000 Miami Avenue\, Madeira\, OH\, 45243\, United States
CATEGORIES:Meeting
END:VEVENT
BEGIN:VEVENT
DTSTART;VALUE=DATE:20250729
DTEND;VALUE=DATE:20250730
DTSTAMP:20260425T094941
CREATED:20241020T001813Z
LAST-MODIFIED:20241020T001813Z
UID:3365-1753747200-1753833599@madeiratroop209.com
SUMMARY:No Troop Meeting
DESCRIPTION:No meeting summer break schedule
URL:https://madeiratroop209.com/event/no-troop-meeting-13/
LOCATION:Madeira-Silverwood Presbyterian Church\, 8000 Miami Avenue\, Madeira\, OH\, 45243\, United States
CATEGORIES:Meeting
END:VEVENT
BEGIN:VEVENT
DTSTART;TZID=America/New_York:20250805T174500
DTEND;TZID=America/New_York:20250805T190000
DTSTAMP:20260425T094941
CREATED:20241020T001404Z
LAST-MODIFIED:20241020T001404Z
UID:3311-1754415900-1754420400@madeiratroop209.com
SUMMARY:PLC Meeting
DESCRIPTION:Regular Tuesday PLC Meeting
URL:https://madeiratroop209.com/event/plc-meeting-10/
LOCATION:Madeira-Silverwood Presbyterian Church\, 8000 Miami Avenue\, Madeira\, OH\, 45243\, United States
CATEGORIES:Meeting
END:VEVENT
BEGIN:VEVENT
DTSTART;TZID=America/New_York:20250805T190000
DTEND;TZID=America/New_York:20250805T201500
DTSTAMP:20260425T094941
CREATED:20241020T001814Z
LAST-MODIFIED:20241020T001814Z
UID:3366-1754420400-1754424900@madeiratroop209.com
SUMMARY:Troop Meeting
DESCRIPTION:
URL:https://madeiratroop209.com/event/troop-meeting-32/
LOCATION:Madeira-Silverwood Presbyterian Church\, 8000 Miami Avenue\, Madeira\, OH\, 45243\, United States
CATEGORIES:Meeting
END:VEVENT
BEGIN:VEVENT
DTSTART;TZID=America/New_York:20250812T190000
DTEND;TZID=America/New_York:20250812T201500
DTSTAMP:20260425T094941
CREATED:20241020T001828Z
LAST-MODIFIED:20241020T001828Z
UID:3367-1755025200-1755029700@madeiratroop209.com
SUMMARY:Troop Meeting
DESCRIPTION:
URL:https://madeiratroop209.com/event/troop-meeting-33/
LOCATION:Madeira-Silverwood Presbyterian Church\, 8000 Miami Avenue\, Madeira\, OH\, 45243\, United States
CATEGORIES:Meeting
END:VEVENT
BEGIN:VEVENT
DTSTART;TZID=America/New_York:20250815T163000
DTEND;TZID=America/New_York:20250817T100000
DTSTAMP:20260425T094941
CREATED:20241020T001518Z
LAST-MODIFIED:20241020T001518Z
UID:3323-1755275400-1755424800@madeiratroop209.com
SUMMARY:Camp out: River Actitity
DESCRIPTION:
URL:https://madeiratroop209.com/event/camp-out-river-actitity/
LOCATION:Madeira-Silverwood Presbyterian Church\, 8000 Miami Avenue\, Madeira\, OH\, 45243\, United States
CATEGORIES:Camping Trips
END:VEVENT
BEGIN:VEVENT
DTSTART;TZID=America/New_York:20250819T190000
DTEND;TZID=America/New_York:20250819T201500
DTSTAMP:20260425T094941
CREATED:20241020T001828Z
LAST-MODIFIED:20241020T001828Z
UID:3368-1755630000-1755634500@madeiratroop209.com
SUMMARY:Troop Meeting
DESCRIPTION:
URL:https://madeiratroop209.com/event/troop-meeting-34/
LOCATION:Madeira-Silverwood Presbyterian Church\, 8000 Miami Avenue\, Madeira\, OH\, 45243\, United States
CATEGORIES:Meeting
END:VEVENT
BEGIN:VEVENT
DTSTART;TZID=America/New_York:20250826T190000
DTEND;TZID=America/New_York:20250826T201500
DTSTAMP:20260425T094941
CREATED:20241020T001828Z
LAST-MODIFIED:20241020T001828Z
UID:3369-1756234800-1756239300@madeiratroop209.com
SUMMARY:Troop Meeting
DESCRIPTION:
URL:https://madeiratroop209.com/event/troop-meeting-35/
LOCATION:Madeira-Silverwood Presbyterian Church\, 8000 Miami Avenue\, Madeira\, OH\, 45243\, United States
CATEGORIES:Meeting
END:VEVENT
BEGIN:VEVENT
DTSTART;TZID=America/New_York:20250902T174500
DTEND;TZID=America/New_York:20250902T190000
DTSTAMP:20260425T094941
CREATED:20241020T001418Z
LAST-MODIFIED:20241020T001418Z
UID:3312-1756835100-1756839600@madeiratroop209.com
SUMMARY:PLC Meeting
DESCRIPTION:Regular Tuesday PLC Meeting
URL:https://madeiratroop209.com/event/plc-meeting-11/
LOCATION:Madeira-Silverwood Presbyterian Church\, 8000 Miami Avenue\, Madeira\, OH\, 45243\, United States
CATEGORIES:Meeting
END:VEVENT
BEGIN:VEVENT
DTSTART;TZID=America/New_York:20250902T190000
DTEND;TZID=America/New_York:20250902T201500
DTSTAMP:20260425T094941
CREATED:20241020T001828Z
LAST-MODIFIED:20241020T001828Z
UID:3370-1756839600-1756844100@madeiratroop209.com
SUMMARY:Troop Meeting
DESCRIPTION:
URL:https://madeiratroop209.com/event/troop-meeting-36/
LOCATION:Madeira-Silverwood Presbyterian Church\, 8000 Miami Avenue\, Madeira\, OH\, 45243\, United States
CATEGORIES:Meeting
END:VEVENT
BEGIN:VEVENT
DTSTART;TZID=America/New_York:20250909T190000
DTEND;TZID=America/New_York:20250909T201500
DTSTAMP:20260425T094941
CREATED:20241020T001829Z
LAST-MODIFIED:20241020T001829Z
UID:3371-1757444400-1757448900@madeiratroop209.com
SUMMARY:Troop Meeting
DESCRIPTION:
URL:https://madeiratroop209.com/event/troop-meeting-37/
LOCATION:Madeira-Silverwood Presbyterian Church\, 8000 Miami Avenue\, Madeira\, OH\, 45243\, United States
CATEGORIES:Meeting
END:VEVENT
BEGIN:VEVENT
DTSTART;TZID=America/New_York:20250916T190000
DTEND;TZID=America/New_York:20250916T201500
DTSTAMP:20260425T094941
CREATED:20241020T001843Z
LAST-MODIFIED:20241020T001843Z
UID:3372-1758049200-1758053700@madeiratroop209.com
SUMMARY:Troop Meeting
DESCRIPTION:
URL:https://madeiratroop209.com/event/troop-meeting-38/
LOCATION:Madeira-Silverwood Presbyterian Church\, 8000 Miami Avenue\, Madeira\, OH\, 45243\, United States
CATEGORIES:Meeting
END:VEVENT
BEGIN:VEVENT
DTSTART;TZID=America/New_York:20250919T163000
DTEND;TZID=America/New_York:20250921T100000
DTSTAMP:20260425T094941
CREATED:20241020T001518Z
LAST-MODIFIED:20241020T001518Z
UID:3324-1758299400-1758448800@madeiratroop209.com
SUMMARY:Camp out: Horseback Riding
DESCRIPTION:
URL:https://madeiratroop209.com/event/camp-out-horseback-riding/
LOCATION:Madeira-Silverwood Presbyterian Church\, 8000 Miami Avenue\, Madeira\, OH\, 45243\, United States
CATEGORIES:Camping Trips
END:VEVENT
BEGIN:VEVENT
DTSTART;TZID=America/New_York:20250923T190000
DTEND;TZID=America/New_York:20250923T201500
DTSTAMP:20260425T094941
CREATED:20241020T001843Z
LAST-MODIFIED:20241020T001843Z
UID:3373-1758654000-1758658500@madeiratroop209.com
SUMMARY:Court of Honor
DESCRIPTION:Family is invited to join us celebrating our Scouts’ accomplishments
URL:https://madeiratroop209.com/event/court-of-honor-3/
LOCATION:Madeira-Silverwood Presbyterian Church\, 8000 Miami Avenue\, Madeira\, OH\, 45243\, United States
CATEGORIES:Meeting
END:VEVENT
BEGIN:VEVENT
DTSTART;TZID=America/New_York:20250930T190000
DTEND;TZID=America/New_York:20250930T201500
DTSTAMP:20260425T094941
CREATED:20241020T001843Z
LAST-MODIFIED:20241020T001843Z
UID:3374-1759258800-1759263300@madeiratroop209.com
SUMMARY:Troop Meeting
DESCRIPTION:
URL:https://madeiratroop209.com/event/troop-meeting-39/
LOCATION:Madeira-Silverwood Presbyterian Church\, 8000 Miami Avenue\, Madeira\, OH\, 45243\, United States
CATEGORIES:Meeting
END:VEVENT
END:VCALENDAR