BEGIN:VCALENDAR
VERSION:2.0
PRODID:-//Troop 209 - ECPv6.15.16.1//NONSGML v1.0//EN
CALSCALE:GREGORIAN
METHOD:PUBLISH
X-WR-CALNAME:Troop 209
X-ORIGINAL-URL:https://madeiratroop209.com
X-WR-CALDESC:Events for Troop 209
REFRESH-INTERVAL;VALUE=DURATION:PT1H
X-Robots-Tag:noindex
X-PUBLISHED-TTL:PT1H
BEGIN:VTIMEZONE
TZID:America/New_York
BEGIN:DAYLIGHT
TZOFFSETFROM:-0500
TZOFFSETTO:-0400
TZNAME:EDT
DTSTART:20230312T070000
END:DAYLIGHT
BEGIN:STANDARD
TZOFFSETFROM:-0400
TZOFFSETTO:-0500
TZNAME:EST
DTSTART:20231105T060000
END:STANDARD
BEGIN:DAYLIGHT
TZOFFSETFROM:-0500
TZOFFSETTO:-0400
TZNAME:EDT
DTSTART:20240310T070000
END:DAYLIGHT
BEGIN:STANDARD
TZOFFSETFROM:-0400
TZOFFSETTO:-0500
TZNAME:EST
DTSTART:20241103T060000
END:STANDARD
BEGIN:DAYLIGHT
TZOFFSETFROM:-0500
TZOFFSETTO:-0400
TZNAME:EDT
DTSTART:20250309T070000
END:DAYLIGHT
BEGIN:STANDARD
TZOFFSETFROM:-0400
TZOFFSETTO:-0500
TZNAME:EST
DTSTART:20251102T060000
END:STANDARD
END:VTIMEZONE
BEGIN:VEVENT
DTSTART;TZID=America/New_York:20240723T190000
DTEND;TZID=America/New_York:20240723T201500
DTSTAMP:20260425T112759
CREATED:20230827T142932Z
LAST-MODIFIED:20230827T142932Z
UID:2880-1721761200-1721765700@madeiratroop209.com
SUMMARY:Troop Meeting
DESCRIPTION:Regular Tuesday Meeting
URL:https://madeiratroop209.com/event/troop-meeting-468/
LOCATION:Madeira-Silverwood Presbyterian Church\, 8000 Miami Avenue\, Madeira\, OH\, 45243\, United States
CATEGORIES:Meeting
END:VEVENT
BEGIN:VEVENT
DTSTART;VALUE=DATE:20240716
DTEND;VALUE=DATE:20240717
DTSTAMP:20260425T112759
CREATED:20230827T142932Z
LAST-MODIFIED:20230827T142932Z
UID:2879-1721088000-1721174399@madeiratroop209.com
SUMMARY:No Troop Meeting
DESCRIPTION:No meeting summer break schedule
URL:https://madeiratroop209.com/event/no-troop-meeting-7/
LOCATION:Madeira-Silverwood Presbyterian Church\, 8000 Miami Avenue\, Madeira\, OH\, 45243\, United States
CATEGORIES:Meeting
END:VEVENT
BEGIN:VEVENT
DTSTART;VALUE=DATE:20240709
DTEND;VALUE=DATE:20240710
DTSTAMP:20260425T112759
CREATED:20230827T142931Z
LAST-MODIFIED:20230827T142931Z
UID:2878-1720483200-1720569599@madeiratroop209.com
SUMMARY:No Troop Meeting
DESCRIPTION:We are at summer camp
URL:https://madeiratroop209.com/event/no-troop-meeting-6/
LOCATION:Madeira-Silverwood Presbyterian Church\, 8000 Miami Avenue\, Madeira\, OH\, 45243\, United States
CATEGORIES:Meeting
END:VEVENT
BEGIN:VEVENT
DTSTART;TZID=America/New_York:20240707T120000
DTEND;TZID=America/New_York:20240713T110000
DTSTAMP:20260425T112759
CREATED:20231102T010439Z
LAST-MODIFIED:20231102T010439Z
UID:3176-1720353600-1720868400@madeiratroop209.com
SUMMARY:Summer Camp
DESCRIPTION:
URL:https://madeiratroop209.com/event/summer-camp/
LOCATION:Madeira-Silverwood Presbyterian Church\, 8000 Miami Avenue\, Madeira\, OH\, 45243\, United States
CATEGORIES:Camping Trips
END:VEVENT
BEGIN:VEVENT
DTSTART;TZID=America/New_York:20240702T190000
DTEND;TZID=America/New_York:20240702T201500
DTSTAMP:20260425T112759
CREATED:20230827T142759Z
LAST-MODIFIED:20230827T142759Z
UID:2877-1719946800-1719951300@madeiratroop209.com
SUMMARY:Troop Meeting
DESCRIPTION:Regular Tuesday Meeting
URL:https://madeiratroop209.com/event/troop-meeting-467/
LOCATION:Madeira-Silverwood Presbyterian Church\, 8000 Miami Avenue\, Madeira\, OH\, 45243\, United States
CATEGORIES:Meeting
END:VEVENT
BEGIN:VEVENT
DTSTART;TZID=America/New_York:20240702T174500
DTEND;TZID=America/New_York:20240702T190000
DTSTAMP:20260425T112759
CREATED:20230827T143658Z
LAST-MODIFIED:20230827T143658Z
UID:2905-1719942300-1719946800@madeiratroop209.com
SUMMARY:PLC Meeting
DESCRIPTION:Regular Tuesday PLC Meeting
URL:https://madeiratroop209.com/event/plc-meeting-80/
LOCATION:Madeira-Silverwood Presbyterian Church\, 8000 Miami Avenue\, Madeira\, OH\, 45243\, United States
CATEGORIES:Meeting
END:VEVENT
BEGIN:VEVENT
DTSTART;TZID=America/New_York:20240625T190000
DTEND;TZID=America/New_York:20240625T201500
DTSTAMP:20260425T112759
CREATED:20230827T142759Z
LAST-MODIFIED:20230827T142759Z
UID:2876-1719342000-1719346500@madeiratroop209.com
SUMMARY:Troop Meeting
DESCRIPTION:Regular Tuesday Meeting
URL:https://madeiratroop209.com/event/troop-meeting-466/
LOCATION:Madeira-Silverwood Presbyterian Church\, 8000 Miami Avenue\, Madeira\, OH\, 45243\, United States
CATEGORIES:Meeting
END:VEVENT
BEGIN:VEVENT
DTSTART;TZID=America/New_York:20240618T190000
DTEND;TZID=America/New_York:20240618T201500
DTSTAMP:20260425T112759
CREATED:20230827T142759Z
LAST-MODIFIED:20230827T142759Z
UID:2875-1718737200-1718741700@madeiratroop209.com
SUMMARY:Troop Meeting
DESCRIPTION:Regular Tuesday Meeting
URL:https://madeiratroop209.com/event/troop-meeting-465/
LOCATION:Madeira-Silverwood Presbyterian Church\, 8000 Miami Avenue\, Madeira\, OH\, 45243\, United States
CATEGORIES:Meeting
END:VEVENT
BEGIN:VEVENT
DTSTART;TZID=America/New_York:20240614T163000
DTEND;TZID=America/New_York:20240616T100000
DTSTAMP:20260425T112759
CREATED:20231102T010438Z
LAST-MODIFIED:20231102T010438Z
UID:3175-1718382600-1718532000@madeiratroop209.com
SUMMARY:Camp out: Cave Paddleboard at RRG
DESCRIPTION:
URL:https://madeiratroop209.com/event/camp-out-cave-paddleboard-at-rrg/
LOCATION:Madeira-Silverwood Presbyterian Church\, 8000 Miami Avenue\, Madeira\, OH\, 45243\, United States
CATEGORIES:Camping Trips
END:VEVENT
BEGIN:VEVENT
DTSTART;TZID=America/New_York:20240611T190000
DTEND;TZID=America/New_York:20240611T201500
DTSTAMP:20260425T112759
CREATED:20230827T142758Z
LAST-MODIFIED:20230827T142758Z
UID:2874-1718132400-1718136900@madeiratroop209.com
SUMMARY:Troop Meeting
DESCRIPTION:Regular Tuesday Meeting
URL:https://madeiratroop209.com/event/troop-meeting-464/
LOCATION:Madeira-Silverwood Presbyterian Church\, 8000 Miami Avenue\, Madeira\, OH\, 45243\, United States
CATEGORIES:Meeting
END:VEVENT
BEGIN:VEVENT
DTSTART;TZID=America/New_York:20240604T190000
DTEND;TZID=America/New_York:20240604T201500
DTSTAMP:20260425T112759
CREATED:20230827T142758Z
LAST-MODIFIED:20230827T142758Z
UID:2873-1717527600-1717532100@madeiratroop209.com
SUMMARY:Troop Meeting
DESCRIPTION:Regular Tuesday Meeting
URL:https://madeiratroop209.com/event/troop-meeting-463/
LOCATION:Madeira-Silverwood Presbyterian Church\, 8000 Miami Avenue\, Madeira\, OH\, 45243\, United States
CATEGORIES:Meeting
END:VEVENT
BEGIN:VEVENT
DTSTART;TZID=America/New_York:20240604T174500
DTEND;TZID=America/New_York:20240604T190000
DTSTAMP:20260425T112759
CREATED:20230827T143657Z
LAST-MODIFIED:20230827T143657Z
UID:2904-1717523100-1717527600@madeiratroop209.com
SUMMARY:PLC Meeting
DESCRIPTION:Regular Tuesday PLC Meeting
URL:https://madeiratroop209.com/event/plc-meeting-79/
LOCATION:Madeira-Silverwood Presbyterian Church\, 8000 Miami Avenue\, Madeira\, OH\, 45243\, United States
CATEGORIES:Meeting
END:VEVENT
BEGIN:VEVENT
DTSTART;TZID=America/New_York:20240528T190000
DTEND;TZID=America/New_York:20240528T201500
DTSTAMP:20260425T112759
CREATED:20230827T142600Z
LAST-MODIFIED:20230827T142600Z
UID:2872-1716922800-1716927300@madeiratroop209.com
SUMMARY:Troop Meeting
DESCRIPTION:Regular Tuesday Meeting
URL:https://madeiratroop209.com/event/troop-meeting-462/
LOCATION:Madeira-Silverwood Presbyterian Church\, 8000 Miami Avenue\, Madeira\, OH\, 45243\, United States
CATEGORIES:Meeting
END:VEVENT
BEGIN:VEVENT
DTSTART;TZID=America/New_York:20240521T190000
DTEND;TZID=America/New_York:20240521T201500
DTSTAMP:20260425T112759
CREATED:20230827T142559Z
LAST-MODIFIED:20230827T142559Z
UID:2871-1716318000-1716322500@madeiratroop209.com
SUMMARY:Troop Meeting
DESCRIPTION:Regular Tuesday Meeting
URL:https://madeiratroop209.com/event/troop-meeting-461/
LOCATION:Madeira-Silverwood Presbyterian Church\, 8000 Miami Avenue\, Madeira\, OH\, 45243\, United States
CATEGORIES:Meeting
END:VEVENT
BEGIN:VEVENT
DTSTART;TZID=America/New_York:20240514T190000
DTEND;TZID=America/New_York:20240514T201500
DTSTAMP:20260425T112759
CREATED:20230827T142559Z
LAST-MODIFIED:20230827T142559Z
UID:2870-1715713200-1715717700@madeiratroop209.com
SUMMARY:Troop Meeting
DESCRIPTION:Regular Tuesday Meeting
URL:https://madeiratroop209.com/event/troop-meeting-460/
LOCATION:Madeira-Silverwood Presbyterian Church\, 8000 Miami Avenue\, Madeira\, OH\, 45243\, United States
CATEGORIES:Meeting
END:VEVENT
BEGIN:VEVENT
DTSTART;TZID=America/New_York:20240510T163000
DTEND;TZID=America/New_York:20240512T103000
DTSTAMP:20260425T112759
CREATED:20231102T010438Z
LAST-MODIFIED:20240422T141305Z
UID:3174-1715358600-1715509800@madeiratroop209.com
SUMMARY:Camp out: Shooting Sports at Southwestern Ohio Conservation Club
DESCRIPTION:
URL:https://madeiratroop209.com/event/camp-out-tbd/
LOCATION:Madeira-Silverwood Presbyterian Church\, 8000 Miami Avenue\, Madeira\, OH\, 45243\, United States
CATEGORIES:Camping Trips
END:VEVENT
BEGIN:VEVENT
DTSTART;TZID=America/New_York:20240507T190000
DTEND;TZID=America/New_York:20240507T201500
DTSTAMP:20260425T112759
CREATED:20230827T142559Z
LAST-MODIFIED:20230827T142559Z
UID:2869-1715108400-1715112900@madeiratroop209.com
SUMMARY:Troop Meeting
DESCRIPTION:Family is invited to join us celebrating our Scouts’ accomplishments
URL:https://madeiratroop209.com/event/troop-meeting-459/
LOCATION:Madeira-Silverwood Presbyterian Church\, 8000 Miami Avenue\, Madeira\, OH\, 45243\, United States
CATEGORIES:Meeting
END:VEVENT
BEGIN:VEVENT
DTSTART;TZID=America/New_York:20240507T174500
DTEND;TZID=America/New_York:20240507T190000
DTSTAMP:20260425T112759
CREATED:20230827T143657Z
LAST-MODIFIED:20230827T143657Z
UID:2903-1715103900-1715108400@madeiratroop209.com
SUMMARY:PLC Meeting
DESCRIPTION:Regular Tuesday PLC Meeting
URL:https://madeiratroop209.com/event/plc-meeting-78/
LOCATION:Madeira-Silverwood Presbyterian Church\, 8000 Miami Avenue\, Madeira\, OH\, 45243\, United States
CATEGORIES:Meeting
END:VEVENT
BEGIN:VEVENT
DTSTART;TZID=America/New_York:20240430T190000
DTEND;TZID=America/New_York:20240430T201500
DTSTAMP:20260425T112759
CREATED:20230827T142558Z
LAST-MODIFIED:20230827T142558Z
UID:2868-1714503600-1714508100@madeiratroop209.com
SUMMARY:Troop Meeting
DESCRIPTION:Regular Tuesday Meeting
URL:https://madeiratroop209.com/event/troop-meeting-458/
LOCATION:Madeira-Silverwood Presbyterian Church\, 8000 Miami Avenue\, Madeira\, OH\, 45243\, United States
CATEGORIES:Meeting
END:VEVENT
BEGIN:VEVENT
DTSTART;TZID=America/New_York:20240427T080000
DTEND;TZID=America/New_York:20240427T170000
DTSTAMP:20260425T112759
CREATED:20240301T022517Z
LAST-MODIFIED:20240301T022517Z
UID:3251-1714204800-1714237200@madeiratroop209.com
SUMMARY:Mulch Delivery Day
DESCRIPTION:
URL:https://madeiratroop209.com/event/mulch-delivery-day/
LOCATION:Madeira-Silverwood Presbyterian Church\, 8000 Miami Avenue\, Madeira\, OH\, 45243\, United States
CATEGORIES:Community Events
END:VEVENT
BEGIN:VEVENT
DTSTART;TZID=America/New_York:20240423T190000
DTEND;TZID=America/New_York:20240423T201500
DTSTAMP:20260425T112759
CREATED:20230827T142545Z
LAST-MODIFIED:20230827T142545Z
UID:2867-1713898800-1713903300@madeiratroop209.com
SUMMARY:Troop Meeting
DESCRIPTION:Regular Tuesday Meeting
URL:https://madeiratroop209.com/event/troop-meeting-457/
LOCATION:Madeira-Silverwood Presbyterian Church\, 8000 Miami Avenue\, Madeira\, OH\, 45243\, United States
CATEGORIES:Meeting
END:VEVENT
BEGIN:VEVENT
DTSTART;TZID=America/New_York:20240416T190000
DTEND;TZID=America/New_York:20240416T201500
DTSTAMP:20260425T112759
CREATED:20230827T142545Z
LAST-MODIFIED:20230827T142545Z
UID:2866-1713294000-1713298500@madeiratroop209.com
SUMMARY:Troop Meeting
DESCRIPTION:Regular Tuesday Meeting
URL:https://madeiratroop209.com/event/troop-meeting-456/
LOCATION:Madeira-Silverwood Presbyterian Church\, 8000 Miami Avenue\, Madeira\, OH\, 45243\, United States
CATEGORIES:Meeting
END:VEVENT
BEGIN:VEVENT
DTSTART;TZID=America/New_York:20240409T190000
DTEND;TZID=America/New_York:20240409T201500
DTSTAMP:20260425T112759
CREATED:20230827T142545Z
LAST-MODIFIED:20230827T142545Z
UID:2865-1712689200-1712693700@madeiratroop209.com
SUMMARY:Troop Meeting
DESCRIPTION:Regular Tuesday Meeting
URL:https://madeiratroop209.com/event/troop-meeting-455/
LOCATION:Madeira-Silverwood Presbyterian Church\, 8000 Miami Avenue\, Madeira\, OH\, 45243\, United States
CATEGORIES:Meeting
END:VEVENT
BEGIN:VEVENT
DTSTART;TZID=America/New_York:20240405T163000
DTEND;TZID=America/New_York:20240407T100000
DTSTAMP:20260425T112759
CREATED:20231102T010438Z
LAST-MODIFIED:20240320T173418Z
UID:3173-1712334600-1712484000@madeiratroop209.com
SUMMARY:Camp out: Marengo Cave
DESCRIPTION:
URL:https://madeiratroop209.com/event/camp-out-mammoth-cave/
LOCATION:Madeira-Silverwood Presbyterian Church\, 8000 Miami Avenue\, Madeira\, OH\, 45243\, United States
CATEGORIES:Camping Trips
END:VEVENT
BEGIN:VEVENT
DTSTART;TZID=America/New_York:20240402T190000
DTEND;TZID=America/New_York:20240402T201500
DTSTAMP:20260425T112759
CREATED:20230827T142544Z
LAST-MODIFIED:20230827T142544Z
UID:2864-1712084400-1712088900@madeiratroop209.com
SUMMARY:Troop Meeting
DESCRIPTION:Regular Tuesday Meeting
URL:https://madeiratroop209.com/event/troop-meeting-454/
LOCATION:Madeira-Silverwood Presbyterian Church\, 8000 Miami Avenue\, Madeira\, OH\, 45243\, United States
CATEGORIES:Meeting
END:VEVENT
BEGIN:VEVENT
DTSTART;TZID=America/New_York:20240402T174500
DTEND;TZID=America/New_York:20240402T190000
DTSTAMP:20260425T112759
CREATED:20230827T143657Z
LAST-MODIFIED:20230827T143657Z
UID:2902-1712079900-1712084400@madeiratroop209.com
SUMMARY:PLC Meeting
DESCRIPTION:Regular Tuesday PLC Meeting
URL:https://madeiratroop209.com/event/plc-meeting-77/
LOCATION:Madeira-Silverwood Presbyterian Church\, 8000 Miami Avenue\, Madeira\, OH\, 45243\, United States
CATEGORIES:Meeting
END:VEVENT
BEGIN:VEVENT
DTSTART;VALUE=DATE:20240326
DTEND;VALUE=DATE:20240327
DTSTAMP:20260425T112759
CREATED:20230827T142544Z
LAST-MODIFIED:20240128T185232Z
UID:2863-1711411200-1711497599@madeiratroop209.com
SUMMARY:No Troop Meeting: Spring Break
DESCRIPTION:No meeting due to Madeira spring break
URL:https://madeiratroop209.com/event/troop-meeting-453/
LOCATION:Madeira-Silverwood Presbyterian Church\, 8000 Miami Avenue\, Madeira\, OH\, 45243\, United States
CATEGORIES:Meeting
END:VEVENT
BEGIN:VEVENT
DTSTART;TZID=America/New_York:20240319T190000
DTEND;TZID=America/New_York:20240319T201500
DTSTAMP:20260425T112759
CREATED:20230827T142530Z
LAST-MODIFIED:20230827T142530Z
UID:2862-1710874800-1710879300@madeiratroop209.com
SUMMARY:Troop Meeting
DESCRIPTION:Regular Tuesday Meeting
URL:https://madeiratroop209.com/event/troop-meeting-452/
LOCATION:Madeira-Silverwood Presbyterian Church\, 8000 Miami Avenue\, Madeira\, OH\, 45243\, United States
CATEGORIES:Meeting
END:VEVENT
BEGIN:VEVENT
DTSTART;TZID=America/New_York:20240315T163000
DTEND;TZID=America/New_York:20240317T100000
DTSTAMP:20260425T112759
CREATED:20231102T010438Z
LAST-MODIFIED:20240128T185117Z
UID:3172-1710520200-1710669600@madeiratroop209.com
SUMMARY:Camp out: Yurts at Camp Michaels
DESCRIPTION:
URL:https://madeiratroop209.com/event/camp-out-rentshcler-forest-2/
LOCATION:Madeira-Silverwood Presbyterian Church\, 8000 Miami Avenue\, Madeira\, OH\, 45243\, United States
CATEGORIES:Camping Trips
END:VEVENT
BEGIN:VEVENT
DTSTART;TZID=America/New_York:20240312T190000
DTEND;TZID=America/New_York:20240312T201500
DTSTAMP:20260425T112759
CREATED:20230827T142530Z
LAST-MODIFIED:20230827T142530Z
UID:2861-1710270000-1710274500@madeiratroop209.com
SUMMARY:Troop Meeting
DESCRIPTION:Regular Tuesday Meeting
URL:https://madeiratroop209.com/event/troop-meeting-451/
LOCATION:Madeira-Silverwood Presbyterian Church\, 8000 Miami Avenue\, Madeira\, OH\, 45243\, United States
CATEGORIES:Meeting
END:VEVENT
END:VCALENDAR