BEGIN:VCALENDAR
VERSION:2.0
PRODID:-//Troop 209 - ECPv6.15.16.1//NONSGML v1.0//EN
CALSCALE:GREGORIAN
METHOD:PUBLISH
X-WR-CALNAME:Troop 209
X-ORIGINAL-URL:https://madeiratroop209.com
X-WR-CALDESC:Events for Troop 209
REFRESH-INTERVAL;VALUE=DURATION:PT1H
X-Robots-Tag:noindex
X-PUBLISHED-TTL:PT1H
BEGIN:VTIMEZONE
TZID:America/New_York
BEGIN:DAYLIGHT
TZOFFSETFROM:-0500
TZOFFSETTO:-0400
TZNAME:EDT
DTSTART:20250309T070000
END:DAYLIGHT
BEGIN:STANDARD
TZOFFSETFROM:-0400
TZOFFSETTO:-0500
TZNAME:EST
DTSTART:20251102T060000
END:STANDARD
BEGIN:DAYLIGHT
TZOFFSETFROM:-0500
TZOFFSETTO:-0400
TZNAME:EDT
DTSTART:20260308T070000
END:DAYLIGHT
BEGIN:STANDARD
TZOFFSETFROM:-0400
TZOFFSETTO:-0500
TZNAME:EST
DTSTART:20261101T060000
END:STANDARD
BEGIN:DAYLIGHT
TZOFFSETFROM:-0500
TZOFFSETTO:-0400
TZNAME:EDT
DTSTART:20270314T070000
END:DAYLIGHT
BEGIN:STANDARD
TZOFFSETFROM:-0400
TZOFFSETTO:-0500
TZNAME:EST
DTSTART:20271107T060000
END:STANDARD
END:VTIMEZONE
BEGIN:VEVENT
DTSTART;TZID=America/New_York:20260224T190000
DTEND;TZID=America/New_York:20260224T201500
DTSTAMP:20260425T100511
CREATED:20250828T002310Z
LAST-MODIFIED:20250828T002310Z
UID:3422-1771959600-1771964100@madeiratroop209.com
SUMMARY:Troop Meeting
DESCRIPTION:Regular Tuesday Meeting
URL:https://madeiratroop209.com/event/troop-meeting-59/
LOCATION:Madeira-Silverwood Presbyterian Church\, 8000 Miami Avenue\, Madeira\, OH\, 45243\, United States
CATEGORIES:Meeting
END:VEVENT
BEGIN:VEVENT
DTSTART;TZID=America/New_York:20260224T190000
DTEND;TZID=America/New_York:20260224T201500
DTSTAMP:20260425T100511
CREATED:20260219T213043Z
LAST-MODIFIED:20260219T213050Z
UID:3531-1771959600-1771964100@madeiratroop209.com
SUMMARY:New Parent Orientation
DESCRIPTION:AOL Parents:  Reminder-Please plan to stay for the regular Scout meeting this Tuesday\, we’ll start 7:15ish.  Similar to the Open House discussion last fall; however\, I’ll be going over a lot of action items and To-Do’s\, parent roles\, etc. and allow for any questions you (or your Scout) may be having. \nYour scout’s meeting will start at 7pm.
URL:https://madeiratroop209.com/event/new-parent-orientation/
LOCATION:Madeira-Silverwood Presbyterian Church\, 8000 Miami Avenue\, Madeira\, OH\, 45243\, United States
CATEGORIES:Meeting
END:VEVENT
BEGIN:VEVENT
DTSTART;TZID=America/New_York:20260303T174500
DTEND;TZID=America/New_York:20260303T190000
DTSTAMP:20260425T100511
CREATED:20250828T002607Z
LAST-MODIFIED:20250828T002607Z
UID:3464-1772559900-1772564400@madeiratroop209.com
SUMMARY:PLC Meeting
DESCRIPTION:Regular Tuesday PLC Meeting
URL:https://madeiratroop209.com/event/plc-meeting-17/
LOCATION:Madeira-Silverwood Presbyterian Church\, 8000 Miami Avenue\, Madeira\, OH\, 45243\, United States
CATEGORIES:Meeting
END:VEVENT
BEGIN:VEVENT
DTSTART;TZID=America/New_York:20260303T190000
DTEND;TZID=America/New_York:20260303T201500
DTSTAMP:20260425T100511
CREATED:20250828T002310Z
LAST-MODIFIED:20250828T002310Z
UID:3423-1772564400-1772568900@madeiratroop209.com
SUMMARY:Troop Meeting
DESCRIPTION:Regular Tuesday Meeting
URL:https://madeiratroop209.com/event/troop-meeting-60/
LOCATION:Madeira-Silverwood Presbyterian Church\, 8000 Miami Avenue\, Madeira\, OH\, 45243\, United States
CATEGORIES:Meeting
END:VEVENT
BEGIN:VEVENT
DTSTART;VALUE=DATE:20260307
DTEND;VALUE=DATE:20260308
DTSTAMP:20260425T100511
CREATED:20260225T211808Z
LAST-MODIFIED:20260225T211808Z
UID:3561-1772841600-1772927999@madeiratroop209.com
SUMMARY:Mulch Blitz Day
DESCRIPTION:Get out and work your mulch accounts
URL:https://madeiratroop209.com/event/mulch-blitz-day/
LOCATION:OH
CATEGORIES:Community Events
END:VEVENT
BEGIN:VEVENT
DTSTART;TZID=America/New_York:20260310T190000
DTEND;TZID=America/New_York:20260310T201500
DTSTAMP:20260425T100511
CREATED:20250828T002311Z
LAST-MODIFIED:20250828T002311Z
UID:3424-1773169200-1773173700@madeiratroop209.com
SUMMARY:Troop Meeting
DESCRIPTION:Regular Tuesday Meeting
URL:https://madeiratroop209.com/event/troop-meeting-61/
LOCATION:Madeira-Silverwood Presbyterian Church\, 8000 Miami Avenue\, Madeira\, OH\, 45243\, United States
CATEGORIES:Meeting
END:VEVENT
BEGIN:VEVENT
DTSTART;TZID=America/New_York:20260313T163000
DTEND;TZID=America/New_York:20260315T103000
DTSTAMP:20260425T100511
CREATED:20260225T211425Z
LAST-MODIFIED:20260226T200756Z
UID:3557-1773419400-1773570600@madeiratroop209.com
SUMMARY:Camp out - Yurts at Camp Michaels
DESCRIPTION:
URL:https://madeiratroop209.com/event/campout-yurts-at-camp-michaels/
LOCATION:Madeira-Silverwood Presbyterian Church\, 8000 Miami Avenue\, Madeira\, OH\, 45243\, United States
CATEGORIES:Camping Trips
END:VEVENT
BEGIN:VEVENT
DTSTART;TZID=America/New_York:20260317T190000
DTEND;TZID=America/New_York:20260317T201500
DTSTAMP:20260425T100511
CREATED:20250828T002311Z
LAST-MODIFIED:20250828T002311Z
UID:3425-1773774000-1773778500@madeiratroop209.com
SUMMARY:Troop Meeting
DESCRIPTION:Regular Tuesday Meeting
URL:https://madeiratroop209.com/event/troop-meeting-62/
LOCATION:Madeira-Silverwood Presbyterian Church\, 8000 Miami Avenue\, Madeira\, OH\, 45243\, United States
CATEGORIES:Meeting
END:VEVENT
BEGIN:VEVENT
DTSTART;TZID=America/New_York:20260324T190000
DTEND;TZID=America/New_York:20260324T201500
DTSTAMP:20260425T100511
CREATED:20250828T002325Z
LAST-MODIFIED:20250828T002325Z
UID:3426-1774378800-1774383300@madeiratroop209.com
SUMMARY:Troop Meeting
DESCRIPTION:Regular Tuesday Meeting
URL:https://madeiratroop209.com/event/troop-meeting-63/
LOCATION:Madeira-Silverwood Presbyterian Church\, 8000 Miami Avenue\, Madeira\, OH\, 45243\, United States
CATEGORIES:Meeting
END:VEVENT
BEGIN:VEVENT
DTSTART;TZID=America/New_York:20260331T190000
DTEND;TZID=America/New_York:20260331T201500
DTSTAMP:20260425T100511
CREATED:20250828T002325Z
LAST-MODIFIED:20250828T002325Z
UID:3427-1774983600-1774988100@madeiratroop209.com
SUMMARY:Troop Meeting
DESCRIPTION:Regular Tuesday Meeting
URL:https://madeiratroop209.com/event/troop-meeting-64/
LOCATION:Madeira-Silverwood Presbyterian Church\, 8000 Miami Avenue\, Madeira\, OH\, 45243\, United States
CATEGORIES:Meeting
END:VEVENT
BEGIN:VEVENT
DTSTART;TZID=America/New_York:20260407T174500
DTEND;TZID=America/New_York:20260407T190000
DTSTAMP:20260425T100511
CREATED:20250828T002609Z
LAST-MODIFIED:20250828T002609Z
UID:3465-1775583900-1775588400@madeiratroop209.com
SUMMARY:PLC Meeting
DESCRIPTION:Regular Tuesday PLC Meeting
URL:https://madeiratroop209.com/event/plc-meeting-18/
LOCATION:Madeira-Silverwood Presbyterian Church\, 8000 Miami Avenue\, Madeira\, OH\, 45243\, United States
CATEGORIES:Meeting
END:VEVENT
BEGIN:VEVENT
DTSTART;TZID=America/New_York:20260407T190000
DTEND;TZID=America/New_York:20260407T201500
DTSTAMP:20260425T100511
CREATED:20250828T002325Z
LAST-MODIFIED:20250828T002325Z
UID:3428-1775588400-1775592900@madeiratroop209.com
SUMMARY:Troop Meeting
DESCRIPTION:Regular Tuesday Meeting
URL:https://madeiratroop209.com/event/troop-meeting-65/
LOCATION:Madeira-Silverwood Presbyterian Church\, 8000 Miami Avenue\, Madeira\, OH\, 45243\, United States
CATEGORIES:Meeting
END:VEVENT
BEGIN:VEVENT
DTSTART;TZID=America/New_York:20260410T163000
DTEND;TZID=America/New_York:20260412T103000
DTSTAMP:20260425T100511
CREATED:20260225T211621Z
LAST-MODIFIED:20260226T200749Z
UID:3559-1775838600-1775989800@madeiratroop209.com
SUMMARY:Camp out - Shooting Sports at Camp Friedlander
DESCRIPTION:
URL:https://madeiratroop209.com/event/campout-shooting-sports-at-camp-friedlander/
LOCATION:Madeira-Silverwood Presbyterian Church\, 8000 Miami Avenue\, Madeira\, OH\, 45243\, United States
CATEGORIES:Camping Trips
END:VEVENT
BEGIN:VEVENT
DTSTART;TZID=America/New_York:20260414T190000
DTEND;TZID=America/New_York:20260414T201500
DTSTAMP:20260425T100511
CREATED:20250828T002325Z
LAST-MODIFIED:20250828T002325Z
UID:3429-1776193200-1776197700@madeiratroop209.com
SUMMARY:Troop Meeting
DESCRIPTION:Regular Tuesday Meeting
URL:https://madeiratroop209.com/event/troop-meeting-66/
LOCATION:Madeira-Silverwood Presbyterian Church\, 8000 Miami Avenue\, Madeira\, OH\, 45243\, United States
CATEGORIES:Meeting
END:VEVENT
BEGIN:VEVENT
DTSTART;TZID=America/New_York:20260418T073000
DTEND;TZID=America/New_York:20260418T170000
DTSTAMP:20260425T100511
CREATED:20260219T213246Z
LAST-MODIFIED:20260417T174106Z
UID:3533-1776497400-1776531600@madeiratroop209.com
SUMMARY:Mulch delivery day
DESCRIPTION:On Saturday\, April 18th\, we will all meet at the church parking lot to deliver bags of mulch to homes throughout Madeira. Please plan on being there at 7:30am. This is an all-day event.  Other items of importance: \n\nArrive with a fully belly.  We won’t have breakfast – but we will be providing lunch to everyone (at the picnic tables behind the new building)\nBring a full water bottle\nBring sunscreen\nWear old clothes and shoes – you will get dirty.  Do Not wear your Class A…it will get stained. \nWork gloves are a good idea
URL:https://madeiratroop209.com/event/mulch-delivery-day-5/
LOCATION:Madeira-Silverwood Presbyterian Church\, 8000 Miami Avenue\, Madeira\, OH\, 45243\, United States
CATEGORIES:Meeting
END:VEVENT
BEGIN:VEVENT
DTSTART;TZID=America/New_York:20260421T190000
DTEND;TZID=America/New_York:20260421T201500
DTSTAMP:20260425T100511
CREATED:20250828T002326Z
LAST-MODIFIED:20250828T002326Z
UID:3430-1776798000-1776802500@madeiratroop209.com
SUMMARY:Troop Meeting
DESCRIPTION:Regular Tuesday Meeting
URL:https://madeiratroop209.com/event/troop-meeting-67/
LOCATION:Madeira-Silverwood Presbyterian Church\, 8000 Miami Avenue\, Madeira\, OH\, 45243\, United States
CATEGORIES:Meeting
END:VEVENT
BEGIN:VEVENT
DTSTART;TZID=America/New_York:20260428T190000
DTEND;TZID=America/New_York:20260428T201500
DTSTAMP:20260425T100511
CREATED:20250828T002340Z
LAST-MODIFIED:20250828T002340Z
UID:3431-1777402800-1777407300@madeiratroop209.com
SUMMARY:Court of Honor
DESCRIPTION:Family is invited to join us celebrating our Scouts’ accomplishments
URL:https://madeiratroop209.com/event/court-of-honor-13/
LOCATION:Madeira-Silverwood Presbyterian Church\, 8000 Miami Avenue\, Madeira\, OH\, 45243\, United States
CATEGORIES:Meeting
END:VEVENT
BEGIN:VEVENT
DTSTART;TZID=America/New_York:20260505T174500
DTEND;TZID=America/New_York:20260505T190000
DTSTAMP:20260425T100511
CREATED:20250828T002609Z
LAST-MODIFIED:20250828T002609Z
UID:3466-1778003100-1778007600@madeiratroop209.com
SUMMARY:PLC Meeting
DESCRIPTION:Regular Tuesday PLC Meeting
URL:https://madeiratroop209.com/event/plc-meeting-19/
LOCATION:Madeira-Silverwood Presbyterian Church\, 8000 Miami Avenue\, Madeira\, OH\, 45243\, United States
CATEGORIES:Meeting
END:VEVENT
BEGIN:VEVENT
DTSTART;TZID=America/New_York:20260505T190000
DTEND;TZID=America/New_York:20260505T201500
DTSTAMP:20260425T100511
CREATED:20250828T002340Z
LAST-MODIFIED:20250828T002340Z
UID:3432-1778007600-1778012100@madeiratroop209.com
SUMMARY:Troop Meeting
DESCRIPTION:Regular Tuesday Meeting
URL:https://madeiratroop209.com/event/troop-meeting-68/
LOCATION:Madeira-Silverwood Presbyterian Church\, 8000 Miami Avenue\, Madeira\, OH\, 45243\, United States
CATEGORIES:Meeting
END:VEVENT
BEGIN:VEVENT
DTSTART;TZID=America/New_York:20260512T190000
DTEND;TZID=America/New_York:20260512T201500
DTSTAMP:20260425T100511
CREATED:20250828T002340Z
LAST-MODIFIED:20250828T002340Z
UID:3433-1778612400-1778616900@madeiratroop209.com
SUMMARY:Troop Meeting
DESCRIPTION:Regular Tuesday Meeting
URL:https://madeiratroop209.com/event/troop-meeting-69/
LOCATION:Madeira-Silverwood Presbyterian Church\, 8000 Miami Avenue\, Madeira\, OH\, 45243\, United States
CATEGORIES:Meeting
END:VEVENT
BEGIN:VEVENT
DTSTART;TZID=America/New_York:20260515T163000
DTEND;TZID=America/New_York:20260517T103000
DTSTAMP:20260425T100511
CREATED:20260226T202531Z
LAST-MODIFIED:20260226T202531Z
UID:3569-1778862600-1779013800@madeiratroop209.com
SUMMARY:Camp out: Backpacking
DESCRIPTION:
URL:https://madeiratroop209.com/event/camp-out-backpacking-3/
LOCATION:Madeira-Silverwood Presbyterian Church\, 8000 Miami Avenue\, Madeira\, OH\, 45243\, United States
CATEGORIES:Camping Trips
END:VEVENT
BEGIN:VEVENT
DTSTART;TZID=America/New_York:20260519T190000
DTEND;TZID=America/New_York:20260519T201500
DTSTAMP:20260425T100511
CREATED:20250828T002341Z
LAST-MODIFIED:20250828T002341Z
UID:3434-1779217200-1779221700@madeiratroop209.com
SUMMARY:Troop Meeting
DESCRIPTION:Regular Tuesday Meeting
URL:https://madeiratroop209.com/event/troop-meeting-70/
LOCATION:Madeira-Silverwood Presbyterian Church\, 8000 Miami Avenue\, Madeira\, OH\, 45243\, United States
CATEGORIES:Meeting
END:VEVENT
BEGIN:VEVENT
DTSTART;TZID=America/New_York:20260525T094500
DTEND;TZID=America/New_York:20260525T110000
DTSTAMP:20260425T100511
CREATED:20260423T145230Z
LAST-MODIFIED:20260423T145230Z
UID:3596-1779702300-1779706800@madeiratroop209.com
SUMMARY:Memorial Day Silent March
DESCRIPTION:Meet at St. Gertrude’s parking lot. Wear full class A uniform
URL:https://madeiratroop209.com/event/memorial-day-silent-march-2/
LOCATION:St Gertrude\, 6543 Miami Ave\, Cincinnati\, OH\, 45243\, United States
CATEGORIES:Community Events
END:VEVENT
BEGIN:VEVENT
DTSTART;TZID=America/New_York:20260526T190000
DTEND;TZID=America/New_York:20260526T201500
DTSTAMP:20260425T100511
CREATED:20250828T002341Z
LAST-MODIFIED:20250828T002341Z
UID:3435-1779822000-1779826500@madeiratroop209.com
SUMMARY:Troop Meeting
DESCRIPTION:Regular Tuesday Meeting
URL:https://madeiratroop209.com/event/troop-meeting-71/
LOCATION:Madeira-Silverwood Presbyterian Church\, 8000 Miami Avenue\, Madeira\, OH\, 45243\, United States
CATEGORIES:Meeting
END:VEVENT
BEGIN:VEVENT
DTSTART;TZID=America/New_York:20260602T174500
DTEND;TZID=America/New_York:20260602T190000
DTSTAMP:20260425T100511
CREATED:20250828T002609Z
LAST-MODIFIED:20250828T002609Z
UID:3467-1780422300-1780426800@madeiratroop209.com
SUMMARY:PLC Meeting
DESCRIPTION:Regular Tuesday PLC Meeting
URL:https://madeiratroop209.com/event/plc-meeting-85/
LOCATION:Madeira-Silverwood Presbyterian Church\, 8000 Miami Avenue\, Madeira\, OH\, 45243\, United States
CATEGORIES:Meeting
END:VEVENT
BEGIN:VEVENT
DTSTART;TZID=America/New_York:20260602T190000
DTEND;TZID=America/New_York:20260602T201500
DTSTAMP:20260425T100511
CREATED:20250828T002355Z
LAST-MODIFIED:20250828T002355Z
UID:3436-1780426800-1780431300@madeiratroop209.com
SUMMARY:Troop Meeting
DESCRIPTION:Regular Tuesday Meeting
URL:https://madeiratroop209.com/event/troop-meeting-72/
LOCATION:Madeira-Silverwood Presbyterian Church\, 8000 Miami Avenue\, Madeira\, OH\, 45243\, United States
CATEGORIES:Meeting
END:VEVENT
BEGIN:VEVENT
DTSTART;TZID=America/New_York:20260609T190000
DTEND;TZID=America/New_York:20260609T201500
DTSTAMP:20260425T100511
CREATED:20250828T002355Z
LAST-MODIFIED:20250828T002355Z
UID:3437-1781031600-1781036100@madeiratroop209.com
SUMMARY:Troop Meeting
DESCRIPTION:Regular Tuesday Meeting
URL:https://madeiratroop209.com/event/troop-meeting-73/
LOCATION:Madeira-Silverwood Presbyterian Church\, 8000 Miami Avenue\, Madeira\, OH\, 45243\, United States
CATEGORIES:Meeting
END:VEVENT
BEGIN:VEVENT
DTSTART;TZID=America/New_York:20260616T190000
DTEND;TZID=America/New_York:20260616T201500
DTSTAMP:20260425T100511
CREATED:20250828T002355Z
LAST-MODIFIED:20250828T002355Z
UID:3438-1781636400-1781640900@madeiratroop209.com
SUMMARY:Troop Meeting
DESCRIPTION:Regular Tuesday Meeting
URL:https://madeiratroop209.com/event/troop-meeting-74/
LOCATION:Madeira-Silverwood Presbyterian Church\, 8000 Miami Avenue\, Madeira\, OH\, 45243\, United States
CATEGORIES:Meeting
END:VEVENT
BEGIN:VEVENT
DTSTART;TZID=America/New_York:20260619T163000
DTEND;TZID=America/New_York:20260621T103000
DTSTAMP:20260425T100511
CREATED:20260226T202817Z
LAST-MODIFIED:20260226T202817Z
UID:3571-1781886600-1782037800@madeiratroop209.com
SUMMARY:Camp out: Air Force Museum
DESCRIPTION:
URL:https://madeiratroop209.com/event/camp-out-air-force-museum/
LOCATION:Madeira-Silverwood Presbyterian Church\, 8000 Miami Avenue\, Madeira\, OH\, 45243\, United States
CATEGORIES:Camping Trips
END:VEVENT
BEGIN:VEVENT
DTSTART;TZID=America/New_York:20260623T190000
DTEND;TZID=America/New_York:20260623T201500
DTSTAMP:20260425T100511
CREATED:20250828T002356Z
LAST-MODIFIED:20250828T002356Z
UID:3439-1782241200-1782245700@madeiratroop209.com
SUMMARY:Troop Meeting
DESCRIPTION:Regular Tuesday Meeting
URL:https://madeiratroop209.com/event/troop-meeting-75/
LOCATION:Madeira-Silverwood Presbyterian Church\, 8000 Miami Avenue\, Madeira\, OH\, 45243\, United States
CATEGORIES:Meeting
END:VEVENT
END:VCALENDAR