BEGIN:VCALENDAR
VERSION:2.0
PRODID:-//Troop 209 - ECPv6.15.16.1//NONSGML v1.0//EN
CALSCALE:GREGORIAN
METHOD:PUBLISH
X-WR-CALNAME:Troop 209
X-ORIGINAL-URL:https://madeiratroop209.com
X-WR-CALDESC:Events for Troop 209
REFRESH-INTERVAL;VALUE=DURATION:PT1H
X-Robots-Tag:noindex
X-PUBLISHED-TTL:PT1H
BEGIN:VTIMEZONE
TZID:America/New_York
BEGIN:DAYLIGHT
TZOFFSETFROM:-0500
TZOFFSETTO:-0400
TZNAME:EDT
DTSTART:20230312T070000
END:DAYLIGHT
BEGIN:STANDARD
TZOFFSETFROM:-0400
TZOFFSETTO:-0500
TZNAME:EST
DTSTART:20231105T060000
END:STANDARD
BEGIN:DAYLIGHT
TZOFFSETFROM:-0500
TZOFFSETTO:-0400
TZNAME:EDT
DTSTART:20240310T070000
END:DAYLIGHT
BEGIN:STANDARD
TZOFFSETFROM:-0400
TZOFFSETTO:-0500
TZNAME:EST
DTSTART:20241103T060000
END:STANDARD
BEGIN:DAYLIGHT
TZOFFSETFROM:-0500
TZOFFSETTO:-0400
TZNAME:EDT
DTSTART:20250309T070000
END:DAYLIGHT
BEGIN:STANDARD
TZOFFSETFROM:-0400
TZOFFSETTO:-0500
TZNAME:EST
DTSTART:20251102T060000
END:STANDARD
END:VTIMEZONE
BEGIN:VEVENT
DTSTART;VALUE=DATE:20241224
DTEND;VALUE=DATE:20241225
DTSTAMP:20260425T113337
CREATED:20241020T001643Z
LAST-MODIFIED:20241020T001643Z
UID:3334-1734998400-1735084799@madeiratroop209.com
SUMMARY:No Troop Meeting
DESCRIPTION:No meeting. Merry Christmas!
URL:https://madeiratroop209.com/event/no-troop-meeting-9/
LOCATION:Madeira-Silverwood Presbyterian Church\, 8000 Miami Avenue\, Madeira\, OH\, 45243\, United States
CATEGORIES:Meeting
END:VEVENT
BEGIN:VEVENT
DTSTART;TZID=America/New_York:20241217T190000
DTEND;TZID=America/New_York:20241217T201500
DTSTAMP:20260425T113337
CREATED:20241020T001642Z
LAST-MODIFIED:20241020T001642Z
UID:3333-1734462000-1734466500@madeiratroop209.com
SUMMARY:Troop Meeting
DESCRIPTION:
URL:https://madeiratroop209.com/event/troop-meeting-6/
LOCATION:Madeira-Silverwood Presbyterian Church\, 8000 Miami Avenue\, Madeira\, OH\, 45243\, United States
CATEGORIES:Meeting
END:VEVENT
BEGIN:VEVENT
DTSTART;TZID=America/New_York:20241213T163000
DTEND;TZID=America/New_York:20241214T190000
DTSTAMP:20260425T113337
CREATED:20241020T001515Z
LAST-MODIFIED:20241020T001515Z
UID:3317-1734107400-1734202800@madeiratroop209.com
SUMMARY:Camp out: Lock-in
DESCRIPTION:
URL:https://madeiratroop209.com/event/camp-out-lock-in-4/
LOCATION:Madeira-Silverwood Presbyterian Church\, 8000 Miami Avenue\, Madeira\, OH\, 45243\, United States
CATEGORIES:Camping Trips
END:VEVENT
BEGIN:VEVENT
DTSTART;TZID=America/New_York:20241210T190000
DTEND;TZID=America/New_York:20241210T201500
DTSTAMP:20260425T113337
CREATED:20241020T001642Z
LAST-MODIFIED:20241020T001642Z
UID:3332-1733857200-1733861700@madeiratroop209.com
SUMMARY:Troop Meeting
DESCRIPTION:
URL:https://madeiratroop209.com/event/troop-meeting-5/
LOCATION:Madeira-Silverwood Presbyterian Church\, 8000 Miami Avenue\, Madeira\, OH\, 45243\, United States
CATEGORIES:Meeting
END:VEVENT
BEGIN:VEVENT
DTSTART;TZID=America/New_York:20241203T190000
DTEND;TZID=America/New_York:20241203T201500
DTSTAMP:20260425T113337
CREATED:20241020T001640Z
LAST-MODIFIED:20241020T001640Z
UID:3331-1733252400-1733256900@madeiratroop209.com
SUMMARY:Troop Meeting
DESCRIPTION:
URL:https://madeiratroop209.com/event/troop-meeting-4/
LOCATION:Madeira-Silverwood Presbyterian Church\, 8000 Miami Avenue\, Madeira\, OH\, 45243\, United States
CATEGORIES:Meeting
END:VEVENT
BEGIN:VEVENT
DTSTART;TZID=America/New_York:20241203T174500
DTEND;TZID=America/New_York:20241203T190000
DTSTAMP:20260425T113337
CREATED:20241020T001359Z
LAST-MODIFIED:20241020T001359Z
UID:3303-1733247900-1733252400@madeiratroop209.com
SUMMARY:PLC Meeting
DESCRIPTION:Regular Tuesday PLC Meeting
URL:https://madeiratroop209.com/event/plc-meeting-2/
LOCATION:Madeira-Silverwood Presbyterian Church\, 8000 Miami Avenue\, Madeira\, OH\, 45243\, United States
CATEGORIES:Meeting
END:VEVENT
BEGIN:VEVENT
DTSTART;TZID=America/New_York:20241126T190000
DTEND;TZID=America/New_York:20241126T201500
DTSTAMP:20260425T113337
CREATED:20241020T001640Z
LAST-MODIFIED:20241020T001640Z
UID:3330-1732647600-1732652100@madeiratroop209.com
SUMMARY:Troop Meeting
DESCRIPTION:
URL:https://madeiratroop209.com/event/troop-meeting-3/
LOCATION:Madeira-Silverwood Presbyterian Church\, 8000 Miami Avenue\, Madeira\, OH\, 45243\, United States
CATEGORIES:Meeting
END:VEVENT
BEGIN:VEVENT
DTSTART;TZID=America/New_York:20241119T190000
DTEND;TZID=America/New_York:20241119T201500
DTSTAMP:20260425T113337
CREATED:20241020T001640Z
LAST-MODIFIED:20241020T001640Z
UID:3329-1732042800-1732047300@madeiratroop209.com
SUMMARY:Troop Meeting
DESCRIPTION:
URL:https://madeiratroop209.com/event/troop-meeting-2/
LOCATION:Madeira-Silverwood Presbyterian Church\, 8000 Miami Avenue\, Madeira\, OH\, 45243\, United States
CATEGORIES:Meeting
END:VEVENT
BEGIN:VEVENT
DTSTART;TZID=America/New_York:20241115T163000
DTEND;TZID=America/New_York:20241117T100000
DTSTAMP:20260425T113337
CREATED:20241020T001514Z
LAST-MODIFIED:20241020T001514Z
UID:3316-1731688200-1731837600@madeiratroop209.com
SUMMARY:Camp out: Wilderness Survival
DESCRIPTION:
URL:https://madeiratroop209.com/event/camp-out-wilderness-survival-3/
LOCATION:Madeira-Silverwood Presbyterian Church\, 8000 Miami Avenue\, Madeira\, OH\, 45243\, United States
CATEGORIES:Camping Trips
END:VEVENT
BEGIN:VEVENT
DTSTART;TZID=America/New_York:20241112T190000
DTEND;TZID=America/New_York:20241112T201500
DTSTAMP:20260425T113337
CREATED:20241020T001640Z
LAST-MODIFIED:20241020T001640Z
UID:3328-1731438000-1731442500@madeiratroop209.com
SUMMARY:Troop Meeting
DESCRIPTION:
URL:https://madeiratroop209.com/event/troop-meeting/
LOCATION:Madeira-Silverwood Presbyterian Church\, 8000 Miami Avenue\, Madeira\, OH\, 45243\, United States
CATEGORIES:Meeting
END:VEVENT
BEGIN:VEVENT
DTSTART;TZID=America/New_York:20241105T190000
DTEND;TZID=America/New_York:20241105T201500
DTSTAMP:20260425T113337
CREATED:20241020T001639Z
LAST-MODIFIED:20241020T001639Z
UID:3327-1730833200-1730837700@madeiratroop209.com
SUMMARY:Troop Meeting - Election Night
DESCRIPTION:To respect the voting pool location please enter through the front of the church not the fellowship hall
URL:https://madeiratroop209.com/event/troop-meeting-election-night-3/
LOCATION:Madeira-Silverwood Presbyterian Church\, 8000 Miami Avenue\, Madeira\, OH\, 45243\, United States
CATEGORIES:Meeting
END:VEVENT
BEGIN:VEVENT
DTSTART;TZID=America/New_York:20241105T174500
DTEND;TZID=America/New_York:20241105T190000
DTSTAMP:20260425T113337
CREATED:20241020T001359Z
LAST-MODIFIED:20241020T001359Z
UID:3302-1730828700-1730833200@madeiratroop209.com
SUMMARY:PLC Meeting
DESCRIPTION:Regular Tuesday PLC Meeting
URL:https://madeiratroop209.com/event/plc-meeting/
LOCATION:Madeira-Silverwood Presbyterian Church\, 8000 Miami Avenue\, Madeira\, OH\, 45243\, United States
CATEGORIES:Meeting
END:VEVENT
BEGIN:VEVENT
DTSTART;TZID=America/New_York:20241029T190000
DTEND;TZID=America/New_York:20241029T201500
DTSTAMP:20260425T113337
CREATED:20230827T143349Z
LAST-MODIFIED:20230827T143349Z
UID:2894-1730228400-1730232900@madeiratroop209.com
SUMMARY:Troop Meeting
DESCRIPTION:Regular Tuesday Meeting
URL:https://madeiratroop209.com/event/troop-meeting-480/
LOCATION:Madeira-Silverwood Presbyterian Church\, 8000 Miami Avenue\, Madeira\, OH\, 45243\, United States
CATEGORIES:Meeting
END:VEVENT
BEGIN:VEVENT
DTSTART;TZID=America/New_York:20241022T190000
DTEND;TZID=America/New_York:20241022T201500
DTSTAMP:20260425T113337
CREATED:20230827T143348Z
LAST-MODIFIED:20230827T143348Z
UID:2893-1729623600-1729628100@madeiratroop209.com
SUMMARY:Troop Meeting
DESCRIPTION:Regular Tuesday Meeting
URL:https://madeiratroop209.com/event/troop-meeting-479/
LOCATION:Madeira-Silverwood Presbyterian Church\, 8000 Miami Avenue\, Madeira\, OH\, 45243\, United States
CATEGORIES:Meeting
END:VEVENT
BEGIN:VEVENT
DTSTART;TZID=America/New_York:20241015T190000
DTEND;TZID=America/New_York:20241015T201500
DTSTAMP:20260425T113337
CREATED:20230827T143149Z
LAST-MODIFIED:20230827T143149Z
UID:2892-1729018800-1729023300@madeiratroop209.com
SUMMARY:Troop Meeting
DESCRIPTION:Regular Tuesday Meeting
URL:https://madeiratroop209.com/event/troop-meeting-478/
LOCATION:Madeira-Silverwood Presbyterian Church\, 8000 Miami Avenue\, Madeira\, OH\, 45243\, United States
CATEGORIES:Meeting
END:VEVENT
BEGIN:VEVENT
DTSTART;TZID=America/New_York:20241008T190000
DTEND;TZID=America/New_York:20241008T201500
DTSTAMP:20260425T113337
CREATED:20230827T143148Z
LAST-MODIFIED:20230827T143148Z
UID:2891-1728414000-1728418500@madeiratroop209.com
SUMMARY:Troop Meeting
DESCRIPTION:Regular Tuesday Meeting
URL:https://madeiratroop209.com/event/troop-meeting-477/
LOCATION:Madeira-Silverwood Presbyterian Church\, 8000 Miami Avenue\, Madeira\, OH\, 45243\, United States
CATEGORIES:Meeting
END:VEVENT
BEGIN:VEVENT
DTSTART;TZID=America/New_York:20241004T163000
DTEND;TZID=America/New_York:20241006T100000
DTSTAMP:20260425T113337
CREATED:20240814T182115Z
LAST-MODIFIED:20240814T182233Z
UID:3293-1728059400-1728208800@madeiratroop209.com
SUMMARY:Camp out: Peterloon
DESCRIPTION:
URL:https://madeiratroop209.com/event/peterloon/
LOCATION:Madeira-Silverwood Presbyterian Church\, 8000 Miami Avenue\, Madeira\, OH\, 45243\, United States
CATEGORIES:Camping Trips
END:VEVENT
BEGIN:VEVENT
DTSTART;TZID=America/New_York:20241001T190000
DTEND;TZID=America/New_York:20241001T201500
DTSTAMP:20260425T113337
CREATED:20230827T143148Z
LAST-MODIFIED:20230827T143148Z
UID:2890-1727809200-1727813700@madeiratroop209.com
SUMMARY:Troop Meeting
DESCRIPTION:Regular Tuesday Meeting
URL:https://madeiratroop209.com/event/troop-meeting-476/
LOCATION:Madeira-Silverwood Presbyterian Church\, 8000 Miami Avenue\, Madeira\, OH\, 45243\, United States
CATEGORIES:Meeting
END:VEVENT
BEGIN:VEVENT
DTSTART;TZID=America/New_York:20241001T174500
DTEND;TZID=America/New_York:20241001T190000
DTSTAMP:20260425T113337
CREATED:20230827T143713Z
LAST-MODIFIED:20230827T143713Z
UID:2909-1727804700-1727809200@madeiratroop209.com
SUMMARY:PLC Meeting
DESCRIPTION:Regular Tuesday PLC Meeting
URL:https://madeiratroop209.com/event/plc-meeting-84/
LOCATION:Madeira-Silverwood Presbyterian Church\, 8000 Miami Avenue\, Madeira\, OH\, 45243\, United States
CATEGORIES:Meeting
END:VEVENT
BEGIN:VEVENT
DTSTART;TZID=America/New_York:20240924T190000
DTEND;TZID=America/New_York:20240924T201500
DTSTAMP:20260425T113337
CREATED:20230827T143147Z
LAST-MODIFIED:20240917T163147Z
UID:2888-1727204400-1727208900@madeiratroop209.com
SUMMARY:Court of Honor
DESCRIPTION:Family is invited to join us celebrating our Scouts’ accomplishments
URL:https://madeiratroop209.com/event/court-of-honor-12/
LOCATION:Madeira-Silverwood Presbyterian Church\, 8000 Miami Avenue\, Madeira\, OH\, 45243\, United States
CATEGORIES:Meeting
END:VEVENT
BEGIN:VEVENT
DTSTART;TZID=America/New_York:20240920T163000
DTEND;TZID=America/New_York:20240922T100000
DTSTAMP:20260425T113337
CREATED:20231102T010439Z
LAST-MODIFIED:20231102T010439Z
UID:3178-1726849800-1726999200@madeiratroop209.com
SUMMARY:Camp out: Zip Lining
DESCRIPTION:
URL:https://madeiratroop209.com/event/camp-out-zip-lining/
LOCATION:Madeira-Silverwood Presbyterian Church\, 8000 Miami Avenue\, Madeira\, OH\, 45243\, United States
CATEGORIES:Camping Trips
END:VEVENT
BEGIN:VEVENT
DTSTART;TZID=America/New_York:20240917T190000
DTEND;TZID=America/New_York:20240917T201500
DTSTAMP:20260425T113337
CREATED:20230827T143148Z
LAST-MODIFIED:20240917T163204Z
UID:2889-1726599600-1726604100@madeiratroop209.com
SUMMARY:Troop Meeting
DESCRIPTION:Regular Tuesday Meeting
URL:https://madeiratroop209.com/event/troop-meeting-475/
LOCATION:Madeira-Silverwood Presbyterian Church\, 8000 Miami Avenue\, Madeira\, OH\, 45243\, United States
CATEGORIES:Meeting
END:VEVENT
BEGIN:VEVENT
DTSTART;TZID=America/New_York:20240910T190000
DTEND;TZID=America/New_York:20240910T201500
DTSTAMP:20260425T113337
CREATED:20230827T142948Z
LAST-MODIFIED:20230827T142948Z
UID:2887-1725994800-1725999300@madeiratroop209.com
SUMMARY:Troop Meeting
DESCRIPTION:Regular Tuesday Meeting
URL:https://madeiratroop209.com/event/troop-meeting-474/
LOCATION:Madeira-Silverwood Presbyterian Church\, 8000 Miami Avenue\, Madeira\, OH\, 45243\, United States
CATEGORIES:Meeting
END:VEVENT
BEGIN:VEVENT
DTSTART;TZID=America/New_York:20240903T190000
DTEND;TZID=America/New_York:20240903T201500
DTSTAMP:20260425T113337
CREATED:20230827T142947Z
LAST-MODIFIED:20230827T142947Z
UID:2886-1725390000-1725394500@madeiratroop209.com
SUMMARY:Troop Meeting
DESCRIPTION:Regular Tuesday Meeting
URL:https://madeiratroop209.com/event/troop-meeting-473/
LOCATION:Madeira-Silverwood Presbyterian Church\, 8000 Miami Avenue\, Madeira\, OH\, 45243\, United States
CATEGORIES:Meeting
END:VEVENT
BEGIN:VEVENT
DTSTART;TZID=America/New_York:20240903T174500
DTEND;TZID=America/New_York:20240903T190000
DTSTAMP:20260425T113337
CREATED:20230827T143712Z
LAST-MODIFIED:20230827T143712Z
UID:2907-1725385500-1725390000@madeiratroop209.com
SUMMARY:PLC Meeting
DESCRIPTION:Regular Tuesday PLC Meeting
URL:https://madeiratroop209.com/event/plc-meeting-82/
LOCATION:Madeira-Silverwood Presbyterian Church\, 8000 Miami Avenue\, Madeira\, OH\, 45243\, United States
CATEGORIES:Meeting
END:VEVENT
BEGIN:VEVENT
DTSTART;TZID=America/New_York:20240827T190000
DTEND;TZID=America/New_York:20240827T201500
DTSTAMP:20260425T113337
CREATED:20230827T142947Z
LAST-MODIFIED:20230827T142947Z
UID:2885-1724785200-1724789700@madeiratroop209.com
SUMMARY:Troop Meeting
DESCRIPTION:Regular Tuesday Meeting
URL:https://madeiratroop209.com/event/troop-meeting-472/
LOCATION:Madeira-Silverwood Presbyterian Church\, 8000 Miami Avenue\, Madeira\, OH\, 45243\, United States
CATEGORIES:Meeting
END:VEVENT
BEGIN:VEVENT
DTSTART;TZID=America/New_York:20240820T190000
DTEND;TZID=America/New_York:20240820T201500
DTSTAMP:20260425T113337
CREATED:20230827T142947Z
LAST-MODIFIED:20230827T142947Z
UID:2884-1724180400-1724184900@madeiratroop209.com
SUMMARY:Troop Meeting
DESCRIPTION:Regular Tuesday Meeting
URL:https://madeiratroop209.com/event/troop-meeting-471/
LOCATION:Madeira-Silverwood Presbyterian Church\, 8000 Miami Avenue\, Madeira\, OH\, 45243\, United States
CATEGORIES:Meeting
END:VEVENT
BEGIN:VEVENT
DTSTART;TZID=America/New_York:20240816T163000
DTEND;TZID=America/New_York:20240818T100000
DTSTAMP:20260425T113337
CREATED:20231102T010439Z
LAST-MODIFIED:20231102T010439Z
UID:3177-1723825800-1723975200@madeiratroop209.com
SUMMARY:Camp out: Repelling
DESCRIPTION:
URL:https://madeiratroop209.com/event/camp-out-repelling/
LOCATION:Madeira-Silverwood Presbyterian Church\, 8000 Miami Avenue\, Madeira\, OH\, 45243\, United States
CATEGORIES:Camping Trips
END:VEVENT
BEGIN:VEVENT
DTSTART;TZID=America/New_York:20240813T190000
DTEND;TZID=America/New_York:20240813T201500
DTSTAMP:20260425T113337
CREATED:20230827T142946Z
LAST-MODIFIED:20230827T142946Z
UID:2883-1723575600-1723580100@madeiratroop209.com
SUMMARY:Troop Meeting
DESCRIPTION:Regular Tuesday Meeting
URL:https://madeiratroop209.com/event/troop-meeting-470/
LOCATION:Madeira-Silverwood Presbyterian Church\, 8000 Miami Avenue\, Madeira\, OH\, 45243\, United States
CATEGORIES:Meeting
END:VEVENT
BEGIN:VEVENT
DTSTART;TZID=America/New_York:20240806T190000
DTEND;TZID=America/New_York:20240806T201500
DTSTAMP:20260425T113337
CREATED:20230827T142932Z
LAST-MODIFIED:20230827T142932Z
UID:2882-1722970800-1722975300@madeiratroop209.com
SUMMARY:Troop Meeting
DESCRIPTION:Regular Tuesday Meeting
URL:https://madeiratroop209.com/event/troop-meeting-469/
LOCATION:Madeira-Silverwood Presbyterian Church\, 8000 Miami Avenue\, Madeira\, OH\, 45243\, United States
CATEGORIES:Meeting
END:VEVENT
END:VCALENDAR