BEGIN:VCALENDAR
VERSION:2.0
PRODID:-//Troop 209 - ECPv6.15.16.1//NONSGML v1.0//EN
CALSCALE:GREGORIAN
METHOD:PUBLISH
X-WR-CALNAME:Troop 209
X-ORIGINAL-URL:https://madeiratroop209.com
X-WR-CALDESC:Events for Troop 209
REFRESH-INTERVAL;VALUE=DURATION:PT1H
X-Robots-Tag:noindex
X-PUBLISHED-TTL:PT1H
BEGIN:VTIMEZONE
TZID:America/New_York
BEGIN:DAYLIGHT
TZOFFSETFROM:-0500
TZOFFSETTO:-0400
TZNAME:EDT
DTSTART:20250309T070000
END:DAYLIGHT
BEGIN:STANDARD
TZOFFSETFROM:-0400
TZOFFSETTO:-0500
TZNAME:EST
DTSTART:20251102T060000
END:STANDARD
BEGIN:DAYLIGHT
TZOFFSETFROM:-0500
TZOFFSETTO:-0400
TZNAME:EDT
DTSTART:20260308T070000
END:DAYLIGHT
BEGIN:STANDARD
TZOFFSETFROM:-0400
TZOFFSETTO:-0500
TZNAME:EST
DTSTART:20261101T060000
END:STANDARD
BEGIN:DAYLIGHT
TZOFFSETFROM:-0500
TZOFFSETTO:-0400
TZNAME:EDT
DTSTART:20270314T070000
END:DAYLIGHT
BEGIN:STANDARD
TZOFFSETFROM:-0400
TZOFFSETTO:-0500
TZNAME:EST
DTSTART:20271107T060000
END:STANDARD
END:VTIMEZONE
BEGIN:VEVENT
DTSTART;TZID=America/New_York:20260203T190000
DTEND;TZID=America/New_York:20260203T201500
DTSTAMP:20260424T130659
CREATED:20250828T002255Z
LAST-MODIFIED:20260203T135835Z
UID:3419-1770145200-1770149700@madeiratroop209.com
SUMMARY:Canceled: Troop Meeting
DESCRIPTION:Regular Tuesday Meeting \nWith Madeira Schools calling off 2/3\, we won’t have scouts either.
URL:https://madeiratroop209.com/event/troop-meeting-56/
LOCATION:Madeira-Silverwood Presbyterian Church\, 8000 Miami Avenue\, Madeira\, OH\, 45243\, United States
CATEGORIES:Meeting
END:VEVENT
BEGIN:VEVENT
DTSTART;TZID=America/New_York:20260210T174500
DTEND;TZID=America/New_York:20260210T190000
DTSTAMP:20260424T130659
CREATED:20250828T002607Z
LAST-MODIFIED:20260203T135714Z
UID:3463-1770745500-1770750000@madeiratroop209.com
SUMMARY:PLC Meeting
DESCRIPTION:Regular Tuesday PLC Meeting \nMoved back a week due to snow day
URL:https://madeiratroop209.com/event/plc-meeting-16/
LOCATION:Madeira-Silverwood Presbyterian Church\, 8000 Miami Avenue\, Madeira\, OH\, 45243\, United States
CATEGORIES:Meeting
END:VEVENT
BEGIN:VEVENT
DTSTART;TZID=America/New_York:20260210T190000
DTEND;TZID=America/New_York:20260210T201500
DTSTAMP:20260424T130659
CREATED:20250828T002256Z
LAST-MODIFIED:20250828T002256Z
UID:3420-1770750000-1770754500@madeiratroop209.com
SUMMARY:Troop Meeting
DESCRIPTION:Regular Tuesday Meeting
URL:https://madeiratroop209.com/event/troop-meeting-57/
LOCATION:Madeira-Silverwood Presbyterian Church\, 8000 Miami Avenue\, Madeira\, OH\, 45243\, United States
CATEGORIES:Meeting
END:VEVENT
BEGIN:VEVENT
DTSTART;TZID=America/New_York:20260217T190000
DTEND;TZID=America/New_York:20260217T201500
DTSTAMP:20260424T130659
CREATED:20250828T002310Z
LAST-MODIFIED:20250828T002310Z
UID:3421-1771354800-1771359300@madeiratroop209.com
SUMMARY:Troop Meeting
DESCRIPTION:Regular Tuesday Meeting
URL:https://madeiratroop209.com/event/troop-meeting-58/
LOCATION:Madeira-Silverwood Presbyterian Church\, 8000 Miami Avenue\, Madeira\, OH\, 45243\, United States
CATEGORIES:Meeting
END:VEVENT
BEGIN:VEVENT
DTSTART;TZID=America/New_York:20260222T123000
DTEND;TZID=America/New_York:20260222T153000
DTSTAMP:20260424T130659
CREATED:20260219T212847Z
LAST-MODIFIED:20260219T212847Z
UID:3529-1771763400-1771774200@madeiratroop209.com
SUMMARY:AOL Crossover Ceremony
DESCRIPTION:Troop 209 Scouts:  Meet at 12:30pm on Sunday at the church\, in Class-A Uniform.  We’ll pack up the firepit\, tiki torches\, flags\, etc\, then head out as a troop to Camp Friedlander to get set-up.  The actual ceremony is 2:00-3:00; aim to be back to the church around 3:30ish.  All scouts are encouraged to attend so we can welcome our new Scouts to the troop\, and you get S’mores!\n\nAOL Parents:  Ignore this and go with the instructions from the Pack!!
URL:https://madeiratroop209.com/event/aol-crossover-ceremony/
LOCATION:Madeira-Silverwood Presbyterian Church\, 8000 Miami Avenue\, Madeira\, OH\, 45243\, United States
CATEGORIES:Meeting
END:VEVENT
BEGIN:VEVENT
DTSTART;TZID=America/New_York:20260224T190000
DTEND;TZID=America/New_York:20260224T201500
DTSTAMP:20260424T130659
CREATED:20250828T002310Z
LAST-MODIFIED:20250828T002310Z
UID:3422-1771959600-1771964100@madeiratroop209.com
SUMMARY:Troop Meeting
DESCRIPTION:Regular Tuesday Meeting
URL:https://madeiratroop209.com/event/troop-meeting-59/
LOCATION:Madeira-Silverwood Presbyterian Church\, 8000 Miami Avenue\, Madeira\, OH\, 45243\, United States
CATEGORIES:Meeting
END:VEVENT
BEGIN:VEVENT
DTSTART;TZID=America/New_York:20260224T190000
DTEND;TZID=America/New_York:20260224T201500
DTSTAMP:20260424T130659
CREATED:20260219T213043Z
LAST-MODIFIED:20260219T213050Z
UID:3531-1771959600-1771964100@madeiratroop209.com
SUMMARY:New Parent Orientation
DESCRIPTION:AOL Parents:  Reminder-Please plan to stay for the regular Scout meeting this Tuesday\, we’ll start 7:15ish.  Similar to the Open House discussion last fall; however\, I’ll be going over a lot of action items and To-Do’s\, parent roles\, etc. and allow for any questions you (or your Scout) may be having. \nYour scout’s meeting will start at 7pm.
URL:https://madeiratroop209.com/event/new-parent-orientation/
LOCATION:Madeira-Silverwood Presbyterian Church\, 8000 Miami Avenue\, Madeira\, OH\, 45243\, United States
CATEGORIES:Meeting
END:VEVENT
END:VCALENDAR